Workbook

Sheet Menu
J2: Kg | K2: 0.25
A3: Datum | B3: 45554 | D3: Menu Angaben wie folgt machen: | J3: Lt | K3: 1.25
J4: EL | K4: Esslöffel
A5: Vorspeise 1 | B5: Sommerrollen mit Erdnuss Sauce | D5: alle weiteren Angaben ausschreiben | J5: TL | K5: Teelöffel
J6: Bund | K6: 1
A7: Hauptgang | B7: Lemon Chicken | J7: Stk | K7: Stück
A8: Beilage1 | B8: Reis | J8: Pä | K8: Päckli
A9: Beilage2 | B9: Scharfer Gurkensalat
A11: Dessert | B11: Pochierte Birne im Gebrannte-Mandeln Mantel
A13: Diverses
A15: Menu von Tisch | B15: D
A17: Personenzahl | B17: 4

Sheet Vorspeise 1
E1: Chochete vom | F1: =SUM(Menu!B3) -> 45554 | I1: Original Rezept
A2: =Menu!B5 -> Sommerrollen mit Erdnuss Sauce | D2: Teil 1 | E2: Rezept für | F2: =Menu!B17 -> 4 | I2: 4 | J2: Personen | L2: Menu Angaben wie folgt machen:
A3: Menge | B3: Einheit | C3: Artikel (Gewicht alles ca. Angaben) | D3: Bemerkungen | E3: Einkaufspreis | F3: Betrag | I3: Originalrezept | J3: pro Person
A4: =ROUND(SUM(J4*$F$2),2) -> 0 | C4: Gemüse | L4: Kg | M4: 0.25
A5: =ROUND(SUM(J5*$F$2),2) -> 0.2 | B5: Kg | C5: Rotkabis | F5: =SUM(E5*A5) -> 0 | I5: 0.2 | J5: =I5/$I$2 -> 0.05 | L5: Lt | M5: 1.25
A6: =ROUND(SUM(J6*$F$2),2) -> 1 | B6: TL | C6: Salz | F6: =SUM(E6*A6) -> 0 | I6: 1 | J6: =I6/$I$2 -> 0.25 | L6: EL | M6: Esslöffel
A7: =ROUND(SUM(J7*$F$2),2) -> 1 | B7: Stk | C7: Gurke | F7: =SUM(E7*A7) -> 0 | I7: 1 | J7: =I7/$I$2 -> 0.25 | L7: TL | M7: Kaffeelöffel
A8: =ROUND(SUM(J8*$F$2),2) -> 0.3 | B8: Kg | C8: Rüebli | F8: =SUM(E8*A8) -> 0 | I8: 0.3 | J8: =I8/$I$2 -> 0.075 | L8: Bund | M8: 1
A9: =ROUND(SUM(J9*$F$2),2) -> 1 | B9: Stk | C9: Lattich | F9: =SUM(E9*A9) -> 0 | I9: 1 | J9: =I9/$I$2 -> 0.25 | L9: Stk | M9: Stück
A10: =ROUND(SUM(J10*$F$2),2) -> 1 | B10: Stk | C10: Avocado | F10: =SUM(E10*A10) -> 0 | I10: 1 | J10: =I10/$I$2 -> 0.25 | L10: Pä | M10: Päckli
A11: =ROUND(SUM(J11*$F$2),2) -> 1 | B11: Stk | C11: Bundzwiebeln | F11: =SUM(E11*A11) -> 0 | I11: 1 | J11: =I11/$I$2 -> 0.25 | L11: alles weitere ausschreiben
A12: =ROUND(SUM(J12*$F$2),2) -> 0 | C12: Sauce | F12: =SUM(E12*A12) -> 0 | J12: =I12/$I$2 -> 0
A13: =ROUND(SUM(J13*$F$2),2) -> 0.1 | B13: Kg | C13: Erdnüsse | F13: =SUM(E13*A13) -> 0 | I13: 0.1 | J13: =I13/$I$2 -> 0.025
A14: =ROUND(SUM(J14*$F$2),2) -> 0.2 | B14: L | C14: Kokosmilch | F14: =SUM(E14*A14) -> 0 | I14: 0.2 | J14: =I14/$I$2 -> 0.05
A15: =ROUND(SUM(J15*$F$2),2) -> 0.5 | B15: Stk | C15: Mango | F15: =SUM(E15*A15) -> 0 | I15: 0.5 | J15: =I15/$I$2 -> 0.125
A16: =ROUND(SUM(J16*$F$2),2) -> 1 | B16: Stk | C16: Limette (Saft) | F16: =SUM(E16*A16) -> 0 | I16: 1 | J16: =I16/$I$2 -> 0.25
A17: =ROUND(SUM(J17*$F$2),2) -> 1.5 | B17: EL | C17: Tamari | F17: =SUM(E17*A17) -> 0 | I17: 1.5 | J17: =I17/$I$2 -> 0.375
A18: =ROUND(SUM(J18*$F$2),2) -> 1.5 | B18: EL | C18: Kokosblütenzucker | F18: =SUM(E18*A18) -> 0 | I18: 1.5 | J18: =I18/$I$2 -> 0.375
A19: =ROUND(SUM(J19*$F$2),2) -> 0.5 | B19: TL | C19: Chiliflocken | F19: =SUM(E19*A19) -> 0 | I19: 0.5 | J19: =I19/$I$2 -> 0.125
A20: =ROUND(SUM(J20*$F$2),2) -> 0.02 | B20: Kg | C20: Pfefferminzblätter | F20: =SUM(E20*A20) -> 0 | I20: 0.02 | J20: =I20/$I$2 -> 0.005
A21: Zubereitung
A22: Gemüse
A23: Rotkabis mit dem Salz in einer Schüssel gut mischen, ca. 10 Min. ziehen lassen.
A24: Gurke mit dem Sparschäler bis zu Inneren in feine Streifen hobeln (ohne das Innere)
A25: Rüebli in Streifen hobeln
A26: Rotkabis in ein Sieb geben, kalt abspülen, mit den Händen gut ausdrücken.
A27: Sauce
A28: Alle Zutaten in einen leistungsstarken Mixer geben, einige Minuten glatt und cremig mixen, bis die Minzblätter vollständig püriert sind.

Sheet Vorspeise 2
E1: Chochete vom | F1: =SUM(Menu!B3) -> 45554 | I1: Original Rezept
A2: ='Vorspeise 1'!A2 -> Sommerrollen mit Erdnuss Sauce | D2: Teil 2 | E2: Rezept für | F2: =SUM(Menu!B17) -> 4 | I2: 4 | J2: Personen | L2: Menu Angaben wie folgt machen:
A3: Menge | B3: Einheit | C3: Artikel (Gewicht alles ca. Angaben) | D3: Bemerkungen | E3: Einkaufspreis | F3: Betrag | I3: Originalrezept | J3: pro Person
A4: =ROUND(SUM(J4*$F$2),2) -> 0 | C4: Tofu | L4: Kg | M4: 0.25
A5: =ROUND(SUM(J5*$F$2),2) -> 0.4 | B5: Kg | C5: Tofu | F5: =SUM(E5*A5) -> 0 | I5: 0.4 | J5: =I5/$I$2 -> 0.1 | L5: Lt | M5: 1.25
A6: =ROUND(SUM(J6*$F$2),2) -> 2 | B6: EL | C6: Tamari | F6: =SUM(E6*A6) -> 0 | I6: 2 | J6: =I6/$I$2 -> 0.5 | L6: EL | M6: Esslöffel
A7: =ROUND(SUM(J7*$F$2),2) -> 2 | B7: TL | C7: Kokosblütenzucker | F7: =SUM(E7*A7) -> 0 | I7: 2 | J7: =I7/$I$2 -> 0.5 | L7: TL | M7: Kaffeelöffel
A8: =ROUND(SUM(J8*$F$2),2) -> 0.5 | B8: TL | C8: Chiliflocken | F8: =SUM(E8*A8) -> 0 | I8: 0.5 | J8: =I8/$I$2 -> 0.125 | L8: Bund | M8: 1
A9: =ROUND(SUM(J9*$F$2),2) -> 1 | B9: TL | C9: Sesamöl | F9: =SUM(E9*A9) -> 0 | I9: 1 | J9: =I9/$I$2 -> 0.25 | L9: Stk | M9: Stück
A10: =ROUND(SUM(J10*$F$2),2) -> 1 | B10: TL | C10: Sesamöl | F10: =SUM(E10*A10) -> 0 | I10: 1 | J10: =I10/$I$2 -> 0.25 | L10: Pä | M10: Päckli
A11: =ROUND(SUM(J11*$F$2),2) -> 0 | C11: Rollen formen | L11: alles weitere ausschreiben
A12: =ROUND(SUM(J12*$F$2),2) -> 12 | B12: Stk | C12: Reisblätter | F12: =SUM(E12*A12) -> 0 | I12: 12 | J12: =I12/$I$2 -> 3
A13: =ROUND(SUM(J13*$F$2),2) -> 0.04 | B13: Kg | C13: Erdnüsse (geröstet) | F13: =SUM(E13*A13) -> 0 | I13: 0.04 | J13: =I13/$I$2 -> 0.01
A14: =ROUND(SUM(J14*$F$2),2) -> 1 | B14: Bund | C14: Koriander | F14: =SUM(E14*A14) -> 0 | I14: 1 | J14: =I14/$I$2 -> 0.25
A15: =ROUND(SUM(J15*$F$2),2) -> 1 | B15: Bund | C15: Thai Basilikum | F15: =SUM(E15*A15) -> 0 | I15: 1 | J15: =I15/$I$2 -> 0.25
A16: =ROUND(SUM(J16*$F$2),2) -> 2 | B16: Stk | C16: Limetten (Saft) | F16: =SUM(E16*A16) -> 0 | I16: 2 | J16: =I16/$I$2 -> 0.5
A17: =ROUND(SUM(J17*$F$2),2) -> 12 | B17: Stk | C17: Lattichblätter | F17: =SUM(E17*A17) -> 0 | I17: 12 | J17: =I17/$I$2 -> 3
A18: =ROUND(SUM(J18*$F$2),2) -> 0 | F18: =SUM(E18*A18) -> 0 | J18: =I18/$I$2 -> 0
A19: =ROUND(SUM(J19*$F$2),2) -> 0 | F19: =SUM(E19*A19) -> 0 | J19: =I19/$I$2 -> 0
A20: =ROUND(SUM(J20*$F$2),2) -> 0 | F20: =SUM(E20*A20) -> 0 | J20: =I20/$I$2 -> 0
A21: Zubereitung
A22: Tofu
A23: Tofu mit den restliche Zutaten vermischen, in einer beschichteten Bratpfanne bei mittlerer Hitze rundum anbraten, herausnehmen.
A24: Rollen formen
A25: Reisblätter einzeln für ca. 10 Sekunden in lauwarmes Wasser tauchen, etwas trockentupfen, auf ein feuchtes Tuch legen
A26: Mit je etwas Lattich, Gurken- und Rüeblistreifen und etwas Rotkabis belegen. Je 3-4 Stk. Tofu, einige Koriander- und Thai-Basilikumblätter und einige Avocado-Scheiben darauf verteilen.
A27: Wenig Limettensaft darüberträufeln und je ca. 1 TL gehackte Erdnüsse und wenig Lattich darauf verteilen.
A28: Das Reisblatt von unten einklappen, die beiden Seiten nach innen falten, dann satt aufrollen.
A29: Die fertigen Rollen halbieren, auf Lattichblätter legen (damit die Rollen nicht aneinander kleben), auf einer Platte anrichten. Sauce dazu servieren.

Sheet Hauptgang
E1: Chochete vom | F1: =SUM(Menu!B3) -> 45554 | I1: Original Rezept
A2: =Menu!B7 -> Lemon Chicken | E2: Rezept für | F2: =Menu!B17 -> 4 | I2: 4 | J2: Personen | L2: Menu Angaben wie folgt machen:
A3: Menge | B3: Einheit | C3: Artikel (Gewicht alles ca. Angaben) | D3: Bemerkungen | E3: Einkaufspreis | F3: Betrag | I3: Originalrezept | J3: pro Person
A4: =ROUND(SUM(J4*$F$2),2) -> 0.4 | B4: Kg | C4: Pouletbrust | F4: =SUM(E4*A4) -> 0 | I4: 0.4 | J4: =I4/$I$2 -> 0.1 | L4: Kg | M4: 0.25
A5: =ROUND(SUM(J5*$F$2),2) -> 3 | B5: Stk | C5: Zitronen | F5: =SUM(E5*A5) -> 0 | I5: 3 | J5: =I5/$I$2 -> 0.75 | L5: Lt | M5: 1.25
A6: =ROUND(SUM(J6*$F$2),2) -> 1 | B6: Prise | C6: Sesamkern | F6: =SUM(E6*A6) -> 0 | I6: 1 | J6: =I6/$I$2 -> 0.25 | L6: EL | M6: Esslöffel
A7: =ROUND(SUM(J7*$F$2),2) -> 1 | B7: Stk | C7: Eier | F7: =SUM(E7*A7) -> 0 | I7: 1 | J7: =I7/$I$2 -> 0.25 | L7: TL | M7: Kaffeelöffel
A8: =ROUND(SUM(J8*$F$2),2) -> 0.35 | B8: Kg | C8: Maisöl | F8: =SUM(E8*A8) -> 0 | I8: 0.35 | J8: =I8/$I$2 -> 0.0875 | L8: Bund | M8: 1
A9: =ROUND(SUM(J9*$F$2),2) -> 0 | C9: Marinade | F9: =SUM(E9*A9) -> 0 | J9: =I9/$I$2 -> 0 | L9: Stk | M9: Stück
A10: =ROUND(SUM(J10*$F$2),2) -> 1 | B10: TL | C10: Salz | F10: =SUM(E10*A10) -> 0 | I10: 1 | J10: =I10/$I$2 -> 0.25 | L10: Pä | M10: Päckli
A11: =ROUND(SUM(J11*$F$2),2) -> 1 | B11: TL | C11: Zucker | F11: =SUM(E11*A11) -> 0 | I11: 1 | J11: =I11/$I$2 -> 0.25 | L11: alles weitere ausschreiben
A12: =ROUND(SUM(J12*$F$2),2) -> 0.25 | B12: TL | C12: Weisser Pfeffer | F12: =SUM(E12*A12) -> 0 | I12: 0.25 | J12: =I12/$I$2 -> 0.0625
A13: =ROUND(SUM(J13*$F$2),2) -> 1 | B13: EL | C13: Maisstärke | F13: =SUM(E13*A13) -> 0 | I13: 1 | J13: =I13/$I$2 -> 0.25
A14: =ROUND(SUM(J14*$F$2),2) -> 1 | B14: EL | C14: Austernsauce | F14: =SUM(E14*A14) -> 0 | I14: 1 | J14: =I14/$I$2 -> 0.25
A15: =ROUND(SUM(J15*$F$2),2) -> 1 | B15: EL | C15: Wasser | F15: =SUM(E15*A15) -> 0 | I15: 1 | J15: =I15/$I$2 -> 0.25
A16: =ROUND(SUM(J16*$F$2),2) -> 0 | C16: Teig | F16: =SUM(E16*A16) -> 0 | J16: =I16/$I$2 -> 0
A17: =ROUND(SUM(J17*$F$2),2) -> 11 | B17: TL | C17: Allzweckmehl | F17: =SUM(E17*A17) -> 0 | I17: 11 | J17: =I17/$I$2 -> 2.75
A18: =ROUND(SUM(J18*$F$2),2) -> 3 | B18: EL | C18: Maisstärke | F18: =SUM(E18*A18) -> 0 | I18: 3 | J18: =I18/$I$2 -> 0.75
A19: =ROUND(SUM(J19*$F$2),2) -> 0.5 | B19: TL | C19: Salz | F19: =SUM(E19*A19) -> 0 | I19: 0.5 | J19: =I19/$I$2 -> 0.125
A20: =ROUND(SUM(J20*$F$2),2) -> 1 | B20: TL | C20: Backpulver | F20: =SUM(E20*A20) -> 0 | I20: 1 | J20: =I20/$I$2 -> 0.25
A21: =ROUND(SUM(J21*$F$2),2) -> 6 | B21: EL | C21: Wasser | F21: =SUM(E21*A21) -> 0 | I21: 6 | J21: =I21/$I$2 -> 1.5
A22: =ROUND(SUM(J22*$F$2),2) -> 1 | B22: TL | C22: Maisöl | F22: =SUM(E22*A22) -> 0 | I22: 1 | J22: =I22/$I$2 -> 0.25
A23: =ROUND(SUM(J23*$F$2),2) -> 0 | C23: Zitronensauce
A24: =ROUND(SUM(J24*$F$2),2) -> 0.06 | B24: Kg | C24: Zitronensaft | I24: 0.06 | J24: =I24/$I$2 -> 0.015
A25: =ROUND(SUM(J25*$F$2),2) -> 4 | B25: EL | C25: Zucker | I25: 4 | J25: =I25/$I$2 -> 1
A26: =ROUND(SUM(J26*$F$2),2) -> 5 | B26: EL | C26: Wasser | I26: 5 | J26: =I26/$I$2 -> 1.25
A27: =ROUND(SUM(J27*$F$2),2) -> 0.25 | B27: TL | C27: Salz | I27: 0.25 | J27: =I27/$I$2 -> 0.0625
A28: =ROUND(SUM(J28*$F$2),2) -> 1.5 | B28: TL | C28: Maisstärke | I28: 1.5 | J28: =I28/$I$2 -> 0.375
A29: =ROUND(SUM(J29*$F$2),2) -> 1.5 | B29: EL | C29: Wasser | F29: =SUM(E29*A29) -> 0 | I29: 1.5 | J29: =I29/$I$2 -> 0.375
A30: =ROUND(SUM(J30*$F$2),2) -> 1 | B30: TL | C30: Maisöl | F30: =SUM(E30*A30) -> 0 | I30: 1 | J30: =I30/$I$2 -> 0.25
A31: Zubereitung
A32: Pouletbrust in Streifen schneiden (Mundgerechte Stücke)
A33: Alle Zutaten der Marinade gut vermischen und über die Pouletstücke geben damit alle Stücke mit der Marinade bedeckt sind
A34: Ein Ei in einer Schüssle verrühren und die Hälfe dem marinierten Poulet beigeben (die andere Hälfte kommt in den Teig)
A35: Marinierte Pouletstücke zur Seite stellen
A36: Sobald Konsistenz erreicht, zusammen mit dem restlichen Ei und einem TL Maisöl ergänzen und vermischen
A37: Maisöl in einem Wok heiss werden lassen.
A38: Während das Öl heiss wird, die marinierten Pouletstücke in die Teigmasse geben und gut vermischen, damit alle Stücke von dem Teig bedeckt sind.
A39: Sobald das Öl heiss ist, Temperatur herunterfahren und das Poulet Stück für Stück im Öl fritieren
A40: Falls genügend Zeit ist, kann das Poulet ein zweites Mal fritiert werden damit die Stücke noch knuspriger werden.
...

Sheet Beilage1
E1: Chochete vom | F1: =SUM(Menu!B3) -> 45554 | I1: Original Rezept
A2: =Menu!B8 -> Reis | E2: Rezept für | F2: =SUM(Menu!B17) -> 4 | I2: 4 | J2: Personen | L2: Menu Angaben wie folgt machen:
A3: Menge | B3: Einheit | C3: Artikel (Gewicht alles ca. Angaben) | D3: Bemerkungen | E3: Einkaufspreis | F3: Betrag | I3: Originalrezept | J3: pro Person
A4: =ROUND(SUM(J4*$F$2),2) -> 0.32 | B4: Kg | C4: Reis | F4: =SUM(E4*A4) -> 0 | I4: 0.32 | J4: =I4/$I$2 -> 0.08 | L4: Kg | M4: 0.25
A5: =ROUND(SUM(J5*$F$2),2) -> 0 | F5: =SUM(E5*A5) -> 0 | J5: =I5/$I$2 -> 0 | L5: Lt | M5: 1.25
A6: =ROUND(SUM(J6*$F$2),2) -> 0 | F6: =SUM(E6*A6) -> 0 | J6: =I6/$I$2 -> 0 | L6: EL | M6: Esslöffel
A7: =ROUND(SUM(J7*$F$2),2) -> 0 | F7: =SUM(E7*A7) -> 0 | J7: =I7/$I$2 -> 0 | L7: TL | M7: Kaffeelöffel
A8: =ROUND(SUM(J8*$F$2),2) -> 0 | F8: =SUM(E8*A8) -> 0 | J8: =I8/$I$2 -> 0 | L8: Bund | M8: 1
A9: =ROUND(SUM(J9*$F$2),2) -> 0 | F9: =SUM(E9*A9) -> 0 | J9: =I9/$I$2 -> 0 | L9: Stk | M9: Stück
A10: =ROUND(SUM(J10*$F$2),2) -> 0 | F10: =SUM(E10*A10) -> 0 | J10: =I10/$I$2 -> 0 | L10: Pä | M10: Päckli
A11: =ROUND(SUM(J11*$F$2),2) -> 0 | F11: =SUM(E11*A11) -> 0 | J11: =I11/$I$2 -> 0 | L11: alles weitere ausschreiben
A12: =ROUND(SUM(J12*$F$2),2) -> 0 | F12: =SUM(E12*A12) -> 0 | J12: =I12/$I$2 -> 0
A13: =ROUND(SUM(J13*$F$2),2) -> 0 | F13: =SUM(E13*A13) -> 0 | J13: =I13/$I$2 -> 0
A14: =ROUND(SUM(J14*$F$2),2) -> 0 | F14: =SUM(E14*A14) -> 0 | J14: =I14/$I$2 -> 0
A15: =ROUND(SUM(J15*$F$2),2) -> 0 | F15: =SUM(E15*A15) -> 0 | J15: =I15/$I$2 -> 0
A16: =ROUND(SUM(J16*$F$2),2) -> 0 | F16: =SUM(E16*A16) -> 0 | J16: =I16/$I$2 -> 0
A17: =ROUND(SUM(J17*$F$2),2) -> 0 | F17: =SUM(E17*A17) -> 0 | J17: =I17/$I$2 -> 0
A18: =ROUND(SUM(J18*$F$2),2) -> 0 | F18: =SUM(E18*A18) -> 0 | J18: =I18/$I$2 -> 0
A19: =ROUND(SUM(J19*$F$2),2) -> 0 | F19: =SUM(E19*A19) -> 0 | J19: =I19/$I$2 -> 0
A20: =ROUND(SUM(J20*$F$2),2) -> 0 | F20: =SUM(E20*A20) -> 0 | J20: =I20/$I$2 -> 0
A21: Zubereitung

Sheet Beilage2
E1: Chochete vom | F1: =SUM(Menu!B3) -> 45554 | I1: Original Rezept
A2: =Menu!B9 -> Scharfer Gurkensalat | E2: Rezept für | F2: =SUM(Menu!B17) -> 4 | I2: 4 | J2: Personen | L2: Menu Angaben wie folgt machen:
A3: Menge | B3: Einheit | C3: Artikel (Gewicht alles ca. Angaben) | D3: Bemerkungen | E3: Einkaufspreis | F3: Betrag | I3: Originalrezept | J3: pro Person
A4: =ROUND(SUM(J4*$F$2),2) -> 1 | B4: Stk | C4: Salatgurke | F4: =SUM(E4*A4) -> 0 | I4: 1 | J4: =I4/I2 -> 0.25 | L4: Kg | M4: 0.25
A5: =ROUND(SUM(J5*$F$2),2) -> 1 | B5: Stk | C5: Knoblauchzehe | F5: =SUM(E5*A5) -> 0 | I5: 1 | J5: =I5/$I$2 -> 0.25 | L5: Lt | M5: 1.25
A6: =ROUND(SUM(J6*$F$2),2) -> 1 | B6: Stk | C6: Frühlingszwiebel | F6: =SUM(E6*A6) -> 0 | I6: 1 | J6: =I6/$I$2 -> 0.25 | L6: EL | M6: Esslöffel
A7: =ROUND(SUM(J7*$F$2),2) -> 1 | B7: Stk | C7: Zwiebel | F7: =SUM(E7*A7) -> 0 | I7: 1 | J7: =I7/$I$2 -> 0.25 | L7: TL | M7: Kaffeelöffel
A8: =ROUND(SUM(J8*$F$2),2) -> 2 | B8: EL | C8: Helle Sojasauce | F8: =SUM(E8*A8) -> 0 | I8: 2 | J8: =I8/$I$2 -> 0.5 | L8: Bund | M8: 1
A9: =ROUND(SUM(J9*$F$2),2) -> 2 | B9: TL | C9: Rote Chiliflocken | F9: =SUM(E9*A9) -> 0 | I9: 2 | J9: =I9/$I$2 -> 0.5 | L9: Stk | M9: Stück
A10: =ROUND(SUM(J10*$F$2),2) -> 1 | B10: TL | C10: Kokosblütenzucker | F10: =SUM(E10*A10) -> 0 | I10: 1 | J10: =I10/$I$2 -> 0.25 | L10: Pä | M10: Päckli
A11: =ROUND(SUM(J11*$F$2),2) -> 2 | B11: TL | C11: geröstetes Sesamöl | F11: =SUM(E11*A11) -> 0 | I11: 2 | J11: =I11/$I$2 -> 0.5 | L11: alles weitere ausschreiben
A12: =ROUND(SUM(J12*$F$2),2) -> 1 | B12: TL | C12: gerösteter Sesam | F12: =SUM(E12*A12) -> 0 | I12: 1 | J12: =I12/$I$2 -> 0.25
A13: =ROUND(SUM(J13*$F$2),2) -> 0 | F13: =SUM(E13*A13) -> 0 | J13: =I13/$I$2 -> 0
A14: =ROUND(SUM(J14*$F$2),2) -> 0 | F14: =SUM(E14*A14) -> 0 | J14: =I14/$I$2 -> 0
A15: =ROUND(SUM(J15*$F$2),2) -> 0 | F15: =SUM(E15*A15) -> 0 | J15: =I15/$I$2 -> 0
A16: =ROUND(SUM(J16*$F$2),2) -> 0 | F16: =SUM(E16*A16) -> 0 | J16: =I16/$I$2 -> 0
A17: =ROUND(SUM(J17*$F$2),2) -> 0 | F17: =SUM(E17*A17) -> 0 | J17: =I17/$I$2 -> 0
A18: =ROUND(SUM(J18*$F$2),2) -> 0 | F18: =SUM(E18*A18) -> 0 | J18: =I18/$I$2 -> 0
A19: =ROUND(SUM(J19*$F$2),2) -> 0 | F19: =SUM(E19*A19) -> 0 | J19: =I19/$I$2 -> 0
A20: =ROUND(SUM(J20*$F$2),2) -> 0 | F20: =SUM(E20*A20) -> 0 | J20: =I20/$I$2 -> 0
A21: Zubereitung
A22: Gurken waschen und längs halbieren. Dann in ca. 5mm dünne Scheiben schneiden.
A23: Knoblauch schälen und hacken
A24: Fürhlingszwiebeln waschen und in Ringe schneiden
A25: Zwiebeln schälen und in Ringe schneiden
A26: Alles in eine Schüssel geben, Sojasauce, Chiliflocken, Kokosblütenzucker und Sesamöl hinzufügen, vermischen und mit Sesam bestreuen

Sheet Dessert
E1: Chochete vom | F1: =SUM(Menu!B3) -> 45554 | I1: Original Rezept
A2: =Menu!B11 -> Pochierte Birne im Gebrannte-Mandeln Mantel | E2: Rezept für | F2: =SUM(Menu!B17) -> 4 | I2: 4 | J2: Personen | L2: Menu Angaben wie folgt machen:
A3: Menge | B3: Einheit | C3: Artikel (Gewicht alles ca. Angaben) | D3: Bemerkungen | E3: Einkaufspreis | F3: Betrag | I3: Originalrezept | J3: pro Person
A4: =ROUND(SUM(J4*$F$2),2) -> 4 | B4: Stk | C4: kleine Birnen | F4: =SUM(E4*A4) -> 0 | I4: 4 | J4: =I4/$I$2 -> 1 | L4: Kg | M4: 0.25
A5: =ROUND(SUM(J5*$F$2),2) -> 0.5 | B5: Stk | C5: Orangen | F5: =SUM(E5*A5) -> 0 | I5: 0.5 | J5: =I5/$I$2 -> 0.125 | L5: Lt | M5: 1.25
A6: =ROUND(SUM(J6*$F$2),2) -> 1.5 | B6: EL | C6: Zucker | F6: =SUM(E6*A6) -> 0 | I6: 1.5 | J6: =I6/$I$2 -> 0.375 | L6: EL | M6: Esslöffel
A7: =ROUND(SUM(J7*$F$2),2) -> 0.15 | B7: L | C7: Weisswein | F7: =SUM(E7*A7) -> 0 | I7: 0.15 | J7: =I7/$I$2 -> 0.0375 | L7: KL | M7: Kaffeelöffel
A8: =ROUND(SUM(J8*$F$2),2) -> 0.5 | B8: Stk | C8: Sternanis | F8: =SUM(E8*A8) -> 0 | I8: 0.5 | J8: =I8/$I$2 -> 0.125 | L8: Bund | M8: 1
A9: =ROUND(SUM(J9*$F$2),2) -> 1 | B9: Stk | C9: Nelken | F9: =SUM(E9*A9) -> 0 | I9: 1 | J9: =I9/$I$2 -> 0.25 | L9: Stk | M9: Stück
A10: =ROUND(SUM(J10*$F$2),2) -> 0.5 | B10: Stk | C10: Zimtstangen | F10: =SUM(E10*A10) -> 0 | I10: 0.5 | J10: =I10/$I$2 -> 0.125 | L10: Pä | M10: Päckli
A11: =ROUND(SUM(J11*$F$2),2) -> 1 | B11: Stk | C11: Eier | F11: =SUM(E11*A11) -> 0 | I11: 1 | J11: =I11/$I$2 -> 0.25 | L11: alles weitere ausschreiben
A12: =ROUND(SUM(J12*$F$2),2) -> 1 | B12: Handvoll | C12: Mandeln gebrannt | F12: =SUM(E12*A12) -> 0 | I12: 1 | J12: =I12/$I$2 -> 0.25
A13: =ROUND(SUM(J13*$F$2),2) -> 1 | B13: Handvoll | C13: Mehl | F13: =SUM(E13*A13) -> 0 | I13: 1 | J13: =I13/$I$2 -> 0.25
A14: =ROUND(SUM(J14*$F$2),2) -> 0
A15: =ROUND(SUM(J15*$F$2),2) -> 0.08 | B15: Kg | C15: Ahornsirup | I15: 0.08 | J15: =I15/$I$2 -> 0.02
A16: =ROUND(SUM(J16*$F$2),2) -> 0.2 | B16: L | C16: Sahne | I16: 0.2 | J16: =I16/$I$2 -> 0.05
A17: =ROUND(SUM(J17*$F$2),2) -> 0.1 | B17: L | C17: Milch | I17: 0.1 | J17: =I17/$I$2 -> 0.025
A18: =ROUND(SUM(J18*$F$2),2) -> 0.5 | B18: Stk | C18: Vanilleschotten | I18: 0.5 | J18: =I18/$I$2 -> 0.125
A19: =ROUND(SUM(J19*$F$2),2) -> 1 | B19: Prise | C19: Zimt | I19: 1 | J19: =I19/$I$2 -> 0.25
A20: =ROUND(SUM(J20*$F$2),2) -> 1 | B20: Prise | C20: Salz | F20: =SUM(E20*A20) -> 0 | I20: 1 | J20: =I20/$I$2 -> 0.25
A21: =ROUND(SUM(J21*$F$2),2) -> 3 | B21: Stk | C21: Eier | F21: =SUM(E21*A21) -> 0 | I21: 3 | J21: =I21/$I$2 -> 0.75
A22: =ROUND(SUM(J22*$F$2),2) -> 0 | F22: =SUM(E22*A22) -> 0 | J22: =I22/$I$2 -> 0
A23: =ROUND(SUM(J23*$F$2),2) -> 0.03 | B23: Kg | C23: Ahornsirup | F23: =SUM(E23*A23) -> 0 | I23: 0.03 | J23: =I23/$I$2 -> 0.0075
A24: =ROUND(SUM(J24*$F$2),2) -> 0.03 | B24: Kg | C24: Butter | F24: =SUM(E24*A24) -> 0 | I24: 0.03 | J24: =I24/$I$2 -> 0.0075
A25: =ROUND(SUM(J25*$F$2),2) -> 0.1 | B25: L | C25: Passionsfruchtsaft | F25: =SUM(E25*A25) -> 0 | I25: 0.1 | J25: =I25/$I$2 -> 0.025
A26: =ROUND(SUM(J26*$F$2),2) -> 2 | B26: Stk | C26: Passionsfrüchte | F26: =SUM(E26*A26) -> 0 | I26: 2 | J26: =I26/$I$2 -> 0.5
A27: =ROUND(SUM(J27*$F$2),2) -> 1 | B27: Stk | C27: Limetten (Saft) | F27: =SUM(E27*A27) -> 0 | I27: 1 | J27: =I27/$I$2 -> 0.25
A28: Zubereitung
A29: Für die Birnen die halbe Orange mit einem Sparschäler schälen und den Saft auspressen. Beides mit Zucker, Weißwein, Sternanis, Nelke und der halben Zimtstange vermischen und gemeinsam im Topf aufkochen lassen. Die 4 kleinen Birnen schälen (Stiel bleibt dran) und 5 min im Gewürzsud garen. Die Birnen rausnehmen und abtropfen lassen.
A30: Ein Ei verquirlen und die gebrannten Mandeln kleinhacken. Das Mehl auf einen Teller geben. Nun die Birnen erst in Mehl, dann im Ei und dann in den Mandeln wälzen. Die Birnen für 2 min in 170 °C heißem Öl frittieren und auf einem Küchenkrepp abtropfen lassen.
A31: Für den Schaum den Ahornsirup im Topf karamellisieren lassen. Das Karamell mit Sahne und Milch ablöschen. Die halbe Vanilleschote auskratzen und das Mark, die Schote, Zimt und Salz hinzugeben. Alles aufkochen lassen.
A32: Nebenbei 3 Eier trennen und die Eigelbe in eine Schüssel geben (Eiweiß anders verwenden). Die kochende Flüssigkeit unter ständigem Rühren zu den Eigelben hinzugeben und auf einem Wasserbad solange rühren, bis Masse leicht andickt. Die Schüssel in kaltes Wasser stellen und abkühlen lassen. Nun die Masse durch einen Trichter und Sieb in eine Sahneflasche (Espumaflasche) geben, 1 Sahnekapsel aufschrauben, kräftig schütteln und 2 Std. kühlen. Alternative: Wenn keine Espumaflasche vorhanden ist, die Masse vor dem Servieren mit einem Pürierstab aufschäumen.
A33: Für den Karamell den Ahornsirup im Topf karamellisieren lassen. Butter hinzugeben und verrühren. Danach Passionsfruchtsaft, Inhalt von 2 Passionsfrüchten und den Limettensaft hinzugeben. Bei mittlerer Hitze einkochen lassen.

Sheet Diverses
E1: Chochete vom | F1: =SUM(Menu!B3) -> 45554 | I1: Original Rezept
A2: =Menu!B13 -> 0 | E2: Rezept für | F2: =SUM(Menu!B17) -> 4 | J2: Personen | L2: Menu Angaben wie folgt machen:
A3: Menge | B3: Einheit | C3: Artikel (Gewicht alles ca. Angaben) | D3: Bemerkungen | E3: Einkaufspreis | F3: Betrag | I3: Originalrezept | J3: pro Person
A4: =ROUND(SUM(J4*$F$2),2) -> #DIV/0! | F4: =SUM(E4*A4) -> #DIV/0! | J4: =I4/$I$2 -> #DIV/0! | L4: Kg | M4: 0.25
A5: =ROUND(SUM(J5*$F$2),2) -> #DIV/0! | F5: =SUM(E5*A5) -> #DIV/0! | J5: =I5/$I$2 -> #DIV/0! | L5: Lt | M5: 1.25
A6: =ROUND(SUM(J6*$F$2),2) -> #DIV/0! | F6: =SUM(E6*A6) -> #DIV/0! | J6: =I6/$I$2 -> #DIV/0! | L6: EL | M6: Esslöffel
A7: =ROUND(SUM(J7*$F$2),2) -> #DIV/0! | F7: =SUM(E7*A7) -> #DIV/0! | J7: =I7/$I$2 -> #DIV/0! | L7: KL | M7: Kaffeelöffel
A8: =ROUND(SUM(J8*$F$2),2) -> #DIV/0! | F8: =SUM(E8*A8) -> #DIV/0! | J8: =I8/$I$2 -> #DIV/0! | L8: Bund | M8: 1
A9: =ROUND(SUM(J9*$F$2),2) -> #DIV/0! | F9: =SUM(E9*A9) -> #DIV/0! | J9: =I9/$I$2 -> #DIV/0! | L9: Stk | M9: Stück
A10: =ROUND(SUM(J10*$F$2),2) -> #DIV/0! | F10: =SUM(E10*A10) -> #DIV/0! | J10: =I10/$I$2 -> #DIV/0! | L10: Pä | M10: Päckli
A11: =ROUND(SUM(J11*$F$2),2) -> #DIV/0! | F11: =SUM(E11*A11) -> #DIV/0! | J11: =I11/$I$2 -> #DIV/0! | L11: alles weitere ausschreiben
A12: =ROUND(SUM(J12*$F$2),2) -> #DIV/0! | F12: =SUM(E12*A12) -> #DIV/0! | J12: =I12/$I$2 -> #DIV/0!
A13: =ROUND(SUM(J13*$F$2),2) -> #DIV/0! | F13: =SUM(E13*A13) -> #DIV/0! | J13: =I13/$I$2 -> #DIV/0!
A14: =ROUND(SUM(J14*$F$2),2) -> #DIV/0! | F14: =SUM(E14*A14) -> #DIV/0! | J14: =I14/$I$2 -> #DIV/0!
A15: =ROUND(SUM(J15*$F$2),2) -> #DIV/0! | F15: =SUM(E15*A15) -> #DIV/0! | J15: =I15/$I$2 -> #DIV/0!
A16: =ROUND(SUM(J16*$F$2),2) -> #DIV/0! | F16: =SUM(E16*A16) -> #DIV/0! | J16: =I16/$I$2 -> #DIV/0!
A17: =ROUND(SUM(J17*$F$2),2) -> #DIV/0! | F17: =SUM(E17*A17) -> #DIV/0! | J17: =I17/$I$2 -> #DIV/0!
A18: =ROUND(SUM(J18*$F$2),2) -> #DIV/0! | F18: =SUM(E18*A18) -> #DIV/0! | J18: =I18/$I$2 -> #DIV/0!
A19: =ROUND(SUM(J19*$F$2),2) -> #DIV/0! | F19: =SUM(E19*A19) -> #DIV/0! | J19: =I19/$I$2 -> #DIV/0!
A20: =ROUND(SUM(J20*$F$2),2) -> #DIV/0! | F20: =SUM(E20*A20) -> #DIV/0! | J20: =I20/$I$2 -> #DIV/0!
A21: Zubereitung

Sheet Einkaufsliste
A1: Hobby-Küche Zug | C1: Einkaufsliste | D1: =Dessert!F1 -> 45554 | E1: ok
A2: Menge | B2: Einheit | C2: Artikel
A3: ='Vorspeise 1'!A2 -> Sommerrollen mit Erdnuss Sauce | D3: Bemerkungen
A4: =SUM('Vorspeise 1'!A4) -> 0 | B4: ='Vorspeise 1'!B4 -> 0 | C4: ='Vorspeise 1'!C4 -> Gemüse | D4: ='Vorspeise 1'!D4 -> 0
A5: =SUM('Vorspeise 1'!A5) -> 0.2 | B5: ='Vorspeise 1'!B5 -> Kg | C5: ='Vorspeise 1'!C5 -> Rotkabis | D5: ='Vorspeise 1'!D5 -> 0
A6: =SUM('Vorspeise 1'!A6) -> 1 | B6: ='Vorspeise 1'!B6 -> TL | C6: ='Vorspeise 1'!C6 -> Salz | D6: ='Vorspeise 1'!D6 -> 0
A7: =SUM('Vorspeise 1'!A7) -> 1 | B7: ='Vorspeise 1'!B7 -> Stk | C7: ='Vorspeise 1'!C7 -> Gurke | D7: ='Vorspeise 1'!D7 -> 0
A8: =SUM('Vorspeise 1'!A8) -> 0.3 | B8: ='Vorspeise 1'!B8 -> Kg | C8: ='Vorspeise 1'!C8 -> Rüebli | D8: ='Vorspeise 1'!D8 -> 0
A9: =SUM('Vorspeise 1'!A9) -> 1 | B9: ='Vorspeise 1'!B9 -> Stk | C9: ='Vorspeise 1'!C9 -> Lattich | D9: ='Vorspeise 1'!D9 -> 0
A10: =SUM('Vorspeise 1'!A10) -> 1 | B10: ='Vorspeise 1'!B10 -> Stk | C10: ='Vorspeise 1'!C10 -> Avocado | D10: ='Vorspeise 1'!D10 -> 0
A11: =SUM('Vorspeise 1'!A11) -> 1 | B11: ='Vorspeise 1'!B11 -> Stk | C11: ='Vorspeise 1'!C11 -> Bundzwiebeln | D11: ='Vorspeise 1'!D11 -> 0
A12: =SUM('Vorspeise 1'!A12) -> 0 | B12: ='Vorspeise 1'!B12 -> 0 | C12: ='Vorspeise 1'!C12 -> Sauce | D12: ='Vorspeise 1'!D12 -> 0
A13: =SUM('Vorspeise 1'!A13) -> 0.1 | B13: ='Vorspeise 1'!B13 -> Kg | C13: ='Vorspeise 1'!C13 -> Erdnüsse | D13: ='Vorspeise 1'!D13 -> 0
A14: =SUM('Vorspeise 1'!A14) -> 0.2 | B14: ='Vorspeise 1'!B14 -> L | C14: ='Vorspeise 1'!C14 -> Kokosmilch | D14: ='Vorspeise 1'!D14 -> 0
A15: =SUM('Vorspeise 1'!A15) -> 0.5 | B15: ='Vorspeise 1'!B15 -> Stk | C15: ='Vorspeise 1'!C15 -> Mango | D15: ='Vorspeise 1'!D15 -> 0
... A21: =SUM('Vorspeise 1'!A21) -> 0 | B21: ='Vorspeise 1'!B21 -> 0 | C21: ='Vorspeise 1'!C21 -> 0 | D21: ='Vorspeise 1'!D21
A22: ='Vorspeise 2'!A2 -> Sommerrollen mit Erdnuss Sauce | D22: Bemerkungen
A23: =SUM('Vorspeise 2'!A4) -> 0 | B23: ='Vorspeise 2'!B4 -> 0 | C23: ='Vorspeise 2'!C4 -> Tofu | D23: ='Vorspeise 2'!D4 -> 0
A24: =SUM('Vorspeise 2'!A5) -> 0.4 | B24: ='Vorspeise 2'!B5 -> Kg | C24: ='Vorspeise 2'!C5 -> Tofu | D24: ='Vorspeise 2'!D5 -> 0
A25: =SUM('Vorspeise 2'!A6) -> 2 | B25: ='Vorspeise 2'!B6 -> EL | C25: ='Vorspeise 2'!C6 -> Tamari | D25: ='Vorspeise 2'!D6 -> 0
A26: =SUM('Vorspeise 2'!A7) -> 2 | B26: ='Vorspeise 2'!B7 -> TL | C26: ='Vorspeise 2'!C7 -> Kokosblütenzucker | D26: ='Vorspeise 2'!D7 -> 0
A27: =SUM('Vorspeise 2'!A8) -> 0.5 | B27: ='Vorspeise 2'!B8 -> TL | C27: ='Vorspeise 2'!C8 -> Chiliflocken | D27: ='Vorspeise 2'!D8 -> 0
A28: =SUM('Vorspeise 2'!A9) -> 1 | B28: ='Vorspeise 2'!B9 -> TL | C28: ='Vorspeise 2'!C9 -> Sesamöl | D28: ='Vorspeise 2'!D9 -> 0
A29: =SUM('Vorspeise 2'!A10) -> 1 | B29: ='Vorspeise 2'!B10 -> TL | C29: ='Vorspeise 2'!C10 -> Sesamöl | D29: ='Vorspeise 2'!D10 -> 0
A30: =SUM('Vorspeise 2'!A11) -> 0 | B30: ='Vorspeise 2'!B11 -> 0 | C30: ='Vorspeise 2'!C11 -> Rollen formen | D30: ='Vorspeise 2'!D11 -> 0
A31: =SUM('Vorspeise 2'!A12) -> 12 | B31: ='Vorspeise 2'!B12 -> Stk | C31: ='Vorspeise 2'!C12 -> Reisblätter | D31: ='Vorspeise 2'!D12 -> 0
A32: =SUM('Vorspeise 2'!A13) -> 0.04 | B32: ='Vorspeise 2'!B13 -> Kg | C32: ='Vorspeise 2'!C13 -> Erdnüsse (geröstet) | D32: ='Vorspeise 2'!D13 -> 0
A33: =SUM('Vorspeise 2'!A14) -> 1 | B33: ='Vorspeise 2'!B14 -> Bund | C33: ='Vorspeise 2'!C14 -> Koriander | D33: ='Vorspeise 2'!D14 -> 0
A34: =SUM('Vorspeise 2'!A15) -> 1 | B34: ='Vorspeise 2'!B15 -> Bund | C34: ='Vorspeise 2'!C15 -> Thai Basilikum | D34: ='Vorspeise 2'!D15 -> 0
... A37: =SUM('Vorspeise 2'!A18) -> 0 | B37: ='Vorspeise 2'!B18 -> 0 | C37: ='Vorspeise 2'!C18 -> 0 | D37: ='Vorspeise 2'!D18 -> 0
A38: =SUM('Vorspeise 2'!A21) -> 0 | B38: ='Vorspeise 2'!B21 -> 0 | C38: ='Vorspeise 2'!C21 -> 0 | D38: ='Vorspeise 2'!D21
A39: =Hauptgang!A2 -> Lemon Chicken | D39: Bemerkungen
A40: =SUM(Hauptgang!A4) -> 0.4 | B40: =Hauptgang!B4 -> Kg | C40: =Hauptgang!C4 -> Pouletbrust | D40: =Hauptgang!D4 -> 0
A41: =SUM(Hauptgang!A5) -> 3 | B41: =Hauptgang!B5 -> Stk | C41: =Hauptgang!C5 -> Zitronen | D41: =Hauptgang!D5 -> 0
A42: =SUM(Hauptgang!A6) -> 1 | B42: =Hauptgang!B6 -> Prise | C42: =Hauptgang!C6 -> Sesamkern | D42: =Hauptgang!D6 -> 0
A43: =SUM(Hauptgang!A7) -> 1 | B43: =Hauptgang!B7 -> Stk | C43: =Hauptgang!C7 -> Eier | D43: =Hauptgang!D7 -> 0
A44: =SUM(Hauptgang!A8) -> 0.35 | B44: =Hauptgang!B8 -> Kg | C44: =Hauptgang!C8 -> Maisöl | D44: =Hauptgang!D8 -> 0
A45: =SUM(Hauptgang!A9) -> 0 | B45: =Hauptgang!B9 -> 0 | C45: =Hauptgang!C9 -> Marinade | D45: =Hauptgang!D9 -> 0
A46: =SUM(Hauptgang!A10) -> 1 | B46: =Hauptgang!B10 -> TL | C46: =Hauptgang!C10 -> Salz | D46: =Hauptgang!D10 -> 0
A47: =SUM(Hauptgang!A11) -> 1 | B47: =Hauptgang!B11 -> TL | C47: =Hauptgang!C11 -> Zucker | D47: =Hauptgang!D11 -> 0
...

Sheet Tabelle1
