Workbook

Sheet Menu
B1: "Im Mantel"
A3: Datum | B3: 45372
A5: Vorspeise | B5: Gefüllte Avocados mit Lachsröllchen
A7: Hauptgang | B7: Empanadas mit Salsa Verde
A8: Beilage1 | B8: Hackfleisch Füllung
A9: Beilage 2 | B9: Thon Füllung
A10: Beilage 3 | B10: Poulet Füllung
A12: Dessert | B12: Leche asada mit Mango
A14: Diverses | B14: Bagette
A16: Menu von Tisch | B16: D
A18: Personenzahl | B18: 4

Sheet Vorspeise
E1: Chochete vom | F1: =SUM(Menu!B3) -> 45372 | I1: Original Rezept
A2: =Menu!B5 -> Gefüllte Avocados mit Lachsröllchen | E2: Rezept für | F2: =Menu!B18 -> 4 | I2: 4 | J2: Personen
A3: Menge | B3: Einheit | C3: Artikel (Gewicht alles ca. Angaben) | D3: Bemerkungen | E3: Einkaufspreis | F3: Betrag | I3: Originalrezept | J3: pro Person | L3: https://1000leckerbissen.de/gefuellte-avocados-vorspeise/
A4: =ROUND(SUM(J4*$F$2),2) -> 2 | B4: Stk | C4: Avocados | F4: =SUM(E4*A4) -> 0 | I4: 2 | J4: =I4/$I$2 -> 0.5
A5: =ROUND(SUM(J5*$F$2),2) -> 0.05 | B5: Kg | C5: Couscous | F5: =SUM(E5*A5) -> 0 | I5: 0.05 | J5: =I5/$I$2 -> 0.0125
A6: =ROUND(SUM(J6*$F$2),2) -> 8 | B6: Stk | C6: Kirsch- Tomaten | I6: 8 | J6: =I6/$I$2 -> 2
A7: =ROUND(SUM(J7*$F$2),2) -> 0.25 | B7: Stk | C7: gelbe Paprika | D7: einviertel | I7: 0.25 | J7: =I7/$I$2 -> 0.0625
A8: =ROUND(SUM(J8*$F$2),2) -> 4 | B8: Blätter | C8: Basilikum | I8: 4 | J8: =I8/$I$2 -> 1
A9: =ROUND(SUM(J9*$F$2),2) -> 1 | B9: EL | C9: Kichererbsen (gekocht im Glas) | D9: im Glas | I9: 1 | J9: =I9/$I$2 -> 0.25
A10: =ROUND(SUM(J10*$F$2),2) -> 0.5 | B10: Stk | C10: Saft einer halben Zitrone | I10: 0.5 | J10: =I10/$I$2 -> 0.125
A11: 1 | B11: EL | C11: 1 EL Öl | J11: =I11/$I$2 -> 0
A12: =ROUND(SUM(J12*$F$2),2) -> 0 | C12: Salz und Pfeffer | J12: =I12/$I$2 -> 0
A13: =ROUND(SUM(J13*$F$2),2) -> 0.5 | B13: Stk | C13: Kopf Salatblätter | D13: Deko | F13: =SUM(E13*A13) -> 0 | I13: 0.5 | J13: =I13/$I$2 -> 0.125
A14: =ROUND(SUM(J14*$F$2),2) -> 0.25 | B14: Kg | C14: rote Sprossen | D14: Deko | F14: =SUM(E14*A14) -> 0 | I14: 0.25 | J14: =I14/$I$2 -> 0.0625
A15: =ROUND(SUM(J15*$F$2),2) -> 0.2 | B15: Bund | C15: Minze blätter | D15: Deko | F15: =SUM(E15*A15) -> 0 | I15: 0.2 | J15: =I15/$I$2 -> 0.05
A16: =ROUND(SUM(J16*$F$2),2) -> 0.2 | C16: Aceto Balsamico Dickflüssig | D16: Deko | F16: =SUM(E16*A16) -> 0 | I16: 0.2 | J16: =I16/$I$2 -> 0.05
F17: =SUM(E17*A17) -> 0 | J17: =I17/$I$2 -> 0
A18: =ROUND(SUM(J18*$F$2),2) -> 0 | C18: Lachs röllchen | F18: =SUM(E18*A18) -> 0 | J18: =I18/$I$2 -> 0
A19: =ROUND(SUM(J19*$F$2),2) -> 0.1 | B19: Kg | C19: Lachs geräuchert (Graved Lachs) | I19: 0.1 | J19: =I19/$I$2 -> 0.025
A20: =ROUND(SUM(J20*$F$2),2) -> 0.1 | B20: Kg | C20: Meerrettichmousse | F20: =SUM(E20*A20) -> 0 | I20: 0.1 | J20: =I20/$I$2 -> 0.025
A21: =ROUND(SUM(J21*$F$2),2) -> 1 | B21: Stk | C21: Zitronen | F21: =SUM(E21*A21) -> 0 | I21: 1 | J21: =I21/$I$2 -> 0.25
A22: Zubereitung
A23: Couscous nach Packungsanleitung kochen. Kirsch- Tomaten und Paprika waschen und trocken. Kirsch- Tomaten vierteln. Paprika entkernen und in kleine Würfel schneiden. Basilikum klein schneiden. Couscous mit Kirsch- Tomaten, Paprika, Basilikum, Kichererbsen, Zitronen- Saft und Öl in einem Gefäß vermischen. Mit Salz und Pfeffer abschmecken. Avocados in der Mitte aufschneiden. Die Avocados vorsichtig – ohne zu drücken - schälen. Kern lösen und entsorgen. Das Loch in der Mitte der Avocado vergrößern. Dafür von der Avocado etwas mit einem Löffel herausnehmen und mit dem Couscous- Salat mischen. Die Avocado- Hälfte mit dem Couscous- Salat befüllen. Auf Salat- Blättern anrichten, mit den Sprossen garnieren und servieren.

Sheet Hauptgang
E1: Chochete vom | F1: =SUM(Menu!B3) -> 45372 | I1: Original Rezept
A2: =Menu!B7 -> Empanadas mit Salsa Verde | E2: Rezept für | F2: =Menu!B18 -> 4 | I2: 5 | J2: Personen | M2: https://www.daskochrezept.de/rezepte/empanadas-einfach-selber-machen-mit-hackfleisch
A3: Menge | B3: Einheit | C3: Artikel (Gewicht alles ca. Angaben) | D3: Bemerkungen | E3: Einkaufspreis | F3: Betrag | I3: Originalrezept | J3: pro Person
A4: =ROUND(SUM(J4*$F$2),2) -> 0 | C4: Teig für 15 Empanadas 12cm | F4: =SUM(E4*A4) -> 0 | J4: =I4/$I$2 -> 0
A5: =ROUND(SUM(J5*$F$2),2) -> 0.48 | B5: Kg | C5: Weizenmehl (Type 405) | F5: =SUM(E5*A5) -> 0 | I5: 0.6 | J5: =I5/$I$2 -> 0.12
A6: =ROUND(SUM(J6*$F$2),2) -> 1.6 | B6: Tl | C6: Backpulver | I6: 2 | J6: =I6/$I$2 -> 0.4
A7: =ROUND(SUM(J7*$F$2),2) -> 0.3 | B7: Kg | C7: Butter | I7: 0.375 | J7: =I7/$I$2 -> 0.075
A8: =ROUND(SUM(J8*$F$2),2) -> 1.6 | B8: Stk | C8: Ei (Größe M) | I8: 2 | J8: =I8/$I$2 -> 0.4
A9: =ROUND(SUM(J9*$F$2),2) -> 5.6 | B9: EL | C9: Wasser | I9: 7 | J9: =I9/$I$2 -> 1.4
A10: =ROUND(SUM(J10*$F$2),2) -> 2.4 | B10: Priese | C10: Salz | I10: 3 | J10: =I10/$I$2 -> 0.6
A11: =ROUND(SUM(J11*$F$2),2) -> 0.8 | B11: Stk | C11: Eier (zum Bestreichen) | I11: 1 | J11: =I11/$I$2 -> 0.2
C12: Salsa Verde | J12: =I12/$I$2 -> 0
A13: =ROUND(SUM(J13*$F$2),2) -> 2.4 | B13: Stk | C13: Eier | I13: 3 | J13: =I13/$I$2 -> 0.6
A14: =ROUND(SUM(J14*$F$2),2) -> 0.4 | B14: Stk | C14: Zitrone | F14: =SUM(E14*A14) -> 0 | I14: 0.5 | J14: =I14/$I$2 -> 0.1
A15: =ROUND(SUM(J15*$F$2),2) -> 0.8 | B15: Stk | C15: Knoblauchzehe | F15: =SUM(E15*A15) -> 0 | I15: 1 | J15: =I15/$I$2 -> 0.2
A16: =ROUND(SUM(J16*$F$2),2) -> 1.2 | B16: Bund | C16: Glate Petersielie | F16: =SUM(E16*A16) -> 0 | I16: 1.5 | J16: =I16/$I$2 -> 0.3
A17: =ROUND(SUM(J17*$F$2),2) -> 0.8 | B17: Bund | C17: Basilikum | F17: =SUM(E17*A17) -> 0 | I17: 1 | J17: =I17/$I$2 -> 0.2
A18: =ROUND(SUM(J18*$F$2),2) -> 1.6 | B18: EL | C18: Kapern | F18: =SUM(E18*A18) -> 0 | I18: 2 | J18: =I18/$I$2 -> 0.4
A19: =ROUND(SUM(J19*$F$2),2) -> 0.8 | B19: Stk | C19: Tostbrot | I19: 1 | J19: =I19/$I$2 -> 0.2
A20: =ROUND(SUM(J20*$F$2),2) -> 2.4 | B20: El | C20: weisser Balsamikoessig | F20: =SUM(E20*A20) -> 0 | I20: 3 | J20: =I20/$I$2 -> 0.6
A21: =ROUND(SUM(J21*$F$2),2) -> 0.12 | B21: L | C21: Oliven Oel | I21: 0.15 | J21: =I21/$I$2 -> 0.03
A22: =ROUND(SUM(J22*$F$2),2) -> 0 | C22: Salz Pfeffer & 1 Prise Zucker | F22: =SUM(E22*A22) -> 0 | J22: =I22/$I$2 -> 0
A23: Zubereitung
A24: Teig 1. Für den Teig Mehl mit Backpulver mischen, in eine Schüssel sieben, die Butter in kleinen Stücken zugeben und alles miteinander verkneten. 2. Ei mit Wasser und Salz verquirlen und zum Teig geben. Den Teig zu einer einheitlichen Masse kneten, in Folie einwickeln und für 60 Minuten kühlen. 3. Den Backofen auf Ober- und Unterhitze 180 Grad (Umluft 160 Grad) vorheizen. Ei trennen, Eigelb verquirlen. Den gekühlten Teig auf einer bemehlten Arbeitsfläche ca. 2 mm dünn ausrollen. 20 Kreise mit einem Kreisausstecher (Ø 10 cm) ausstechen und dünn mit Eiweiß bestreichen. Je 1 EL Füllung in die Mitte geben. 4. Die Teigkreise über die Füllung zu einem Halbmond zusammenklappen, dabei die Ränder leicht aneinander drücken. Mit einer Gabel den Rand nochmals andrücken. Die Teigtaschen mit dem Eigelb bestreichen und im vorgeheizten Backofen für ca. 15 Minuten backen.
A29: Salsa Verde 1. 3 Eier mit Wasser bedeckt aufkochen und ab Siedepunkt 8 Minuten hart kochen. Kalt abschrecken. 2. Die Eier schälen, die Eigelbe auslösen (Eiweiss wird nicht verwendet) und in einen hohen Becher geben. 3. Die Schale von ½ Zitrone dünn dazureiben. 2 Esslöffel Zitronensaft auspressen und beifügen. 4. 1 Knoblauchzehe schälen und mit 1½ Bund glatter Petersilie, 1 Bund Basilikum und 2 Esslöffel Kapern grob schneiden und zu den Eigelben geben.

Sheet Beilage1
E1: Chochete vom | F1: =SUM(Menu!B3) -> 45372 | I1: Original Rezept
A2: =Menu!B8 -> Hackfleisch Füllung | E2: Rezept für | F2: =Menu!B18 -> 4 | I2: 5 | J2: Personen
A3: Menge | B3: Einheit | C3: Artikel (Gewicht alles ca. Angaben) | D3: Bemerkungen | E3: Einkaufspreis | F3: 4 | I3: Originalrezept | J3: pro Person
A4: =ROUND(SUM(J4*$F$2),2) -> 0.4 | B4: Stk | C4: kleine Zwiebel | F4: =SUM(E4*A4) -> 0 | I4: 0.5 | J4: =I4/$I$2 -> 0.1
A5: =ROUND(SUM(J5*$F$2),2) -> 0.2 | B5: Stk | C5: rote Paprika klein gewürffelt | F5: =SUM(E5*A5) -> 0 | I5: 0.25 | J5: =I5/$I$2 -> 0.05
A6: =ROUND(SUM(J6*$F$2),2) -> 1.6 | B6: EL | C6: Oliven Oel | F6: =SUM(E6*A6) -> 0 | I6: 2 | J6: =I6/$I$2 -> 0.4
A7: =ROUND(SUM(J7*$F$2),3) -> 0.1 | B7: Kg | C7: Hackfleisch | F7: =SUM(E7*A7) -> 0 | I7: 0.125 | J7: =I7/$I$2 -> 0.025
A8: =ROUND(SUM(J8*$F$2),2) -> 0.8 | B8: EL | C8: Tomatenmark | F8: =SUM(E8*A8) -> 0 | I8: 1 | J8: =I8/$I$2 -> 0.2
A9: =ROUND(SUM(J9*$F$2),2) -> 0.8 | B9: Stk | C9: Ei (Größe M) gekocht | D9: gehackt | F9: =SUM(E9*A9) -> 0 | I9: 1 | J9: =I9/$I$2 -> 0.2
A10: =ROUND(SUM(J10*$F$2),2) -> 0 | C10: Salz und Pfeffer | D10: nach Bedarf | F10: =SUM(E10*A10) -> 0 | J10: =I10/$I$2 -> 0
A11: =ROUND(SUM(J11*$F$2),2) -> 0.02 | B11: Prise | C11: Cayennepfeffer | F11: =SUM(E11*A11) -> 0 | I11: 0.025 | J11: =I11/$I$2 -> 0.005
A12: =ROUND(SUM(J12*$F$2),2) -> 0.4 | B12: TL | C12: Paprikapulver (edelsüß) | F12: =SUM(E12*A12) -> 0 | I12: 0.5 | J12: =I12/$I$2 -> 0.1
A13: =ROUND(SUM(J13*$F$2),2) -> 2.4 | B13: Stk | C13: Oliven Schwarz entsteint | D13: in scheiben | F13: =SUM(E13*A13) -> 0 | I13: 3 | J13: =I13/$I$2 -> 0.6
F14: =SUM(E14*A14) -> 0 | J14: =I14/$I$2 -> 0
A15: =ROUND(SUM(J15*$F$2),2) -> 0 | F15: =SUM(E15*A15) -> 0 | J15: =I15/$I$2 -> 0
A16: =ROUND(SUM(J16*$F$2),2) -> 0 | F16: =SUM(E16*A16) -> 0 | J16: =I16/$I$2 -> 0
A17: =ROUND(SUM(J17*$F$2),2) -> 0 | F17: =SUM(E17*A17) -> 0 | J17: =I17/$I$2 -> 0
A18: =ROUND(SUM(J18*$F$2),2) -> 0 | F18: =SUM(E18*A18) -> 0 | J18: =I18/$I$2 -> 0
A19: =ROUND(SUM(J19*$F$2),2) -> 0 | F19: =SUM(E19*A19) -> 0 | J19: =I19/$I$2 -> 0
A20: =ROUND(SUM(J20*$F$2),2) -> 0 | F20: =SUM(E20*A20) -> 0 | J20: =I20/$I$2 -> 0
A21: Zubereitung
A22: für die Füllung Zwiebeln abziehen, Paprika waschen und beides in feine Würfel schneiden. Öl in einer Pfanne erhitzen, Hackfleisch mit Zwiebeln darin anbraten, bis es rundherum bräunt und gar ist, Tomatenmark unterheben und mit anbräunen. In eine Schüssel geben und etwas abkühlen lassen. Dann mit Paprikawürfel, Ei gehackt, Oliven in scheiben und Salz, Pfeffer, Cayennepfeffer und Paprikapulver mischen. Bis zur Weiterverarbeitung beiseite stellen.

Sheet Beilage2
E1: Chochete vom | F1: =SUM(Menu!B3) -> 45372 | I1: Original Rezept
A2: =Menu!B9 -> Thon Füllung | E2: Rezept für | F2: =SUM(Menu!B18) -> 4 | I2: 5 | J2: Personen
A3: Menge | B3: Einheit | C3: Artikel (Gewicht alles ca. Angaben) | D3: Bemerkungen | E3: Einkaufspreis | F3: Betrag | I3: Originalrezept | J3: pro Person
A4: =ROUND(SUM(J4*$F$2),3) -> 0.06 | B4: Kg | C4: 1/2 DoseThunfisch in Salzlake abgetropft | F4: =SUM(E4*A4) -> 0 | I4: 0.075 | J4: =I4/$I$2 -> 0.015
A5: =ROUND(SUM(J5*$F$2),2) -> 0.8 | B5: Stk | C5: Peperoncino | F5: =SUM(E5*A5) -> 0 | I5: 1 | J5: =I5/$I$2 -> 0.2
A6: =ROUND(SUM(J6*$F$2),2) -> 0.8 | B6: Stk | C6: Zwiebel klein | F6: =SUM(E6*A6) -> 0 | I6: 1 | J6: =I6/$I$2 -> 0.2
A7: =ROUND(SUM(J7*$F$2),2) -> 0.04 | B7: Kg | C7: TK- Blattspinat, aufgetaut | F7: =SUM(E7*A7) -> 0 | I7: 0.05 | J7: =I7/$I$2 -> 0.01
A8: =ROUND(SUM(J8*$F$2),2) -> 0.04 | B8: Kg | C8: Manchego Käse | F8: =SUM(E8*A8) -> 0 | I8: 0.05 | J8: =I8/$I$2 -> 0.01
A9: =ROUND(SUM(J9*$F$2),2) -> 1.6 | B9: EL | C9: Crème fraîche | F9: =SUM(E9*A9) -> 0 | I9: 2 | J9: =I9/$I$2 -> 0.4
A10: =ROUND(SUM(J10*$F$2),2) -> 0.4 | B10: TL | C10: Salz | F10: =SUM(E10*A10) -> 0 | I10: 0.5 | J10: =I10/$I$2 -> 0.1
A11: =ROUND(SUM(J11*$F$2),2) -> 0 | F11: =SUM(E11*A11) -> 0 | J11: =I11/$I$2 -> 0
A12: =ROUND(SUM(J12*$F$2),2) -> 0 | F12: =SUM(E12*A12) -> 0 | J12: =I12/$I$2 -> 0
A13: =ROUND(SUM(J13*$F$2),2) -> 0 | F13: =SUM(E13*A13) -> 0 | J13: =I13/$I$2 -> 0
A14: =ROUND(SUM(J14*$F$2),2) -> 0 | F14: =SUM(E14*A14) -> 0 | J14: =I14/$I$2 -> 0
A15: =ROUND(SUM(J15*$F$2),2) -> 0 | F15: =SUM(E15*A15) -> 0 | J15: =I15/$I$2 -> 0
A16: =ROUND(SUM(J16*$F$2),2) -> 0 | F16: =SUM(E16*A16) -> 0 | J16: =I16/$I$2 -> 0
A17: =ROUND(SUM(J17*$F$2),2) -> 0 | F17: =SUM(E17*A17) -> 0 | J17: =I17/$I$2 -> 0
A18: =ROUND(SUM(J18*$F$2),2) -> 0 | F18: =SUM(E18*A18) -> 0 | J18: =I18/$I$2 -> 0
A19: =ROUND(SUM(J19*$F$2),2) -> 0 | F19: =SUM(E19*A19) -> 0 | J19: =I19/$I$2 -> 0
A20: =ROUND(SUM(J20*$F$2),2) -> 0 | F20: =SUM(E20*A20) -> 0 | J20: =I20/$I$2 -> 0
A21: Zubereitung
A22: Für die Füllung Thunfisch gut abtropfen lassen und zerzupfen. Peperoncino, Zwiebel und Spinat fein hacken. Mit dem Thunfisch gut mischen. Käse in kleine Würfel schneiden. Mit der Crème fraîche zu den restlichen Zutaten geben, gut mischen und mit Salz würzen.

Sheet Beilage3
E1: Chochete vom | F1: =SUM(Menu!B3) -> 45372 | I1: Original Rezept
A2: =Menu!B10 -> Poulet Füllung | E2: Rezept für | F2: =SUM(Menu!B18) -> 4 | I2: 5 | J2: Personen
A3: Menge | B3: Einheit | C3: Artikel (Gewicht alles ca. Angaben) | D3: Bemerkungen | E3: Einkaufspreis | F3: Betrag | I3: Originalrezept | J3: pro Person
A4: =ROUND(SUM(J4*$F$2),2) -> 0.2 | B4: Dose | C4: Mais (Dose ca.140gr.) | F4: =SUM(E4*A4) -> 0 | I4: 0.25 | J4: =I4/$I$2 -> 0.05
A5: =ROUND(SUM(J5*$F$2),2) -> 0.4 | B5: 1 | C5: Peperoni rot | F5: =SUM(E5*A5) -> 0 | I5: 0.5 | J5: =I5/$I$2 -> 0.1
A6: =ROUND(SUM(J6*$F$2),2) -> 0.4 | B6: Prise | C6: Pfeffer | F6: =SUM(E6*A6) -> 0 | I6: 0.5 | J6: =I6/$I$2 -> 0.1
A7: =ROUND(SUM(J7*$F$2),2) -> 0.08 | B7: Kg | C7: Pouletgeschnetzeltes | F7: =SUM(E7*A7) -> 0 | I7: 0.1 | J7: =I7/$I$2 -> 0.02
A8: =ROUND(SUM(J8*$F$2),2) -> 0.4 | B8: Prise | C8: Salz | F8: =SUM(E8*A8) -> 0 | I8: 0.5 | J8: =I8/$I$2 -> 0.1
A9: =ROUND(SUM(J9*$F$2),2) -> 0.08 | B9: Kg | C9: Tomaten würfel | F9: =SUM(E9*A9) -> 0 | I9: 0.1 | J9: =I9/$I$2 -> 0.02
A10: =ROUND(SUM(J10*$F$2),2) -> 0.4 | B10: Stk | C10: Zwiebel klein | F10: =SUM(E10*A10) -> 0 | I10: 0.5 | J10: =I10/$I$2 -> 0.1
A11: =ROUND(SUM(J11*$F$2),2) -> 0.4 | B11: Prise | C11: Cayennepfeffer | F11: =SUM(E11*A11) -> 0 | I11: 0.5 | J11: =I11/$I$2 -> 0.1
A12: =ROUND(SUM(J12*$F$2),2) -> 0.8 | B12: EL | C12: Oel | F12: =SUM(E12*A12) -> 0 | I12: 1 | J12: =I12/$I$2 -> 0.2
A13: =ROUND(SUM(J13*$F$2),2) -> 0 | F13: =SUM(E13*A13) -> 0 | J13: =I13/$I$2 -> 0
A14: =ROUND(SUM(J14*$F$2),2) -> 0 | F14: =SUM(E14*A14) -> 0 | J14: =I14/$I$2 -> 0
A15: =ROUND(SUM(J15*$F$2),2) -> 0 | F15: =SUM(E15*A15) -> 0 | J15: =I15/$I$2 -> 0
A16: =ROUND(SUM(J16*$F$2),2) -> 0 | F16: =SUM(E16*A16) -> 0 | J16: =I16/$I$2 -> 0
A17: =ROUND(SUM(J17*$F$2),2) -> 0 | F17: =SUM(E17*A17) -> 0 | J17: =I17/$I$2 -> 0
A18: =ROUND(SUM(J18*$F$2),2) -> 0 | F18: =SUM(E18*A18) -> 0 | J18: =I18/$I$2 -> 0
A19: =ROUND(SUM(J19*$F$2),2) -> 0 | F19: =SUM(E19*A19) -> 0 | J19: =I19/$I$2 -> 0
A20: =ROUND(SUM(J20*$F$2),2) -> 0 | F20: =SUM(E20*A20) -> 0 | J20: =I20/$I$2 -> 0
A21: Zubereitung
A22: Die frische Zwiebel schälen und fein hacken. Dann die Peperoni waschen, halbieren, entkernen und klein würfeln. Nun das Pouletgeschnetzelte in einer Pfanne mit etwas Oel für einige Minuten von allen Seiten goldbraun anbraten. Dann die Zwiebel- und Peperoniwürfel dazugeben und für einige Minuten mitbraten. Danach die stückigen Tomaten und Mais einrühren. Gut mit Salz, Pfeffer und Cayennepfeffer gut abschmecken, bevor die Füllung gut abgekühlt wird.

Sheet Dessert
E1: Chochete vom | F1: =SUM(Menu!B3) -> 45372 | I1: Original Rezept
A2: =Menu!B12 -> Leche asada mit Mango | E2: Rezept für | F2: =SUM(Menu!B18) -> 4 | I2: 5 | J2: Personen
A3: Menge | B3: Einheit | C3: Artikel (Gewicht alles ca. Angaben) | D3: Bemerkungen | E3: Einkaufspreis | F3: Betrag | I3: Originalrezept | J3: pro Person
A4: =ROUND(SUM(J4*$F$2),2) -> 0.4 | B4: Stk | C4: Mango (klein gewürfelt) | I4: 0.5 | J4: =I4/$I$2 -> 0.1
A5: =ROUND(SUM(J5*$F$2),2) -> 0 | J5: =I5/$I$2 -> 0
A6: =ROUND(SUM(J6*$F$2),2) -> 0.08 | B6: Kg | C6: Zucker weiss | I6: 0.1 | J6: =I6/$I$2 -> 0.02
A7: =ROUND(SUM(J7*$F$2),2) -> 0.12 | B7: L | C7: Rahm (Schlagrahm) | I7: 0.15 | J7: =I7/$I$2 -> 0.03
A8: =ROUND(SUM(J8*$F$2),2) -> 3.2 | B8: Stk | C8: Eier | I8: 4 | J8: =I8/$I$2 -> 0.8
A9: =ROUND(SUM(J9*$F$2),2) -> 0.04 | B9: Kg | C9: Zucker weiss | I9: 0.05 | J9: =I9/$I$2 -> 0.01
A10: =ROUND(SUM(J10*$F$2),2) -> 0.8 | B10: Stk | C10: Vanille Schote (ausgekratzt) | I10: 1 | J10: =I10/$I$2 -> 0.2
A11: =ROUND(SUM(J11*$F$2),2) -> 0 | J11: =I11/$I$2 -> 0
A12: =ROUND(SUM(J12*$F$2),2) -> 0 | J12: =I12/$I$2 -> 0
A13: =ROUND(SUM(J13*$F$2),2) -> 0 | J13: =I13/$I$2 -> 0
A14: =ROUND(SUM(J14*$F$2),2) -> 0 | J14: =I14/$I$2 -> 0
A15: =ROUND(SUM(J15*$F$2),2) -> 0 | J15: =I15/$I$2 -> 0
A16: =ROUND(SUM(J16*$F$2),2) -> 0 | J16: =I16/$I$2 -> 0
A17: =ROUND(SUM(J17*$F$2),2) -> 0 | J17: =I17/$I$2 -> 0
A18: =ROUND(SUM(J18*$F$2),2) -> 0 | J18: =I18/$I$2 -> 0
A19: =ROUND(SUM(J19*$F$2),2) -> 0 | J19: =I19/$I$2 -> 0
A20: =ROUND(SUM(J20*$F$2),2) -> 0 | F20: =SUM(E20*A20) -> 0 | J20: =I20/$I$2 -> 0
A21: Zubereitung
A22: 1. Den Ofen auf 180 Grad vorheizen und vier ofenfeste Behälter mit je 120ml/g Fassungsvermögen heraussuchen. 2. 100 Gramm Zucker in einer Pfanne auf mittlerer Hitze schmelzen, dabei die Pfanne zwischendurch schwenken. Sobald das Karamell die Farbe von Bernstein hat, in den vorbereiteten Behältern verteilen. Dazu schnell sein, das Karamell erhärtet fast augenblicklich. 3. In einer großen Schüssel alle anderen Zutaten sehr vorsichtig und ohne Luft einzuschlagen mit einem Schneebesen verrühren. Mangowürffel unterheben. Dann ebenfalls in den Behältern verteilen. 4. Für ca. 40min backen, dann den Ofen ausschalten und noch ca. eine halbe Stunde im Ofen stehen lassen, auf Raumtemperatur bringen und schließlich über Nacht im Kühlschrank kühlen. Man muss natürlich nicht so lange warten, es geht auch schon nach einer Stunde, jedoch wird das Dessert dadurch fester und löst sich leichter. Den Rand vorsichtig mit einem Messer lösen und jeweils auf einen kleinen Teller stürzen und genießen.

Sheet Einkaufsliste
A1: Hobby-Küche Zug | C1: Einkaufsliste | D1: =Dessert!F1 -> 45372 | E1: ok
A2: Menge | B2: Einheit | C2: Artikel
A3: Diverses | D3: Bemerkungen
A4: 4 | B4: Stk | C4: Baguette (1 stk pro Tisch) | D4: Nicht kummuliert / kalkuliert
A6: =Menu!B5 -> Gefüllte Avocados mit Lachsröllchen | D6: Bemerkungen
A7: =Vorspeise!A4 -> 2 | B7: =Vorspeise!B4 -> Stk | C7: =Vorspeise!C4 -> Avocados | D7: =Vorspeise!D4 -> 0
A8: =Vorspeise!A5 -> 0.05 | B8: =Vorspeise!B5 -> Kg | C8: =Vorspeise!C5 -> Couscous | D8: =Vorspeise!D5 -> 0
A9: =Vorspeise!A6 -> 8 | B9: =Vorspeise!B6 -> Stk | C9: =Vorspeise!C6 -> Kirsch- Tomaten | D9: =Vorspeise!D6 -> 0
A10: =Vorspeise!A7 -> 0.25 | B10: =Vorspeise!B7 -> Stk | C10: =Vorspeise!C7 -> gelbe Paprika | D10: =Vorspeise!D7 -> einviertel
A11: =Vorspeise!A8 -> 4 | B11: =Vorspeise!B8 -> Blätter | C11: =Vorspeise!C8 -> Basilikum | D11: =Vorspeise!D8 -> 0
A12: =Vorspeise!A9 -> 1 | B12: =Vorspeise!B9 -> EL | C12: =Vorspeise!C9 -> Kichererbsen (gekocht im Glas) | D12: =Vorspeise!D9 -> im Glas
A13: =Vorspeise!A10 -> 0.5 | B13: =Vorspeise!B10 -> Stk | C13: =Vorspeise!C10 -> Saft einer halben Zitrone | D13: =Vorspeise!D10 -> 0
A14: =Vorspeise!A11 -> 1 | B14: =Vorspeise!B11 -> EL | C14: =Vorspeise!C11 -> 1 EL Öl | D14: =Vorspeise!D11 -> 0
A15: =Vorspeise!A12 -> 0 | B15: =Vorspeise!B12 -> 0 | C15: =Vorspeise!C12 -> Salz und Pfeffer | D15: =Vorspeise!D12 -> 0
A16: =Vorspeise!A13 -> 0.5 | B16: =Vorspeise!B13 -> Stk | C16: =Vorspeise!C13 -> Kopf Salatblätter | D16: =Vorspeise!D13 -> Deko
A17: =Vorspeise!A14 -> 0.25 | B17: =Vorspeise!B14 -> Kg | C17: =Vorspeise!C14 -> rote Sprossen | D17: =Vorspeise!D14 -> Deko
A18: =Vorspeise!A15 -> 0.2 | B18: =Vorspeise!B15 -> Bund | C18: =Vorspeise!C15 -> Minze blätter | D18: =Vorspeise!D15 -> Deko
... A24: =Vorspeise!A21 -> 1 | B24: =Vorspeise!B21 -> Stk | C24: =Vorspeise!C21 -> Zitronen | D24: =Vorspeise!D21 -> 0
A25: =Hauptgang!A2 -> Empanadas mit Salsa Verde | D25: Bemerkungen
A26: =SUM(Hauptgang!A4) -> 0 | B26: =Hauptgang!B4 -> 0 | C26: =Hauptgang!C4 -> Teig für 15 Empanadas 12cm | D26: =Hauptgang!D4 -> 0
A27: =SUM(Hauptgang!A5) -> 0.48 | B27: =Hauptgang!B5 -> Kg | C27: =Hauptgang!C5 -> Weizenmehl (Type 405) | D27: =Hauptgang!D5 -> 0
A28: =SUM(Hauptgang!A6) -> 1.6 | B28: =Hauptgang!B6 -> Tl | C28: =Hauptgang!C6 -> Backpulver | D28: =Hauptgang!D6 -> 0
A29: =SUM(Hauptgang!A7) -> 0.3 | B29: =Hauptgang!B7 -> Kg | C29: =Hauptgang!C7 -> Butter | D29: =Hauptgang!D7 -> 0
A30: =SUM(Hauptgang!A8) -> 1.6 | B30: =Hauptgang!B8 -> Stk | C30: =Hauptgang!C8 -> Ei (Größe M) | D30: =Hauptgang!D8 -> 0
A31: =SUM(Hauptgang!A9) -> 5.6 | B31: =Hauptgang!B9 -> EL | C31: =Hauptgang!C9 -> Wasser | D31: =Hauptgang!D9 -> 0
A32: =SUM(Hauptgang!A10) -> 2.4 | B32: =Hauptgang!B10 -> Priese | C32: =Hauptgang!C10 -> Salz | D32: =Hauptgang!D10 -> 0
A33: =SUM(Hauptgang!A11) -> 0.8 | B33: =Hauptgang!B11 -> Stk | C33: =Hauptgang!C11 -> Eier (zum Bestreichen) | D33: =Hauptgang!D11 -> 0
A34: =SUM(Hauptgang!A12) -> 0 | B34: =Hauptgang!B12 -> 0 | C34: =Hauptgang!C12 -> Salsa Verde | D34: =Hauptgang!D12 -> 0
A35: =SUM(Hauptgang!A13) -> 2.4 | B35: =Hauptgang!B13 -> Stk | C35: =Hauptgang!C13 -> Eier | D35: =Hauptgang!D13 -> 0
A36: =SUM(Hauptgang!A14) -> 0.4 | B36: =Hauptgang!B14 -> Stk | C36: =Hauptgang!C14 -> Zitrone | D36: =Hauptgang!D14 -> 0
A37: =SUM(Hauptgang!A15) -> 0.8 | B37: =Hauptgang!B15 -> Stk | C37: =Hauptgang!C15 -> Knoblauchzehe | D37: =Hauptgang!D15 -> 0
... A40: =SUM(Hauptgang!A18) -> 1.6 | B40: =Hauptgang!B18 -> EL | C40: =Hauptgang!C18 -> Kapern | D40: =Hauptgang!D18 -> 0
A41: =SUM(Hauptgang!A19) -> 0.8 | B41: =Hauptgang!B19 -> Stk | C41: =Hauptgang!C19 -> Tostbrot | D41: =Hauptgang!D20 -> 0
A42: =SUM(Hauptgang!A20) -> 2.4 | B42: =Hauptgang!B20 -> El | C42: =Hauptgang!C20 -> weisser Balsamikoessig | D42: =Hauptgang!D22 -> 0
A43: =SUM(Hauptgang!A21) -> 0.12 | B43: =Hauptgang!B21 -> L | C43: =Hauptgang!C21 -> Oliven Oel | D43: =Hauptgang!D23
A44: =SUM(Hauptgang!A22) -> 0 | B44: =Hauptgang!B22 -> 0 | C44: =Hauptgang!C22 -> Salz Pfeffer & 1 Prise Zucker | D44: =Hauptgang!D26 -> 0
A45: =Beilage1!A2 -> Hackfleisch Füllung | D45: Bemerkungen
A46: =Beilage1!A4 -> 0.4 | B46: =Beilage1!B4 -> Stk | C46: =Beilage1!C4 -> kleine Zwiebel | D46: =Beilage1!F4 -> 0
A47: =Beilage1!A5 -> 0.2 | B47: =Beilage1!B5 -> Stk | C47: =Beilage1!C5 -> rote Paprika klein gewürffelt | D47: =Beilage1!F5 -> 0
A48: =Beilage1!A6 -> 1.6 | B48: =Beilage1!B6 -> EL | C48: =Beilage1!C6 -> Oliven Oel | D48: =Beilage1!F6 -> 0
A49: =Beilage1!A7 -> 0.1 | B49: =Beilage1!B7 -> Kg | C49: =Beilage1!C7 -> Hackfleisch | D49: =Beilage1!F7 -> 0
A50: =Beilage1!A8 -> 0.8 | B50: =Beilage1!B8 -> EL | C50: =Beilage1!C8 -> Tomatenmark | D50: =Beilage1!F8 -> 0
A51: =Beilage1!A9 -> 0.8 | B51: =Beilage1!B9 -> Stk | C51: =Beilage1!C9 -> Ei (Größe M) gekocht | D51: =Beilage1!F9 -> 0
A52: =Beilage1!A10 -> 0 | B52: =Beilage1!B10 -> 0 | C52: =Beilage1!C10 -> Salz und Pfeffer | D52: =Beilage1!F10 -> 0
A53: =Beilage1!A11 -> 0.02 | B53: =Beilage1!B11 -> Prise | C53: =Beilage1!C11 -> Cayennepfeffer | D53: =Beilage1!F11 -> 0
A54: =Beilage1!A12 -> 0.4 | B54: =Beilage1!B12 -> TL | C54: =Beilage1!C12 -> Paprikapulver (edelsüß) | D54: =Beilage1!F12 -> 0
A55: =Beilage1!A13 -> 2.4 | B55: =Beilage1!B13 -> Stk | C55: =Beilage1!C13 -> Oliven Schwarz entsteint | D55: =Beilage1!F13 -> 0
A56: =Beilage1!A14 -> 0 | B56: =Beilage1!B14 -> 0 | C56: =Beilage1!C14 -> 0 | D56: =Beilage1!F14 -> 0
A57: =Beilage1!A15 -> 0 | B57: =Beilage1!B15 -> 0 | C57: =Beilage1!C15 -> 0 | D57: =Beilage1!F15 -> 0
... A62: =Beilage1!A20 -> 0 | B62: =Beilage1!B20 -> 0 | C62: =Beilage1!C20 -> 0 | D62: =Beilage1!F20 -> 0
A63: =Beilage2!A2 -> Thon Füllung
A64: =SUM(Beilage2!A4) -> 0.06 | B64: =Beilage2!B4 -> Kg | C64: =Beilage2!C4 -> 1/2 DoseThunfisch in Salzlake abgetropft | D64: =Beilage2!D4 -> 0
A65: =SUM(Beilage2!A5) -> 0.8 | B65: =Beilage2!B5 -> Stk | C65: =Beilage2!C5 -> Peperoncino | D65: =Beilage2!D5 -> 0
A66: =SUM(Beilage2!A6) -> 0.8 | B66: =Beilage2!B6 -> Stk | C66: =Beilage2!C6 -> Zwiebel klein | D66: =Beilage2!D6 -> 0
A67: =SUM(Beilage2!A7) -> 0.04 | B67: =Beilage2!B7 -> Kg | C67: =Beilage2!C7 -> TK- Blattspinat, aufgetaut | D67: =Beilage2!D7 -> 0
A68: =SUM(Beilage2!A8) -> 0.04 | B68: =Beilage2!B8 -> Kg | C68: =Beilage2!C8 -> Manchego Käse | D68: =Beilage2!D8 -> 0
A69: =SUM(Beilage2!A9) -> 1.6 | B69: =Beilage2!B9 -> EL | C69: =Beilage2!C9 -> Crème fraîche | D69: =Beilage2!D9 -> 0
A70: =SUM(Beilage2!A10) -> 0.4 | B70: =Beilage2!B10 -> TL | C70: =Beilage2!C10 -> Salz | D70: =Beilage2!D10 -> 0
A71: =SUM(Beilage2!A11) -> 0 | B71: =Beilage2!B11 -> 0 | C71: =Beilage2!C11 -> 0 | D71: =Beilage2!D11 -> 0
A72: =SUM(Beilage2!A12) -> 0 | B72: =Beilage2!B12 -> 0 | C72: =Beilage2!C12 -> 0 | D72: =Beilage2!D12 -> 0
A73: =SUM(Beilage2!A13) -> 0 | B73: =Beilage2!B13 -> 0 | C73: =Beilage2!C13 -> 0 | D73: =Beilage2!D13 -> 0
A74: =SUM(Beilage2!A14) -> 0 | B74: =Beilage2!B14 -> 0 | C74: =Beilage2!C14 -> 0 | D74: =Beilage2!D14 -> 0
A75: =SUM(Beilage2!A15) -> 0 | B75: =Beilage2!B15 -> 0 | C75: =Beilage2!C15 -> 0 | D75: =Beilage2!D15 -> 0
... A80: =SUM(Beilage2!A20) -> 0 | B80: =Beilage2!B20 -> 0 | C80: =Beilage2!C20 -> 0 | D80: =Beilage2!D20 -> 0
A81: =Beilage3!A2 -> Poulet Füllung
A82: =Beilage3!A4 -> 0.2 | B82: =Beilage3!B4 -> Dose | C82: =Beilage3!C4 -> Mais (Dose ca.140gr.) | D82: =Beilage3!D4 -> 0
A83: =Beilage3!A5 -> 0.4 | B83: =Beilage3!B5 -> 1 | C83: =Beilage3!C5 -> Peperoni rot | D83: =Beilage3!D5 -> 0
A84: =Beilage3!A6 -> 0.4 | B84: =Beilage3!B6 -> Prise | C84: =Beilage3!C6 -> Pfeffer | D84: =Beilage3!D6 -> 0
A85: =Beilage3!A7 -> 0.08 | B85: =Beilage3!B7 -> Kg | C85: =Beilage3!C7 -> Pouletgeschnetzeltes | D85: =Beilage3!D7 -> 0
A86: =Beilage3!A8 -> 0.4 | B86: =Beilage3!B8 -> Prise | C86: =Beilage3!C8 -> Salz | D86: =Beilage3!D8 -> 0
A87: =Beilage3!A9 -> 0.08 | B87: =Beilage3!B9 -> Kg | C87: =Beilage3!C9 -> Tomaten würfel | D87: =Beilage3!D9 -> 0
A88: =Beilage3!A10 -> 0.4 | B88: =Beilage3!B10 -> Stk | C88: =Beilage3!C10 -> Zwiebel klein | D88: =Beilage3!D10 -> 0
A89: =Beilage3!A11 -> 0.4 | B89: =Beilage3!B11 -> Prise | C89: =Beilage3!C11 -> Cayennepfeffer | D89: =Beilage3!D11 -> 0
A90: =Beilage3!A12 -> 0.8 | B90: =Beilage3!B12 -> EL | C90: =Beilage3!C12 -> Oel | D90: =Beilage3!D12 -> 0
A91: =Beilage3!A13 -> 0 | B91: =Beilage3!B13 -> 0 | C91: =Beilage3!C13 -> 0 | D91: =Beilage3!D13 -> 0
A92: =Beilage3!A14 -> 0 | B92: =Beilage3!B14 -> 0 | C92: =Beilage3!C14 -> 0 | D92: =Beilage3!D14 -> 0
A93: =Beilage3!A15 -> 0 | B93: =Beilage3!B15 -> 0 | C93: =Beilage3!C15 -> 0 | D93: =Beilage3!D15 -> 0
... A97: =Beilage3!A19 -> 0 | B97: =Beilage3!B19 -> 0 | C97: =Beilage3!C19 -> 0 | D97: =Beilage3!D19 -> 0
A98: =SUM(Beilage2!A38) -> 0 | B98: =Beilage2!B38 -> 0 | C98: =Beilage2!C38 -> 0 | D98: =Beilage2!D38 -> 0
A99: =Dessert!A2 -> Leche asada mit Mango | D99: Bemerkungen
A100: =SUM(Dessert!A4) -> 0.4 | B100: =Dessert!B4 -> Stk | C100: =Dessert!C4 -> Mango (klein gewürfelt) | D100: =Dessert!D4 -> 0
A101: =SUM(Dessert!A5) -> 0 | B101: =Dessert!B5 -> 0 | C101: =Dessert!C5 -> 0 | D101: =Dessert!D5 -> 0
A102: =SUM(Dessert!A6) -> 0.08 | B102: =Dessert!B6 -> Kg | C102: =Dessert!C6 -> Zucker weiss | D102: =Dessert!D6 -> 0
A103: =SUM(Dessert!A7) -> 0.12 | B103: =Dessert!B7 -> L | C103: =Dessert!C7 -> Rahm (Schlagrahm) | D103: =Dessert!D7 -> 0
A104: =SUM(Dessert!A8) -> 3.2 | B104: =Dessert!B8 -> Stk | C104: =Dessert!C8 -> Eier | D104: =Dessert!D8 -> 0
A105: =SUM(Dessert!A9) -> 0.04 | B105: =Dessert!B9 -> Kg | C105: =Dessert!C9 -> Zucker weiss | D105: =Dessert!D9 -> 0
A106: =SUM(Dessert!A10) -> 0.8 | B106: =Dessert!B10 -> Stk | C106: =Dessert!C10 -> Vanille Schote (ausgekratzt) | D106: =Dessert!D10 -> 0
A107: =SUM(Dessert!A11) -> 0 | B107: =Dessert!B11 -> 0 | C107: =Dessert!C11 -> 0 | D107: =Dessert!D11 -> 0
A108: =SUM(Dessert!A12) -> 0 | B108: =Dessert!B12 -> 0 | C108: =Dessert!C12 -> 0 | D108: =Dessert!D12 -> 0
A109: =SUM(Dessert!A13) -> 0 | B109: =Dessert!B13 -> 0 | C109: =Dessert!C13 -> 0 | D109: =Dessert!D13 -> 0
A110: =SUM(Dessert!A14) -> 0 | B110: =Dessert!B14 -> 0 | C110: =Dessert!C14 -> 0 | D110: =Dessert!D14 -> 0
A111: =SUM(Dessert!A15) -> 0 | B111: =Dessert!B15 -> 0 | C111: =Dessert!C15 -> 0 | D111: =Dessert!D15 -> 0
... A116: =SUM(Dessert!A20) -> 0 | B116: =Dessert!B20 -> 0 | C116: =Dessert!C20 -> 0 | D116: =Dessert!D20 -> 0
