Workbook

Sheet Menu
B1: Chile
A3: Datum | B3: 44637
A5: Apéro
A7: Salat | B7: Ensalada Chilena
A9: Suppe | B9: Chilenische Feuersuppe
A11: Hauptgang | B11: Gambas al Pil Pil
A12: Beilage1 | B12: Quinoa weiss
A13: Beilage2
A15: Dessert | B15: Chilenische Empolvados mit Dulce de Leche
A17: Diverses | B17: Brot nicht vergessen
A19: Menu von Tisch | B19: D
A21: Personenzahl | B21: 4

Sheet Salat
E1: Chochete vom | F1: =SUM(Menu!B3) -> 44637 | I1: Original Rezept
A2: =Menu!B7 -> Ensalada Chilena | E2: Rezept für | F2: =Menu!B21 -> 4 | I2: 6 | J2: Personen
A3: Menge | B3: Einheit | C3: Artikel (Gewicht alles ca. Angaben) | D3: Bemerkungen | E3: Einkaufspreis | F3: Betrag | I3: Originalrezept | J3: pro Person
A4: =ROUND(SUM(J4*$F$2),2) -> 2.67 | B4: Stk | C4: Tomaten | F4: =SUM(E4*A4) -> 0 | I4: 4 | J4: =I4/$I$2 -> 0.66666667
A5: =ROUND(SUM(J5*$F$2),2) -> 0.67 | B5: Stk | C5: Rote Zwiebel | F5: =SUM(E5*A5) -> 0 | I5: 1 | J5: =I5/$I$2 -> 0.16666667
A6: =ROUND(SUM(J6*$F$2),2) -> 0 | C6: Salz | D6: nach belieben | F6: =SUM(E6*A6) -> 0 | J6: =I6/$I$2 -> 0
A7: =ROUND(SUM(J7*$F$2),2) -> 0 | C7: Peffer | D7: nach belieben | F7: =SUM(E7*A7) -> 0 | J7: =I7/$I$2 -> 0
A8: =ROUND(SUM(J8*$F$2),2) -> 2 | B8: EL | C8: Pflanzenöl (kein Olivenöl) | F8: =SUM(E8*A8) -> 0 | I8: 3 | J8: =I8/$I$2 -> 0.5
A9: =ROUND(SUM(J9*$F$2),2) -> 0.67 | B9: Stk | C9: Zitronensaft | D9: nach belieben | F9: =SUM(E9*A9) -> 0 | I9: 1 | J9: =I9/$I$2 -> 0.16666667
A10: =ROUND(SUM(J10*$F$2),2) -> 0.67 | B10: Stk | C10: Koriandergrün | D10: nach belieben | E10: gehackt | I10: 1 | J10: =I10/$I$2 -> 0.16666667
A11: =ROUND(SUM(J11*$F$2),2) -> 0 | F11: =SUM(E11*A11) -> 0 | J11: =I11/$I$2 -> 0
A12: =ROUND(SUM(J12*$F$2),2) -> 0 | F12: =SUM(E12*A12) -> 0 | J12: =I12/$I$2 -> 0
A13: =ROUND(SUM(J13*$F$2),2) -> 0 | F13: =SUM(E13*A13) -> 0 | J13: =I13/$I$2 -> 0
A14: =ROUND(SUM(J14*$F$2),2) -> 0 | F14: =SUM(E14*A14) -> 0 | J14: =I14/$I$2 -> 0
A15: =ROUND(SUM(J15*$F$2),2) -> 0 | F15: =SUM(E15*A15) -> 0 | J15: =I15/$I$2 -> 0
A16: =ROUND(SUM(J16*$F$2),2) -> 0 | F16: =SUM(E16*A16) -> 0 | J16: =I16/$I$2 -> 0
A17: =ROUND(SUM(J17*$F$2),2) -> 0 | F17: =SUM(E17*A17) -> 0 | J17: =I17/$I$2 -> 0
A18: =ROUND(SUM(J18*$F$2),2) -> 0 | F18: =SUM(E18*A18) -> 0 | J18: =I18/$I$2 -> 0
A19: =ROUND(SUM(J19*$F$2),2) -> 0 | F19: =SUM(E19*A19) -> 0 | J19: =I19/$I$2 -> 0
A20: =ROUND(SUM(J20*$F$2),2) -> 0 | F20: =SUM(E20*A20) -> 0 | J20: =I20/$I$2 -> 0
A21: Zubereitung | C21: Chilenischer Salat von Vayacondas | Chefkoch
A22: Die Zwiebel in feine Ringe (oder Würfel) schneiden und eine Stunde in kaltes Wasser legen, danach gut abtropfen lassen. (Sedi Ich lege diese in den Zitrobnensaft ein...) Die Tomaten (wer möchte) kurz in kochendes Wasser tauchen und anschließend häuten. Es geht aber auch ohne Häuten, wenn die Tomaten schön reif sind. In feine Scheiben (oder Würfel) schneiden.
A24: Tomaten und Zwiebeln in eine Salatschüssel geben. Mit Salz, Pfeffer, Öl und Zitronensaft mischen. Die Korianderblätter untermischen und aufstreuen. 20 Minuten in den Kühlschrank stellen und dann servieren.
A26: Dieser Salat wird in Chile überall serviert und heißt deshalb "Ensalada Chilena". Geht als Vorspeise, passt aber im Sommer auch ganz besonders gut zu einem gegrillten Stück Fleisch.

Sheet Suppe
E1: Chochete vom | F1: =SUM(Menu!B3) -> 44637 | I1: Original Rezept
A2: =Menu!B9 -> Chilenische Feuersuppe | E2: Rezept für | F2: =SUM(Menu!B21) -> 4 | I2: 8 | J2: Personen
A3: Menge | B3: Einheit | C3: Artikel (Gewicht alles ca. Angaben) | D3: Bemerkungen | E3: Einkaufspreis | F3: Betrag | I3: Originalrezept | J3: pro Person
A4: =ROUND(SUM(J4*$F$2),2) -> 0.04 | B4: Kg | C4: Butter | F4: =SUM(E4*A4) -> 0 | I4: 0.08 | J4: =I4/$I$2 -> 0.01
A5: =ROUND(SUM(J5*$F$2),2) -> 0.05 | B5: Kg | C5: Tomatenmark | F5: =SUM(E5*A5) -> 0 | I5: 0.1 | J5: =I5/$I$2 -> 0.0125
A6: =ROUND(SUM(J6*$F$2),2) -> 0.5 | B6: Stk | C6: Zwiebel(n), gewürfelt, oder Frühlingszwiebeln | F6: =SUM(E6*A6) -> 0 | I6: 1 | J6: =I6/$I$2 -> 0.125
A7: =ROUND(SUM(J7*$F$2),2) -> 0.05 | B7: Kg | C7: Paprikaschote(n), rot | F7: =SUM(E7*A7) -> 0 | I7: 0.1 | J7: =I7/$I$2 -> 0.0125
A8: =ROUND(SUM(J8*$F$2),2) -> 0 | C8: Chilisauce | D8: nach belieben | F8: =SUM(E8*A8) -> 0 | J8: =I8/$I$2 -> 0
A9: =ROUND(SUM(J9*$F$2),2) -> 0.4 | B9: Lt | C9: Gemüsebrühe, Instant | F9: =SUM(E9*A9) -> 0 | I9: 0.8 | J9: =I9/$I$2 -> 0.1
A10: =ROUND(SUM(J10*$F$2),2) -> 0.2 | B10: Kg | C10: Rindshackfleisch | F10: =SUM(E10*A10) -> 0 | I10: 0.4 | J10: =I10/$I$2 -> 0.05
A11: =ROUND(SUM(J11*$F$2),2) -> 0.1 | B11: Kg | C11: Bohnen, rote (Dose) | F11: =SUM(E11*A11) -> 0 | I11: 0.2 | J11: =I11/$I$2 -> 0.025
A12: =ROUND(SUM(J12*$F$2),2) -> 0.05 | B12: Lt | C12: Rahm | F12: =SUM(E12*A12) -> 0 | I12: 0.1 | J12: =I12/$I$2 -> 0.0125
A13: =ROUND(SUM(J13*$F$2),2) -> 0 | C13: Kartoffelstärke | D13: zum binden | F13: =SUM(E13*A13) -> 0 | J13: =I13/$I$2 -> 0
A14: =ROUND(SUM(J14*$F$2),2) -> 0 | C14: Salz und Pfeffer | F14: =SUM(E14*A14) -> 0 | J14: =I14/$I$2 -> 0
A15: =ROUND(SUM(J15*$F$2),2) -> 0 | C15: Paprikapulver | D15: nach belieben | F15: =SUM(E15*A15) -> 0 | J15: =I15/$I$2 -> 0
A16: =ROUND(SUM(J16*$F$2),2) -> 0 | F16: =SUM(E16*A16) -> 0 | J16: =I16/$I$2 -> 0
A17: =ROUND(SUM(J17*$F$2),2) -> 0 | F17: =SUM(E17*A17) -> 0 | J17: =I17/$I$2 -> 0
A18: =ROUND(SUM(J18*$F$2),2) -> 0 | F18: =SUM(E18*A18) -> 0 | J18: =I18/$I$2 -> 0
A19: =ROUND(SUM(J19*$F$2),2) -> 0 | F19: =SUM(E19*A19) -> 0 | J19: =I19/$I$2 -> 0
A20: =ROUND(SUM(J20*$F$2),2) -> 0 | F20: =SUM(E20*A20) -> 0 | J20: =I20/$I$2 -> 0
A21: Zubereitung | C21: Chefkoch Rezept: Chilenische Feuersuppe von CrazyForce
A22: Die Margarine zusammen mit dem Tomatenmark und den Zwiebeln in einem Suppentopf dünsten. Die Paprikaschoten gewürfelt dazugeben und mit Paprikapulver würzen. Die Chilisauce und die Fleischbrühe zugeben und 15 Minuten kochen.
A24: In der Zwischenzeit das Hackfleisch anbraten und mit Salz und Pfeffer würzen. Die roten Bohnen (abgetropft und abgespült) kurz mit dem Fleisch mit braten und danach alles in die Suppe geben.
A25: Die Sahne jetzt mit Kartoffelmehl (oder Mehl) verrühren und dann in die Suppe rühren. Anschließend die Suppe 7 - 10 Minuten kochen lassen und mit Paprikapulver, Salz und Pfeffer abschmecken. Ich nehme immer noch ordentlich Chilipulver.

Sheet Hauptgang
E1: Chochete vom | F1: =SUM(Menu!B3) -> 44637 | I1: Original Rezept
A2: =Menu!B11 -> Gambas al Pil Pil | C2: Gambas al Pil Pil – Garnelen auf chilenische Art | E2: Rezept für | F2: =Menu!B21 -> 4 | I2: 4 | J2: Personen
A3: Menge | B3: Einheit | C3: Artikel (Gewicht alles ca. Angaben) | D3: Bemerkungen | E3: Einkaufspreis | F3: Betrag | I3: Originalrezept | J3: pro Person
A4: =ROUND(SUM(J4*$F$2),2) -> 0.6 | B4: Kg | C4: Garnelen TK (Crevetten) | F4: =SUM(E4*A4) -> 0 | I4: 0.6 | J4: =I4/$I$2 -> 0.15
A5: =ROUND(SUM(J5*$F$2),2) -> 1 | B5: St | C5: Chili rote (wenn zu bekommen „Cacho de Cabra“) | F5: =SUM(E5*A5) -> 0 | I5: 1 | J5: =I5/$I$2 -> 0.25
A6: =ROUND(SUM(J6*$F$2),2) -> 4 | B6: St | C6: Knoblauchzehen alternativ 2 TL Knoblauchpaste | I6: 4 | J6: =I6/$I$2 -> 1
A7: =ROUND(SUM(J7*$F$2),2) -> 0.1 | B7: Lt | C7: Olivenöl | I7: 0.1 | J7: =I7/$I$2 -> 0.025
A8: =ROUND(SUM(J8*$F$2),2) -> 0.2 | B8: Lt | C8: Weißwein | I8: 0.2 | J8: =I8/$I$2 -> 0.05
A9: =ROUND(SUM(J9*$F$2),2) -> 0.5 | B9: Bund | C9: Koriander | I9: 0.5 | J9: =I9/$I$2 -> 0.125
A10: =ROUND(SUM(J10*$F$2),2) -> 0 | C10: Salz | J10: =I10/$I$2 -> 0
A11: =ROUND(SUM(J11*$F$2),2) -> 0 | C11: Pfeffer | J11: =I11/$I$2 -> 0
A12: =ROUND(SUM(J12*$F$2),2) -> 0 | J12: =I12/$I$2 -> 0
A13: =ROUND(SUM(J13*$F$2),2) -> 0 | J13: =I13/$I$2 -> 0
A14: =ROUND(SUM(J14*$F$2),2) -> 0 | F14: =SUM(E14*A14) -> 0 | J14: =I14/$I$2 -> 0
A15: =ROUND(SUM(J15*$F$2),2) -> 0 | F15: =SUM(E15*A15) -> 0 | J15: =I15/$I$2 -> 0
A16: =ROUND(SUM(J16*$F$2),2) -> 0 | F16: =SUM(E16*A16) -> 0 | J16: =I16/$I$2 -> 0
A17: =ROUND(SUM(J17*$F$2),2) -> 0 | F17: =SUM(E17*A17) -> 0 | J17: =I17/$I$2 -> 0
A18: =ROUND(SUM(J18*$F$2),2) -> 0 | F18: =SUM(E18*A18) -> 0 | J18: =I18/$I$2 -> 0
A19: =ROUND(SUM(J19*$F$2),2) -> 0 | F19: =SUM(E19*A19) -> 0 | J19: =I19/$I$2 -> 0
A20: =ROUND(SUM(J20*$F$2),2) -> 0 | F20: =SUM(E20*A20) -> 0 | J20: =I20/$I$2 -> 0
A21: Zubereitung | C21: Gambas al Pil Pil - Garnelen auf chilenische Art - Zimt & Chili (zimtundchili.com)
A22: Die Garnelen auftauen lassen und trocken tupfen. Knoblauch pellen und fein hacken. Die Chili waschen, von den Kernen befreien und fein hacken. Den Koriander waschen, trocken schütteln und grob hacken
A24: Das Olivenöl bei niedriger Hitze in einer Pfanne erhitzen. Knoblauch in die Pfanne geben und kurz braten, nun die Garnelen dazugeben und mit dem Olivenöl und Knoblauch vermengen. Alles mit Salz und Pfeffer würzen und 2 Minuten braten.
A26: Chili, Koriander, eine Prise Salz, Weißwein und eine Prise Rosenpaprika zufügen und vermengen. Den Weißwein etwas einreduzieren lassen.
A27: Gambas al Pil Pil sind Garnelen in einer leckeren Knoblauch-Weißwein-Sauce mit Chili. Im Spanischen heißen sie auch Camarones al Pil Pil und sind nicht nur in Chile sondern auch in Spanien ein beliebtes Tapas-Gericht. Das Rezept für meine Garnelen auf chilenische Art kannst du in der Pfanne ganz schnell und einfach selber machen.
A29: Man kann anstatt Garnelen auch Hühnchen verwenden. Dafür das Hühnchen in Streifen schneiden.
A30: Hierzu schmecken Quinoa, Reis oder Kartoffeln. Auch Baguette ist lecker, damit kann man so schön die Sauce auftunken.

Sheet Beilage1
E1: Chochete vom | F1: =SUM(Menu!B3) -> 44637 | I1: Original Rezept
A2: =Menu!B12 -> Quinoa weiss | E2: Rezept für | F2: =SUM(Menu!B21) -> 4 | I2: 4 | J2: Personen
A3: Menge | B3: Einheit | C3: Artikel (Gewicht alles ca. Angaben) | D3: Bemerkungen | E3: Einkaufspreis | F3: Betrag | I3: Originalrezept | J3: pro Person
A4: =ROUND(SUM(J4*$F$2),2) -> 0.2 | B4: Kg | C4: Quinoa Max Hav Quinoa weiss von Migros) | F4: =SUM(E4*A4) -> 0 | I4: 0.2 | J4: =I4/$I$2 -> 0.05
A5: =ROUND(SUM(J5*$F$2),2) -> 0.4 | B5: Lt | C5: Wasser (Verhältnis 1:2) | F5: =SUM(E5*A5) -> 0 | I5: 0.4 | J5: =I5/$I$2 -> 0.1
A6: =ROUND(SUM(J6*$F$2),2) -> 0 | F6: =SUM(E6*A6) -> 0 | J6: =I6/$I$2 -> 0
A7: =ROUND(SUM(J7*$F$2),2) -> 0 | F7: =SUM(E7*A7) -> 0 | J7: =I7/$I$2 -> 0
A8: =ROUND(SUM(J8*$F$2),2) -> 0 | F8: =SUM(E8*A8) -> 0 | J8: =I8/$I$2 -> 0
A9: =ROUND(SUM(J9*$F$2),2) -> 0 | F9: =SUM(E9*A9) -> 0 | J9: =I9/$I$2 -> 0
A10: =ROUND(SUM(J10*$F$2),2) -> 0 | F10: =SUM(E10*A10) -> 0 | J10: =I10/$I$2 -> 0
A11: =ROUND(SUM(J11*$F$2),2) -> 0 | F11: =SUM(E11*A11) -> 0 | J11: =I11/$I$2 -> 0
A12: =ROUND(SUM(J12*$F$2),2) -> 0 | F12: =SUM(E12*A12) -> 0 | J12: =I12/$I$2 -> 0
A13: =ROUND(SUM(J13*$F$2),2) -> 0 | F13: =SUM(E13*A13) -> 0 | J13: =I13/$I$2 -> 0
A14: =ROUND(SUM(J14*$F$2),2) -> 0 | F14: =SUM(E14*A14) -> 0 | J14: =I14/$I$2 -> 0
A15: =ROUND(SUM(J15*$F$2),2) -> 0 | F15: =SUM(E15*A15) -> 0 | J15: =I15/$I$2 -> 0
A16: =ROUND(SUM(J16*$F$2),2) -> 0 | F16: =SUM(E16*A16) -> 0 | J16: =I16/$I$2 -> 0
A17: =ROUND(SUM(J17*$F$2),2) -> 0 | F17: =SUM(E17*A17) -> 0 | J17: =I17/$I$2 -> 0
... A20: =ROUND(SUM(J20*$F$2),2) -> 0 | F20: =SUM(E20*A20) -> 0 | J20: =I20/$I$2 -> 0
A21: Zubereitung
A22: Quinoa mit heißem Wasser ordentlich waschen, damit der bittere Geschmack entfernt wird. Danach mit Wasser und Gewürzen nach Wunsch (zum Beispiel Chili oder Kreuzkümmel) zustellen.
A24: Zum kochen bringen und zugedeckt ca. 10 Minuten leicht köcheln, Herdplatte abschalten und ca. 15 Minuten ausquellen lassen. Wenn möglich in eine Decke packen, damit der Quinoa noch luftiger wird. Fertig!
A26: Das fertig gekochte Quinoa kann hervorragend als Beilage statt Reis gereicht werden.
A29: Quinoa eignet sich gut für Gemüsepfannen, Getreidesalat und zum Füllen und Binden von Gemüse- oder Fleischstrudel.

Sheet Beilage2
E1: Chochete vom | F1: =SUM(Menu!B3) -> 44637 | I1: Original Rezept
A2: =Menu!B13 -> 0 | E2: Rezept für | F2: =SUM(Menu!B21) -> 4 | J2: Personen | L2: Menu Angaben wie folgt machen:
A3: Menge | B3: Einheit | C3: Artikel (Gewicht alles ca. Angaben) | D3: Bemerkungen | E3: Einkaufspreis | F3: Betrag | I3: Originalrezept | J3: pro Person
A4: =ROUND(SUM(J4*$F$2),2) -> #DIV/0! | F4: =SUM(E4*A4) -> #DIV/0! | J4: =I4/$I$2 -> #DIV/0! | L4: Kg | M4: 0.25
A5: =ROUND(SUM(J5*$F$2),2) -> #DIV/0! | F5: =SUM(E5*A5) -> #DIV/0! | J5: =I5/$I$2 -> #DIV/0! | L5: Lt | M5: 1.25
A6: =ROUND(SUM(J6*$F$2),2) -> #DIV/0! | F6: =SUM(E6*A6) -> #DIV/0! | J6: =I6/$I$2 -> #DIV/0! | L6: EL | M6: Esslöffel
A7: =ROUND(SUM(J7*$F$2),2) -> #DIV/0! | F7: =SUM(E7*A7) -> #DIV/0! | J7: =I7/$I$2 -> #DIV/0! | L7: TL | M7: Kaffeelöffel
A8: =ROUND(SUM(J8*$F$2),2) -> #DIV/0! | F8: =SUM(E8*A8) -> #DIV/0! | J8: =I8/$I$2 -> #DIV/0! | L8: Bund | M8: 1
A9: =ROUND(SUM(J9*$F$2),2) -> #DIV/0! | F9: =SUM(E9*A9) -> #DIV/0! | J9: =I9/$I$2 -> #DIV/0! | L9: Stk | M9: Stück
A10: =ROUND(SUM(J10*$F$2),2) -> #DIV/0! | F10: =SUM(E10*A10) -> #DIV/0! | J10: =I10/$I$2 -> #DIV/0! | L10: Pä | M10: Päckli
A11: =ROUND(SUM(J11*$F$2),2) -> #DIV/0! | F11: =SUM(E11*A11) -> #DIV/0! | J11: =I11/$I$2 -> #DIV/0! | L11: alles weitere ausschreiben
A12: =ROUND(SUM(J12*$F$2),2) -> #DIV/0! | F12: =SUM(E12*A12) -> #DIV/0! | J12: =I12/$I$2 -> #DIV/0!
A13: =ROUND(SUM(J13*$F$2),2) -> #DIV/0! | F13: =SUM(E13*A13) -> #DIV/0! | J13: =I13/$I$2 -> #DIV/0!
A14: =ROUND(SUM(J14*$F$2),2) -> #DIV/0! | F14: =SUM(E14*A14) -> #DIV/0! | J14: =I14/$I$2 -> #DIV/0!
A15: =ROUND(SUM(J15*$F$2),2) -> #DIV/0! | F15: =SUM(E15*A15) -> #DIV/0! | J15: =I15/$I$2 -> #DIV/0!
A16: =ROUND(SUM(J16*$F$2),2) -> #DIV/0! | F16: =SUM(E16*A16) -> #DIV/0! | J16: =I16/$I$2 -> #DIV/0!
A17: =ROUND(SUM(J17*$F$2),2) -> #DIV/0! | F17: =SUM(E17*A17) -> #DIV/0! | J17: =I17/$I$2 -> #DIV/0!
A18: =ROUND(SUM(J18*$F$2),2) -> #DIV/0! | F18: =SUM(E18*A18) -> #DIV/0! | J18: =I18/$I$2 -> #DIV/0!
A19: =ROUND(SUM(J19*$F$2),2) -> #DIV/0! | F19: =SUM(E19*A19) -> #DIV/0! | J19: =I19/$I$2 -> #DIV/0!
A20: =ROUND(SUM(J20*$F$2),2) -> #DIV/0! | F20: =SUM(E20*A20) -> #DIV/0! | J20: =I20/$I$2 -> #DIV/0!
A21: Zubereitung

Sheet Dessert
E1: Chochete vom | F1: =SUM(Menu!B3) -> 44637 | I1: Original Rezept
A2: =Menu!B15 -> Chilenische Empolvados mit Dulce de Leche | E2: Rezept für | F2: =SUM(Menu!B21) -> 4 | I2: 8 | J2: Personen
A3: Menge | B3: Einheit | C3: Artikel (Gewicht alles ca. Angaben) | D3: Bemerkungen | E3: Einkaufspreis | F3: Betrag | I3: Originalrezept | J3: pro Person
A4: =ROUND(SUM(J4*$F$2),2) -> 3 | B4: Stk | C4: Eier | F4: =SUM(E4*A4) -> 0 | I4: 6 | J4: =I4/$I$2 -> 0.75
A5: =ROUND(SUM(J5*$F$2),2) -> 3 | B5: EL | C5: Zucker | F5: =SUM(E5*A5) -> 0 | I5: 6 | J5: =I5/$I$2 -> 0.75
A6: =ROUND(SUM(J6*$F$2),2) -> 2 | B6: EL | C6: Mehl | F6: =SUM(E6*A6) -> 0 | I6: 4 | J6: =I6/$I$2 -> 0.5
A7: =ROUND(SUM(J7*$F$2),2) -> 1.5 | B7: EL | C7: Kartoffelstärke | F7: =SUM(E7*A7) -> 0 | I7: 3 | J7: =I7/$I$2 -> 0.375
A8: =ROUND(SUM(J8*$F$2),2) -> 1 | B8: TL | C8: Backpulver | F8: =SUM(E8*A8) -> 0 | I8: 2 | J8: =I8/$I$2 -> 0.25
A9: =ROUND(SUM(J9*$F$2),2) -> 0 | C9: Puderzucker zum Bestäuben | F9: =SUM(E9*A9) -> 0 | J9: =I9/$I$2 -> 0
A10: =ROUND(SUM(J10*$F$2),2) -> 0.5 | B10: Dose | C10: Kondesmilch, gesüßt (z. B. Milchmädchen) | F10: =SUM(E10*A10) -> 0 | I10: 1 | J10: =I10/$I$2 -> 0.125
A11: =ROUND(SUM(J11*$F$2),2) -> 0 | J11: =I11/$I$2 -> 0
A12: =ROUND(SUM(J12*$F$2),2) -> 0 | F12: =SUM(E12*A12) -> 0 | J12: =I12/$I$2 -> 0
A13: =ROUND(SUM(J13*$F$2),2) -> 0 | F13: =SUM(E13*A13) -> 0 | J13: =I13/$I$2 -> 0
A14: =ROUND(SUM(J14*$F$2),2) -> 0 | F14: =SUM(E14*A14) -> 0 | J14: =I14/$I$2 -> 0
A15: =ROUND(SUM(J15*$F$2),2) -> 0 | F15: =SUM(E15*A15) -> 0 | J15: =I15/$I$2 -> 0
A16: =ROUND(SUM(J16*$F$2),2) -> 0 | F16: =SUM(E16*A16) -> 0 | J16: =I16/$I$2 -> 0
A17: =ROUND(SUM(J17*$F$2),2) -> 0 | F17: =SUM(E17*A17) -> 0 | J17: =I17/$I$2 -> 0
A18: =ROUND(SUM(J18*$F$2),2) -> 0 | F18: =SUM(E18*A18) -> 0 | J18: =I18/$I$2 -> 0
A19: Zubereitung | C19: Chilenische Empolvados mit Dulce de Leche (kuechenmomente.de)
A20: 1. Die Dose Kondensmilch in einen Topf mit kochendem Wasser geben und ca. 2 Stunden köcheln lassen. Dabei immer darauf achten, dass die Dose komplett mit Wasser bedeckt ist! Anschließend die Dose aus dem Wasser nehmen und abkühlen lassen. Das kann man auch am Vortag schon machen. Je länger ihr die Dose köcheln lasst, je dicker und dunkler wird die Karamellmasse.
A23: 2. Den Backofen auf 180 ° C Ober-/Unterhitze vorheizen.
A24: 3. 2 Backbleche mit Backpapier auslegen.
A25: 4. Die Eier trennen. Das Eiweiß zu Eischnee schlagen, dabei den Zucker einrieseln lassen. Der Eischnee sollte richtig schön glänzen (dauert ca. 5 Minuten).
A26: 5. Die Eigelbe mit einer Gabel kurz aufschlagen, zum Eischnee geben und kurz unterrühren
A27: 6. Mehl, Kartoffelstärke und Backpulver mischen und auf die Eimasse sieben. Mit einem Kuchenspatel vorsichtig unterheben.
A28: 7. Die Masse in einen Spritzbeutel mit Lochtülle füllen und mit Abstand möglichst gleichgroße Tupfen aufspritzen (ca. 4-5 cm Ø)
A29: 8. Für ca. 10-12 Minuten backen, bis sie goldbraun sind
A30: 9. Nach dem Backen auf einem Kuchengitter abkühlen lassen.
A31: 10. Anschließend immer ein Gebäck auf der Backfläche mit Karamellcreme bestreichen und ein weiteres mit der Backfläche aufsetzen.
A32: 11. Nun noch die Empolvados mit Puderzucker bestäuben oder darin Wälzen.
A33: 12. Die restliche Karamellcreme hält sich in einem Glas mit Schraubverschluss für ca. 14 Tage im Kühlschrank und lässt sich super für Cupcakes, Torten o.ä. verwenden

Sheet Diverses
E1: Chochete vom | F1: =SUM(Menu!B3) -> 44637 | I1: Original Rezept
A2: =Menu!B17 -> Brot nicht vergessen | E2: Rezept für | F2: =SUM(Menu!B21) -> 4 | J2: Personen
A3: Menge | B3: Einheit | C3: Artikel (Gewicht alles ca. Angaben) | D3: Bemerkungen | E3: Einkaufspreis | F3: Betrag | I3: Originalrezept | J3: pro Person
A4: =ROUND(SUM(J4*$F$2),2) -> #DIV/0! | F4: =SUM(E4*A4) -> #DIV/0! | J4: =I4/$I$2 -> #DIV/0!
A5: =ROUND(SUM(J5*$F$2),2) -> #DIV/0! | F5: =SUM(E5*A5) -> #DIV/0! | J5: =I5/$I$2 -> #DIV/0!
A6: =ROUND(SUM(J6*$F$2),2) -> #DIV/0! | F6: =SUM(E6*A6) -> #DIV/0! | J6: =I6/$I$2 -> #DIV/0!
A7: =ROUND(SUM(J7*$F$2),2) -> #DIV/0! | F7: =SUM(E7*A7) -> #DIV/0! | J7: =I7/$I$2 -> #DIV/0!
A8: =ROUND(SUM(J8*$F$2),2) -> #DIV/0! | F8: =SUM(E8*A8) -> #DIV/0! | J8: =I8/$I$2 -> #DIV/0!
A9: =ROUND(SUM(J9*$F$2),2) -> #DIV/0! | F9: =SUM(E9*A9) -> #DIV/0! | J9: =I9/$I$2 -> #DIV/0!
A10: =ROUND(SUM(J10*$F$2),2) -> #DIV/0! | F10: =SUM(E10*A10) -> #DIV/0! | J10: =I10/$I$2 -> #DIV/0!
A11: =ROUND(SUM(J11*$F$2),2) -> #DIV/0! | F11: =SUM(E11*A11) -> #DIV/0! | J11: =I11/$I$2 -> #DIV/0!
A12: =ROUND(SUM(J12*$F$2),2) -> #DIV/0! | F12: =SUM(E12*A12) -> #DIV/0! | J12: =I12/$I$2 -> #DIV/0!
A13: =ROUND(SUM(J13*$F$2),2) -> #DIV/0! | F13: =SUM(E13*A13) -> #DIV/0! | J13: =I13/$I$2 -> #DIV/0!
A14: =ROUND(SUM(J14*$F$2),2) -> #DIV/0! | F14: =SUM(E14*A14) -> #DIV/0! | J14: =I14/$I$2 -> #DIV/0!
A15: =ROUND(SUM(J15*$F$2),2) -> #DIV/0! | F15: =SUM(E15*A15) -> #DIV/0! | J15: =I15/$I$2 -> #DIV/0!
... A20: =ROUND(SUM(J20*$F$2),2) -> #DIV/0! | F20: =SUM(E20*A20) -> #DIV/0! | J20: =I20/$I$2 -> #DIV/0!
A21: Zubereitung

Sheet Einkaufsliste
A1: Hobby-Küche Zug | C1: Einkaufsliste | D1: =Dessert!F1 -> 44637 | E1: ok
A2: Menge | B2: Einheit | C2: Artikel
A3: =Salat!A2 -> Ensalada Chilena | D3: Bemerkungen
A4: =SUM(Salat!A4) -> 2.67 | B4: =Salat!B4 -> Stk | C4: =Salat!C4 -> Tomaten | D4: =Salat!D4 -> 0
A5: =SUM(Salat!A5) -> 0.67 | B5: =Salat!B5 -> Stk | C5: =Salat!C5 -> Rote Zwiebel | D5: =Salat!D5 -> 0
A6: =SUM(Salat!A8) -> 2 | B6: =Salat!B8 -> EL | C6: =Salat!C8 -> Pflanzenöl (kein Olivenöl) | D6: =Salat!D8 -> 0
A7: =SUM(Salat!A9) -> 0.67 | B7: =Salat!B9 -> Stk | C7: =Salat!C9 -> Zitronensaft | D7: =Salat!D9 -> nach belieben
A8: =SUM(Salat!A10) -> 0.67 | B8: =Salat!B10 -> Stk | C8: =Salat!C10 -> Koriandergrün | D8: =Salat!D10 -> nach belieben
A9: =Suppe!A2 -> Chilenische Feuersuppe | D9: Bemerkungen
A10: =SUM(Suppe!A4) -> 0.04 | B10: =Suppe!B4 -> Kg | C10: =Suppe!C4 -> Butter | D10: =Suppe!D4 -> 0
A11: =SUM(Suppe!A5) -> 0.05 | B11: =Suppe!B5 -> Kg | C11: =Suppe!C5 -> Tomatenmark | D11: =Suppe!D5 -> 0
A12: =SUM(Suppe!A6) -> 0.5 | B12: =Suppe!B6 -> Stk | C12: =Suppe!C6 -> Zwiebel(n), gewürfelt, oder Frühlingszwiebeln | D12: =Suppe!D6 -> 0
A13: =SUM(Suppe!A7) -> 0.05 | B13: =Suppe!B7 -> Kg | C13: =Suppe!C7 -> Paprikaschote(n), rot | D13: =Suppe!D7 -> 0
A14: =SUM(Suppe!A8) -> 0 | B14: =Suppe!B8 -> 0 | C14: =Suppe!C8 -> Chilisauce | D14: =Suppe!E7 -> 0
A15: =SUM(Suppe!A9) -> 0.4 | B15: =Suppe!B9 -> Lt | C15: =Suppe!C9 -> Gemüsebrühe, Instant | D15: =Suppe!E8 -> 0
A16: =SUM(Suppe!A10) -> 0.2 | B16: =Suppe!B10 -> Kg | C16: =Suppe!C10 -> Rindshackfleisch | D16: =Suppe!E9 -> 0
A17: =SUM(Suppe!A11) -> 0.1 | B17: =Suppe!B11 -> Kg | C17: =Suppe!C11 -> Bohnen, rote (Dose) | D17: =Suppe!E10 -> 0
A18: =SUM(Suppe!A12) -> 0.05 | B18: =Suppe!B12 -> Lt | C18: =Suppe!C12 -> Rahm | D18: =Suppe!E11 -> 0
A19: =SUM(Suppe!A13) -> 0 | B19: =Suppe!B13 -> 0 | C19: =Suppe!C13 -> Kartoffelstärke | D19: =Suppe!E12 -> 0
A20: =Hauptgang!A2 -> Gambas al Pil Pil | D20: Bemerkungen
A21: =SUM(Hauptgang!A4) -> 0.6 | B21: =Hauptgang!B4 -> Kg | C21: =Hauptgang!C4 -> Garnelen TK (Crevetten) | D21: =Hauptgang!D4 -> 0
A22: =SUM(Hauptgang!A5) -> 1 | B22: =Hauptgang!B5 -> St | C22: =Hauptgang!C5 -> Chili rote (wenn zu bekommen „Cacho de Cabra“) | D22: =Hauptgang!D5 -> 0
A23: =SUM(Hauptgang!A6) -> 4 | B23: =Hauptgang!B6 -> St | C23: =Hauptgang!C6 -> Knoblauchzehen alternativ 2 TL Knoblauchpaste | D23: =Hauptgang!D6 -> 0
A24: =SUM(Hauptgang!A7) -> 0.1 | B24: =Hauptgang!B7 -> Lt | C24: =Hauptgang!C7 -> Olivenöl | D24: =Hauptgang!D7 -> 0
A25: =SUM(Hauptgang!A8) -> 0.2 | B25: =Hauptgang!B8 -> Lt | C25: =Hauptgang!C8 -> Weißwein | D25: =Hauptgang!D8 -> 0
A26: =SUM(Hauptgang!A9) -> 0.5 | B26: =Hauptgang!B9 -> Bund | C26: =Hauptgang!C9 -> Koriander | D26: =Hauptgang!D9 -> 0
A27: =Beilage1!A2 -> Quinoa weiss | D27: Bemerkungen
A28: =Beilage1!A4 -> 0.2 | B28: =Beilage1!B4 -> Kg | C28: =Beilage1!C4 -> Quinoa Max Hav Quinoa weiss von Migros) | D28: =Beilage1!F4 -> 0
A29: =Dessert!A2 -> Chilenische Empolvados mit Dulce de Leche | D29: Bemerkungen
A30: =SUM(Dessert!A4) -> 3 | B30: =Dessert!B4 -> Stk | C30: =Dessert!C4 -> Eier | D30: =Dessert!D4 -> 0
A31: =SUM(Dessert!A5) -> 3 | B31: =Dessert!B5 -> EL | C31: =Dessert!C5 -> Zucker | D31: =Dessert!D5 -> 0
A32: =SUM(Dessert!A6) -> 2 | B32: =Dessert!B6 -> EL | C32: =Dessert!C6 -> Mehl | D32: =Dessert!D6 -> 0
A33: =SUM(Dessert!A7) -> 1.5 | B33: =Dessert!B7 -> EL | C33: =Dessert!C7 -> Kartoffelstärke | D33: =Dessert!D7 -> 0
A34: =SUM(Dessert!A8) -> 1 | B34: =Dessert!B8 -> TL | C34: =Dessert!C8 -> Backpulver | D34: =Dessert!D8 -> 0
A35: =SUM(Dessert!A9) -> 0 | B35: =Dessert!B9 -> 0 | C35: =Dessert!C9 -> Puderzucker zum Bestäuben | D35: =Dessert!D9 -> 0
A36: =SUM(Dessert!A10) -> 0.5 | B36: =Dessert!B10 -> Dose | C36: =Dessert!C10 -> Kondesmilch, gesüßt (z. B. Milchmädchen) | D36: =Dessert!D10 -> 0
A37: =SUM(Dessert!A25) -> 0 | B37: =Dessert!B25 -> 0 | C37: =Dessert!C25 -> 0
A38: =SUM(Dessert!A26) -> 0 | B38: =Dessert!B26 -> 0 | C38: =Dessert!C26 -> 0
A39: =SUM(Dessert!A27) -> 0 | B39: =Dessert!B27 -> 0 | C39: =Dessert!C27 -> 0
A40: =SUM(Dessert!A28) -> 0 | B40: =Dessert!B28 -> 0 | C40: =Dessert!C28 -> 0
A41: =SUM(Dessert!A29) -> 0 | B41: =Dessert!B29 -> 0 | C41: =Dessert!C29 -> 0
A42: =SUM(Dessert!A30) -> 0 | B42: =Dessert!B30 -> 0 | C42: =Dessert!C30 -> 0

Sheet PoschtilisteJP
A1: =SUM(Dessert!A8) -> 1 | B1: 1 | C1: Päckli | D1: =Dessert!C8 -> Backpulver
A2: =SUM(Dessert!A4) -> 3 | B2: 12 | C2: =Dessert!B4 -> Stk | D2: =Dessert!C4 -> Eier
A3: =SUM(Dessert!A7) -> 1.5 | B3: 1 | C3: Päckli | D3: =Dessert!C7 -> Kartoffelstärke | E3: und für Suppe
A4: =SUM(Dessert!A10) -> 0.5 | B4: 2 | C4: =Dessert!B10 -> Dose | D4: =Dessert!C10 -> Kondesmilch, gesüßt (z. B. Milchmädchen) | E4: Dessert
A5: =SUM(Dessert!A6) -> 2 | B5: 0.5 | C5: Kg | D5: =Dessert!C6 -> Mehl
A6: 1 | B6: 1 | C6: Dose | D6: =Dessert!C9 -> Puderzucker zum Bestäuben
A7: =SUM(Dessert!A5) -> 3 | B7: 1 | C7: Kg | D7: =Dessert!C5 -> Zucker
A8: =SUM(Suppe!A11) -> 0.1 | B8: 4 | C8: Dosen | D8: =Suppe!C11 -> Bohnen, rote (Dose)
A9: =SUM(Suppe!A4) -> 0.04 | B9: 4 | C9: x100 gr | D9: =Suppe!C4 -> Butter
A10: =SUM(Hauptgang!A5) -> 1 | B10: 4 | C10: =Hauptgang!B5 -> St | D10: =Hauptgang!C5 -> Chili rote (wenn zu bekommen „Cacho de Cabra“)
A11: =SUM(Hauptgang!A4) -> 0.6 | B11: 4 | C11: Päckli | D11: =Hauptgang!C4 -> Garnelen TK (Crevetten)
A12: =SUM(Suppe!A9) -> 0.4 | B12: 4 | C12: Päckli | D12: =Suppe!C9 -> Gemüsebrühe, Instant
B13: 4 | C13: =Salat!B5 -> Stk | D13: =Salat!C5 -> Rote Zwiebel
A14: =SUM(Salat!A6) -> 0 | B14: 4 | C14: Stk | D14: Zwiebel
A15: =SUM(Hauptgang!A6) -> 4 | B15: 4 | C15: =Hauptgang!B6 -> St | D15: =Hauptgang!C6 -> Knoblauchzehen alternativ 2 TL Knoblauchpaste
A16: =SUM(Hauptgang!A9) -> 0.5 | B16: 4 | C16: =Hauptgang!B9 -> Bund | D16: =Hauptgang!C9 -> Koriander
A17: =SUM(Salat!A10) -> 0.67 | B17: 4 | C17: Bund | D17: Peterli
A18: =SUM(Suppe!A7) -> 0.05 | B18: 4 | C18: Stk | D18: =Suppe!C7 -> Paprikaschote(n), rot
A19: =SUM(Suppe!A12) -> 0.05 | B19: 4 | C19: x 125 dl | D19: =Suppe!C12 -> Rahm
A20: =SUM(Suppe!A10) -> 0.2 | B20: 4 | C20: x 200 gr | D20: =Suppe!C10 -> Rindshackfleisch
A21: =SUM(Salat!A4) -> 2.67 | B21: 4 | C21: x 3 Stk | D21: =Salat!C4 -> Tomaten
A22: =SUM(Hauptgang!A8) -> 0.2 | C22: =Hauptgang!B8 -> Lt | D22: =Hauptgang!C8 -> Weißwein
A23: =SUM(Suppe!A6) -> 0.5 | B23: 4 | C23: =Suppe!B6 -> Stk | D23: =Suppe!C6 -> Zwiebel(n), gewürfelt, oder Frühlingszwiebeln
A24: 4 | B24: 4 | C24: Stk | D24: Parisette
A26: =SUM(Salat!A9) -> 0.67 | B26: 1 | C26: Fl | D26: =Salat!C9 -> Zitronensaft | E26: für alle
A27: =SUM(Suppe!A5) -> 0.05 | B27: 1 | C27: Tube | D27: =Suppe!C5 -> Tomatenmark | E27: für alle
A28: =SUM(Salat!A8) -> 2 | B28: 1 | C28: Lt | D28: =Salat!C8 -> Pflanzenöl (kein Olivenöl) | E28: für alle
A29: =SUM(Hauptgang!A7) -> 0.1 | B29: 1 | C29: =Hauptgang!B7 -> Lt | D29: =Hauptgang!C7 -> Olivenöl | E29: für alle
A30: =SUM(Suppe!A8) -> 0 | B30: 1 | C30: Fl | D30: =Suppe!C8 -> Chilisauce | E30: für alle
A31: =Beilage1!A4 -> 0.2 | B31: 2 | C31: Päckli | D31: =Beilage1!C4 -> Quinoa Max Hav Quinoa weiss von Migros) | E31: teilen
