Workbook

Sheet Menu
A3: Datum | B3: 43727
A5: Vorspeise 1 | B5: frisches Baguette mit fertigen Aufstrichen
A7: Vorspeise 2 | B7: frische Feigen im Speckmantel
A9: Zwischengang | B9: Pasta del'Arrabiata
A11: Hauptgang | B11: Straussenfilet
A12: Beilage1 | B12: Rotweinschalotten
A13: Beilage2 | B13: Rosmarinkartoffeln
A15: Dessert | B15: Kiwi Eis
A17: Diverses | B17: Motto "die sieben Todsünden"
A19: Menu von Tisch | B19: Tisch B
A21: Personenzahl | B21: 12

Sheet Vorspeise
C1: Vorspeise "Faulheit" | E1: Chochete vom | F1: =SUM(Menu!B3) -> 43727 | I1: Original Rezept
A2: =Menu!B5 -> frisches Baguette mit fertigen Aufstrichen | E2: Rezept für | F2: =Menu!B21 -> 12 | I2: 4 | J2: Personen | L2: Menu Angaben wie folgt machen:
A3: Menge | B3: Einheit | C3: Artikel (Gewicht alles ca. Angaben) | D3: Bemerkungen | E3: Einkaufspreis | F3: Betrag | I3: Originalrezept | J3: pro Person
A4: =ROUND(SUM(J4*$F$2),2) -> 6 | C4: Baguette | F4: =SUM(E4*A4) -> 0 | I4: 2 | J4: =I4/$I$2 -> 0.5 | L4: Kg | M4: 0.25
A5: =ROUND(SUM(J5*$F$2),2) -> 0 | C5: Aufstriche | F5: =SUM(E5*A5) -> 0 | J5: =I5/$I$2 -> 0 | L5: Lt | M5: 1.25
A6: =ROUND(SUM(J6*$F$2),2) -> 0 | F6: =SUM(E6*A6) -> 0 | J6: =I6/$I$2 -> 0 | L6: EL | M6: Esslöffel
A7: =ROUND(SUM(J7*$F$2),2) -> 0 | F7: =SUM(E7*A7) -> 0 | J7: =I7/$I$2 -> 0 | L7: TL | M7: Kaffeelöffel
A8: =ROUND(SUM(J8*$F$2),2) -> 0 | F8: =SUM(E8*A8) -> 0 | J8: =I8/$I$2 -> 0 | L8: Bund | M8: 1
A9: =ROUND(SUM(J9*$F$2),2) -> 0 | F9: =SUM(E9*A9) -> 0 | J9: =I9/$I$2 -> 0 | L9: Stk | M9: Stück
A10: =ROUND(SUM(J10*$F$2),2) -> 0 | F10: =SUM(E10*A10) -> 0 | J10: =I10/$I$2 -> 0 | L10: Pä | M10: Päckli
A11: =ROUND(SUM(J11*$F$2),2) -> 0 | F11: =SUM(E11*A11) -> 0 | J11: =I11/$I$2 -> 0 | L11: alles weitere ausschreiben
A12: =ROUND(SUM(J12*$F$2),2) -> 0 | F12: =SUM(E12*A12) -> 0 | J12: =I12/$I$2 -> 0
A13: =ROUND(SUM(J13*$F$2),2) -> 0 | F13: =SUM(E13*A13) -> 0 | J13: =I13/$I$2 -> 0
A14: =ROUND(SUM(J14*$F$2),2) -> 0 | F14: =SUM(E14*A14) -> 0 | J14: =I14/$I$2 -> 0
A15: =ROUND(SUM(J15*$F$2),2) -> 0 | F15: =SUM(E15*A15) -> 0 | J15: =I15/$I$2 -> 0
A16: =ROUND(SUM(J16*$F$2),2) -> 0 | F16: =SUM(E16*A16) -> 0 | J16: =I16/$I$2 -> 0
A17: =ROUND(SUM(J17*$F$2),2) -> 0 | F17: =SUM(E17*A17) -> 0 | J17: =I17/$I$2 -> 0
A18: =ROUND(SUM(J18*$F$2),2) -> 0 | F18: =SUM(E18*A18) -> 0 | J18: =I18/$I$2 -> 0
A19: =ROUND(SUM(J19*$F$2),2) -> 0 | F19: =SUM(E19*A19) -> 0 | J19: =I19/$I$2 -> 0
A20: =ROUND(SUM(J20*$F$2),2) -> 0 | F20: =SUM(E20*A20) -> 0 | J20: =I20/$I$2 -> 0
A21: Zubereitung

Sheet Zwischengang
C1: Zwischengang "Zorn" | E1: Chochete vom | F1: =SUM(Menu!B3) -> 43727 | I1: Original Rezept
A2: =Menu!B9 -> Pasta del'Arrabiata | E2: Rezept für | F2: =SUM(Menu!B21) -> 12 | I2: 4 | J2: Personen | L2: Menu Angaben wie folgt machen:
A3: Menge | B3: Einheit | C3: Artikel (Gewicht alles ca. Angaben) | D3: Bemerkungen | E3: Einkaufspreis | F3: Betrag | I3: Originalrezept | J3: pro Person
A4: =ROUND(SUM(J4*$F$2),2) -> 0.96 | B4: kg | C4: Penne Rigate | F4: =SUM(E4*A4) -> 0 | I4: 0.32 | J4: =I4/$I$2 -> 0.08 | L4: Kg | M4: 0.25
A5: =ROUND(SUM(J5*$F$2),2) -> 6 | B5: EL | C5: Olivenöl | F5: =SUM(E5*A5) -> 0 | I5: 2 | J5: =I5/$I$2 -> 0.5 | L5: Lt | M5: 1.25
A6: =ROUND(SUM(J6*$F$2),2) -> 6 | B6: Stk | C6: Knoblauchzehen | F6: =SUM(E6*A6) -> 0 | I6: 2 | J6: =I6/$I$2 -> 0.5 | L6: EL | M6: Esslöffel
A7: =ROUND(SUM(J7*$F$2),2) -> 1.2 | B7: kg | C7: Pelati Tomaten | F7: =SUM(E7*A7) -> 0 | I7: 0.4 | J7: =I7/$I$2 -> 0.1 | L7: TL | M7: Kaffeelöffel
A8: =ROUND(SUM(J8*$F$2),2) -> 3 | B8: Stk | C8: Chiischote | F8: =SUM(E8*A8) -> 0 | I8: 1 | J8: =I8/$I$2 -> 0.25 | L8: Bund | M8: 1
A9: =ROUND(SUM(J9*$F$2),2) -> 3 | B9: Bund | C9: Petersilie | F9: =SUM(E9*A9) -> 0 | I9: 1 | J9: =I9/$I$2 -> 0.25 | L9: Stk | M9: Stück
A10: =ROUND(SUM(J10*$F$2),2) -> 0.24 | B10: kg | C10: Pecorino | F10: =SUM(E10*A10) -> 0 | I10: 0.08 | J10: =I10/$I$2 -> 0.02 | L10: Pä | M10: Päckli
A11: =ROUND(SUM(J11*$F$2),2) -> 0 | C11: Salz | F11: =SUM(E11*A11) -> 0 | J11: =I11/$I$2 -> 0 | L11: alles weitere ausschreiben
A12: =ROUND(SUM(J12*$F$2),2) -> 0 | F12: =SUM(E12*A12) -> 0 | J12: =I12/$I$2 -> 0
A13: =ROUND(SUM(J13*$F$2),2) -> 0 | F13: =SUM(E13*A13) -> 0 | J13: =I13/$I$2 -> 0
A14: =ROUND(SUM(J14*$F$2),2) -> 0 | F14: =SUM(E14*A14) -> 0 | J14: =I14/$I$2 -> 0
A15: =ROUND(SUM(J15*$F$2),2) -> 0 | F15: =SUM(E15*A15) -> 0 | J15: =I15/$I$2 -> 0
A16: =ROUND(SUM(J16*$F$2),2) -> 0 | F16: =SUM(E16*A16) -> 0 | J16: =I16/$I$2 -> 0
A17: =ROUND(SUM(J17*$F$2),2) -> 0 | F17: =SUM(E17*A17) -> 0 | J17: =I17/$I$2 -> 0
A18: =ROUND(SUM(J18*$F$2),2) -> 0 | F18: =SUM(E18*A18) -> 0 | J18: =I18/$I$2 -> 0
A19: =ROUND(SUM(J19*$F$2),2) -> 0 | F19: =SUM(E19*A19) -> 0 | J19: =I19/$I$2 -> 0
A20: =ROUND(SUM(J20*$F$2),2) -> 0 | F20: =SUM(E20*A20) -> 0 | J20: =I20/$I$2 -> 0
A21: Zubereitung
A22: 1. Die Knoblauchzehen mit der Faust andrücken. In einer Pfanne das Olivenöl erhitzen. Damit der Knoblauch im Öl „schwimmt“, kippen Sie die Pfanne auf die Seite. Wenn das Öl duftet und der Knoblauch goldbraun ist, werden die Zehen sofort entfernt.
A23: 2. Die geschälten, zerkleinerten Tomaten hinzufügen und sie mit einer Gabel leicht zerdrücken. Chili dünn schneiden und dazugeben. Die scharfen Kerne je nach Schärfekompetenz vorher entfernen oder einige davon mitkochen.
A24: 3. Die Sauce bei schwacher Hitze 15-20 Minuten köcheln lassen. Währenddessen einen großen Topf mit Wasser für die Nudeln aufsetzen, salzen.
A25: 4. Die Nudeln kochen, bis sie noch sehr bissfest sind. Die eingedampfte Tomatenflüssigkeit der Sauce wird mit Nudelwasser ausgeglichen. Dies verleiht der Sauce eine cremige Konsistenz und sie haftet noch besser an der Pasta. Sauce mit Salz abschmecken.
A26: 5. Die Penne abseihen und sofort in die Pfanne zur Sauce geben. Sie werden darin noch 1-2 Minuten fertig gegart und nehmen so den Geschmack der Sauce auf. Mit geriebenem Pecorino, gehackter Petersilie und einem Schuss Olivenöl servieren.

Sheet Hauptgang
C1: Hauptgang "Hochmut" | E1: Chochete vom | F1: =SUM(Menu!B3) -> 43727 | I1: Original Rezept
A2: =Menu!B11 -> Straussenfilet | E2: Rezept für | F2: =Menu!B21 -> 12 | I2: 4 | J2: Personen | L2: Menu Angaben wie folgt machen:
A3: Menge | B3: Einheit | C3: Artikel (Gewicht alles ca. Angaben) | D3: Bemerkungen | E3: Einkaufspreis | F3: Betrag | I3: Originalrezept | J3: pro Person
A4: =ROUND(SUM(J4*$F$2),2) -> 1.5 | B4: kg | C4: Straussenfilet | F4: =SUM(E4*A4) -> 0 | I4: 0.5 | J4: =I4/$I$2 -> 0.125 | L4: Kg | M4: 0.25
A5: =ROUND(SUM(J5*$F$2),2) -> 6 | B5: EL | C5: Butterschmalz | F5: =SUM(E5*A5) -> 0 | I5: 2 | J5: =I5/$I$2 -> 0.5 | L5: Lt | M5: 1.25
A6: =ROUND(SUM(J6*$F$2),2) -> 0 | F6: =SUM(E6*A6) -> 0 | J6: =I6/$I$2 -> 0 | L6: EL | M6: Esslöffel
A7: =ROUND(SUM(J7*$F$2),2) -> 0.45 | B7: Kg | C7: Creme fraiche | D7: optional | F7: =SUM(E7*A7) -> 0 | I7: 0.15 | J7: =I7/$I$2 -> 0.0375 | L7: TL | M7: Kaffeelöffel
A8: =ROUND(SUM(J8*$F$2),2) -> 0 | C8: Calvados | F8: =SUM(E8*A8) -> 0 | J8: =I8/$I$2 -> 0 | L8: Bund | M8: 1
A9: =ROUND(SUM(J9*$F$2),2) -> 0 | C9: Salz | F9: =SUM(E9*A9) -> 0 | J9: =I9/$I$2 -> 0 | L9: Stk | M9: Stück
A10: =ROUND(SUM(J10*$F$2),2) -> 0 | C10: Pfeffer | F10: =SUM(E10*A10) -> 0 | J10: =I10/$I$2 -> 0 | L10: Pä | M10: Päckli
A11: =ROUND(SUM(J11*$F$2),2) -> 0 | F11: =SUM(E11*A11) -> 0 | J11: =I11/$I$2 -> 0 | L11: alles weitere ausschreiben
A12: =ROUND(SUM(J12*$F$2),2) -> 0 | F12: =SUM(E12*A12) -> 0 | J12: =I12/$I$2 -> 0
A13: =ROUND(SUM(J13*$F$2),2) -> 0 | F13: =SUM(E13*A13) -> 0 | J13: =I13/$I$2 -> 0
A14: =ROUND(SUM(J14*$F$2),2) -> 0 | F14: =SUM(E14*A14) -> 0 | J14: =I14/$I$2 -> 0
A15: =ROUND(SUM(J15*$F$2),2) -> 0 | F15: =SUM(E15*A15) -> 0 | J15: =I15/$I$2 -> 0
A16: =ROUND(SUM(J16*$F$2),2) -> 0 | F16: =SUM(E16*A16) -> 0 | J16: =I16/$I$2 -> 0
A17: =ROUND(SUM(J17*$F$2),2) -> 0 | F17: =SUM(E17*A17) -> 0 | J17: =I17/$I$2 -> 0
A18: =ROUND(SUM(J18*$F$2),2) -> 0 | F18: =SUM(E18*A18) -> 0 | J18: =I18/$I$2 -> 0
A19: =ROUND(SUM(J19*$F$2),2) -> 0 | F19: =SUM(E19*A19) -> 0 | J19: =I19/$I$2 -> 0
A20: =ROUND(SUM(J20*$F$2),2) -> 0 | F20: =SUM(E20*A20) -> 0 | J20: =I20/$I$2 -> 0
A21: Zubereitung
A22: Bei Steaks und Filets wird das Fleisch quer zur Faser geschnitten und in Pflanzenfett auf beiden Seiten zwei bis drei Minuten sehr heiß gebraten. Wichtig ist, dass es nicht hin- und hergewendet wird. Das Fleisch sollte innen rosa bleiben. Zudem darf es erst nach dem Braten gesalzen werden, sonst kann es zäh werden. Weitere Vorschläge : Bei Bedarf kann man den Bratensatz mit Brühe, Rotwein oder Calvados ablöschen, Crème fraîche oder Sahne zugeben und würzen. Eine gut abgeschmeckte Soße macht das Würzen des Fleischs nahezu überflüssig. Vor dem Servieren legt man das Fleisch auf handwarme Teller, deckt es mit Alufolie ab und lässt es etwa drei Minuten ruhen Steaks in heißem Butterschmalz von jeder Seite zwei Minuten scharf anbraten, herausnehmen und warm stellen. Crème fraîche in die Pfanne geben und mit Fond bei milder Hitze unter Rühren leicht aufkochen. Calvados zugeben, Soße mit Salz und Pfeffer abschmecken. Steaks mit Salz und Pfeffer würzen, auf angewärmten Tellern anrichten und mit Soße übergießen

Sheet Beilage1
C1: Beilage 1 "Rotweinschalotten" | E1: Chochete vom | F1: =SUM(Menu!B3) -> 43727 | I1: Original Rezept
A2: =Menu!B12 -> Rotweinschalotten | E2: Rezept für | F2: =SUM(Menu!B21) -> 12 | I2: 4 | J2: Personen | L2: Menu Angaben wie folgt machen:
A3: Menge | B3: Einheit | C3: Artikel (Gewicht alles ca. Angaben) | D3: Bemerkungen | E3: Einkaufspreis | F3: Betrag | I3: Originalrezept | J3: pro Person
A4: =ROUND(SUM(J4*$F$2),2) -> 0.75 | B4: kg | C4: Schalotten | F4: =SUM(E4*A4) -> 0 | I4: 0.25 | J4: =I4/$I$2 -> 0.0625 | L4: Kg | M4: 0.25
A5: =ROUND(SUM(J5*$F$2),2) -> 1.2 | B5: Lt | C5: trockener Rotwein | F5: =SUM(E5*A5) -> 0 | I5: 0.4 | J5: =I5/$I$2 -> 0.1 | L5: Lt | M5: 1.25
A6: =ROUND(SUM(J6*$F$2),2) -> 6 | B6: Zweige | C6: Rosmarin | F6: =SUM(E6*A6) -> 0 | I6: 2 | J6: =I6/$I$2 -> 0.5 | L6: EL | M6: Esslöffel
A7: =ROUND(SUM(J7*$F$2),2) -> 6 | B7: El | C7: Rohrzucker | F7: =SUM(E7*A7) -> 0 | I7: 2 | J7: =I7/$I$2 -> 0.5 | L7: TL | M7: Kaffeelöffel
A8: =ROUND(SUM(J8*$F$2),2) -> 0 | C8: Öl | F8: =SUM(E8*A8) -> 0 | J8: =I8/$I$2 -> 0 | L8: Bund | M8: 1
A9: =ROUND(SUM(J9*$F$2),2) -> 0 | C9: Salz | F9: =SUM(E9*A9) -> 0 | J9: =I9/$I$2 -> 0 | L9: Stk | M9: Stück
A10: =ROUND(SUM(J10*$F$2),2) -> 0 | C10: Pfeffer (aus der Mühle schwarz) | F10: =SUM(E10*A10) -> 0 | J10: =I10/$I$2 -> 0 | L10: Pä | M10: Päckli
A11: =ROUND(SUM(J11*$F$2),2) -> 0 | F11: =SUM(E11*A11) -> 0 | J11: =I11/$I$2 -> 0 | L11: alles weitere ausschreiben
A12: =ROUND(SUM(J12*$F$2),2) -> 0 | F12: =SUM(E12*A12) -> 0 | J12: =I12/$I$2 -> 0
A13: =ROUND(SUM(J13*$F$2),2) -> 0 | F13: =SUM(E13*A13) -> 0 | J13: =I13/$I$2 -> 0
A14: =ROUND(SUM(J14*$F$2),2) -> 0 | F14: =SUM(E14*A14) -> 0 | J14: =I14/$I$2 -> 0
A15: =ROUND(SUM(J15*$F$2),2) -> 0 | F15: =SUM(E15*A15) -> 0 | J15: =I15/$I$2 -> 0
A16: =ROUND(SUM(J16*$F$2),2) -> 0 | F16: =SUM(E16*A16) -> 0 | J16: =I16/$I$2 -> 0
A17: =ROUND(SUM(J17*$F$2),2) -> 0 | F17: =SUM(E17*A17) -> 0 | J17: =I17/$I$2 -> 0
A18: =ROUND(SUM(J18*$F$2),2) -> 0 | F18: =SUM(E18*A18) -> 0 | J18: =I18/$I$2 -> 0
A19: =ROUND(SUM(J19*$F$2),2) -> 0 | F19: =SUM(E19*A19) -> 0 | J19: =I19/$I$2 -> 0
A20: =ROUND(SUM(J20*$F$2),2) -> 0 | F20: =SUM(E20*A20) -> 0 | J20: =I20/$I$2 -> 0
A21: Zubereitung
A22: Die Schalotten abziehen und vierteln. In einem Topf den El Öl erhitzen und die Zwiebeln darin ca. 2 Minuten dünsten, dann den Zucker darüberstreuen und ca. 5 Minuten unter ständigem Rühren karamelliesieren lassen.
A23: Dann mit soviel Rotwein ablöschen, daß die Schalotten gerade bedeckt sind, aufkochen lassen und dann den Herd runterstellen. Die Rosmarinzweige dazugeben und salzen und pfeffern. Die Schalotten bei kleiner Flamme köcheln und reduzieren lassen, immer wieder mal Rotwein nachgiessen, bis die 400 ml aufgebraucht sind.
A24: Zum Schluß den Rotwein soweit reduzieren lassen, bis nur noch ca. 2 EL Wein vorhanden sind und zu einem dicken Sirup eingekocht sind.
A25: Die Rotweinschalotten schmecken besonders gut zu jeglicher Art von Fleisch oder auch knusprigem Baguette.

Sheet Beilage2
C1: Beilage 2 "Rosmarinkartoffeln" | E1: Chochete vom | F1: =SUM(Menu!B3) -> 43727 | I1: Original Rezept
A2: =Menu!B13 -> Rosmarinkartoffeln | E2: Rezept für | F2: =SUM(Menu!B21) -> 12 | I2: 3 | J2: Personen | L2: Menu Angaben wie folgt machen:
A3: Menge | B3: Einheit | C3: Artikel (Gewicht alles ca. Angaben) | D3: Bemerkungen | E3: Einkaufspreis | F3: Betrag | I3: Originalrezept | J3: pro Person
A4: =ROUND(SUM(J4*$F$2),2) -> 1.2 | B4: kg | C4: Kartoffeln | F4: =SUM(E4*A4) -> 0 | I4: 0.3 | J4: =I4/$I$2 -> 0.1 | L4: Kg | M4: 0.25
A5: =ROUND(SUM(J5*$F$2),2) -> 0 | C5: Rosmarin (nach Geschmack) | F5: =SUM(E5*A5) -> 0 | J5: =I5/$I$2 -> 0 | L5: Lt | M5: 1.25
A6: =ROUND(SUM(J6*$F$2),2) -> 0 | C6: Salz | F6: =SUM(E6*A6) -> 0 | J6: =I6/$I$2 -> 0 | L6: EL | M6: Esslöffel
A7: =ROUND(SUM(J7*$F$2),2) -> 0 | C7: Pfeffer | F7: =SUM(E7*A7) -> 0 | J7: =I7/$I$2 -> 0 | L7: TL | M7: Kaffeelöffel
A8: =ROUND(SUM(J8*$F$2),2) -> 0 | F8: =SUM(E8*A8) -> 0 | J8: =I8/$I$2 -> 0 | L8: Bund | M8: 1
A9: =ROUND(SUM(J9*$F$2),2) -> 0 | F9: =SUM(E9*A9) -> 0 | J9: =I9/$I$2 -> 0 | L9: Stk | M9: Stück
A10: =ROUND(SUM(J10*$F$2),2) -> 0 | F10: =SUM(E10*A10) -> 0 | J10: =I10/$I$2 -> 0 | L10: Pä | M10: Päckli
A11: =ROUND(SUM(J11*$F$2),2) -> 0 | F11: =SUM(E11*A11) -> 0 | J11: =I11/$I$2 -> 0 | L11: alles weitere ausschreiben
A12: =ROUND(SUM(J12*$F$2),2) -> 0 | F12: =SUM(E12*A12) -> 0 | J12: =I12/$I$2 -> 0
A13: =ROUND(SUM(J13*$F$2),2) -> 0 | F13: =SUM(E13*A13) -> 0 | J13: =I13/$I$2 -> 0
A14: =ROUND(SUM(J14*$F$2),2) -> 0 | F14: =SUM(E14*A14) -> 0 | J14: =I14/$I$2 -> 0
A15: =ROUND(SUM(J15*$F$2),2) -> 0 | F15: =SUM(E15*A15) -> 0 | J15: =I15/$I$2 -> 0
A16: =ROUND(SUM(J16*$F$2),2) -> 0 | F16: =SUM(E16*A16) -> 0 | J16: =I16/$I$2 -> 0
A17: =ROUND(SUM(J17*$F$2),2) -> 0 | F17: =SUM(E17*A17) -> 0 | J17: =I17/$I$2 -> 0
A18: =ROUND(SUM(J18*$F$2),2) -> 0 | F18: =SUM(E18*A18) -> 0 | J18: =I18/$I$2 -> 0
A19: =ROUND(SUM(J19*$F$2),2) -> 0 | F19: =SUM(E19*A19) -> 0 | J19: =I19/$I$2 -> 0
A20: =ROUND(SUM(J20*$F$2),2) -> 0 | F20: =SUM(E20*A20) -> 0 | J20: =I20/$I$2 -> 0
A21: Zubereitung
A22: Die Kartoffeln, je nach Grösse, halbieren oder vierteln
A23: Auf ein Backblech legen und mit ein wenig Olivenöl betreufeln
A24: Salzen, Pfefferen und mit Rosmarin belegen (nach Geschmack)
A25: Im Backofen goldbraun werden lassen

Sheet Dessert
C1: Nachspeise "Neid" | E1: Chochete vom | F1: =SUM(Menu!B3) -> 43727 | I1: Original Rezept
A2: =Menu!B15 -> Kiwi Eis | E2: Rezept für | F2: =SUM(Menu!B21) -> 12 | I2: 4 | J2: Personen | L2: Menu Angaben wie folgt machen:
A3: Menge | B3: Einheit | C3: Artikel (Gewicht alles ca. Angaben) | D3: Bemerkungen | E3: Einkaufspreis | F3: Betrag | I3: Originalrezept | J3: pro Person
A4: =ROUND(SUM(J4*$F$2),2) -> 0 | F4: =SUM(E4*A4) -> 0 | J4: =I4/$I$2 -> 0 | L4: Kg | M4: 0.25
A5: =ROUND(SUM(J5*$F$2),2) -> 0 | F5: =SUM(E5*A5) -> 0 | J5: =I5/$I$2 -> 0 | L5: Lt | M5: 1.25
A6: =ROUND(SUM(J6*$F$2),2) -> 0 | F6: =SUM(E6*A6) -> 0 | J6: =I6/$I$2 -> 0 | L6: EL | M6: Esslöffel
A7: =ROUND(SUM(J7*$F$2),2) -> 0 | F7: =SUM(E7*A7) -> 0 | J7: =I7/$I$2 -> 0 | L7: KL | M7: Kaffeelöffel
A8: =ROUND(SUM(J8*$F$2),2) -> 0 | F8: =SUM(E8*A8) -> 0 | J8: =I8/$I$2 -> 0 | L8: Bund | M8: 1
A9: =ROUND(SUM(J9*$F$2),2) -> 0 | F9: =SUM(E9*A9) -> 0 | J9: =I9/$I$2 -> 0 | L9: Stk | M9: Stück
A10: =ROUND(SUM(J10*$F$2),2) -> 0 | F10: =SUM(E10*A10) -> 0 | J10: =I10/$I$2 -> 0 | L10: Pä | M10: Päckli
A11: =ROUND(SUM(J11*$F$2),2) -> 0 | F11: =SUM(E11*A11) -> 0 | J11: =I11/$I$2 -> 0 | L11: alles weitere ausschreiben
A12: =ROUND(SUM(J12*$F$2),2) -> 0 | F12: =SUM(E12*A12) -> 0 | J12: =I12/$I$2 -> 0
A13: =ROUND(SUM(J13*$F$2),2) -> 0 | F13: =SUM(E13*A13) -> 0 | J13: =I13/$I$2 -> 0
A14: =ROUND(SUM(J14*$F$2),2) -> 0 | F14: =SUM(E14*A14) -> 0 | J14: =I14/$I$2 -> 0
A15: =ROUND(SUM(J15*$F$2),2) -> 0 | F15: =SUM(E15*A15) -> 0 | J15: =I15/$I$2 -> 0
A16: =ROUND(SUM(J16*$F$2),2) -> 0 | F16: =SUM(E16*A16) -> 0 | J16: =I16/$I$2 -> 0
A17: =ROUND(SUM(J17*$F$2),2) -> 0 | F17: =SUM(E17*A17) -> 0 | J17: =I17/$I$2 -> 0
A18: =ROUND(SUM(J18*$F$2),2) -> 0 | F18: =SUM(E18*A18) -> 0 | J18: =I18/$I$2 -> 0
A19: =ROUND(SUM(J19*$F$2),2) -> 0 | F19: =SUM(E19*A19) -> 0 | J19: =I19/$I$2 -> 0
A20: =ROUND(SUM(J20*$F$2),2) -> 0 | F20: =SUM(E20*A20) -> 0 | J20: =I20/$I$2 -> 0
A21: Zubereitung

Sheet 2te Vorspeise
C1: Vorspeise "Wollust" | E1: Chochete vom | F1: =SUM(Menu!B3) -> 43727 | I1: Original Rezept
A2: =Menu!B17 -> Motto "die sieben Todsünden" | E2: Rezept für | F2: =SUM(Menu!B21) -> 12 | I2: 4 | J2: Personen | L2: Menu Angaben wie folgt machen:
A3: Menge | B3: Einheit | C3: Artikel (Gewicht alles ca. Angaben) | D3: Bemerkungen | E3: Einkaufspreis | F3: Betrag | I3: Originalrezept | J3: pro Person
A4: =ROUND(SUM(J4*$F$2),2) -> 12 | B4: Stk | C4: Feigen | F4: =SUM(E4*A4) -> 0 | I4: 4 | J4: =I4/$I$2 -> 1 | L4: Kg | M4: 0.25
A5: =ROUND(SUM(J5*$F$2),2) -> 0.3 | B5: Lt | C5: Traubensaft oder Wein | F5: =SUM(E5*A5) -> 0 | I5: 0.1 | J5: =I5/$I$2 -> 0.025 | L5: Lt | M5: 1.25
A6: =ROUND(SUM(J6*$F$2),2) -> 0.18 | B6: kg | C6: Edamer (Käse nach Wahl) | F6: =SUM(E6*A6) -> 0 | I6: 0.06 | J6: =I6/$I$2 -> 0.015 | L6: EL | M6: Esslöffel
A7: =ROUND(SUM(J7*$F$2),2) -> 0.3 | B7: kg | C7: Bauchspeck | F7: =SUM(E7*A7) -> 0 | I7: 0.1 | J7: =I7/$I$2 -> 0.025 | L7: KL | M7: Kaffeelöffel
A8: =ROUND(SUM(J8*$F$2),2) -> 0 | C8: Öl | F8: =SUM(E8*A8) -> 0 | J8: =I8/$I$2 -> 0 | L8: Bund | M8: 1
A9: =ROUND(SUM(J9*$F$2),2) -> 0 | F9: =SUM(E9*A9) -> 0 | J9: =I9/$I$2 -> 0 | L9: Stk | M9: Stück
A10: =ROUND(SUM(J10*$F$2),2) -> 0 | F10: =SUM(E10*A10) -> 0 | J10: =I10/$I$2 -> 0 | L10: Pä | M10: Päckli
A11: =ROUND(SUM(J11*$F$2),2) -> 0 | F11: =SUM(E11*A11) -> 0 | J11: =I11/$I$2 -> 0 | L11: alles weitere ausschreiben
A12: =ROUND(SUM(J12*$F$2),2) -> 0 | F12: =SUM(E12*A12) -> 0 | J12: =I12/$I$2 -> 0
A13: =ROUND(SUM(J13*$F$2),2) -> 0 | F13: =SUM(E13*A13) -> 0 | J13: =I13/$I$2 -> 0
A14: =ROUND(SUM(J14*$F$2),2) -> 0 | F14: =SUM(E14*A14) -> 0 | J14: =I14/$I$2 -> 0
A15: =ROUND(SUM(J15*$F$2),2) -> 0 | F15: =SUM(E15*A15) -> 0 | J15: =I15/$I$2 -> 0
A16: =ROUND(SUM(J16*$F$2),2) -> 0 | F16: =SUM(E16*A16) -> 0 | J16: =I16/$I$2 -> 0
A17: =ROUND(SUM(J17*$F$2),2) -> 0 | F17: =SUM(E17*A17) -> 0 | J17: =I17/$I$2 -> 0
A18: =ROUND(SUM(J18*$F$2),2) -> 0 | F18: =SUM(E18*A18) -> 0 | J18: =I18/$I$2 -> 0
A19: =ROUND(SUM(J19*$F$2),2) -> 0 | F19: =SUM(E19*A19) -> 0 | J19: =I19/$I$2 -> 0
A20: =ROUND(SUM(J20*$F$2),2) -> 0 | F20: =SUM(E20*A20) -> 0 | J20: =I20/$I$2 -> 0
A21: Zubereitung
A22: Feigen putzen, waschen, vierteln und im Traubensaft oder Wein etwa eine halbe Stunde ziehen lassen. Käse fein würfeln, vorsichtig in das Fruchtfleisch der Feigenviertel andrücken, mit Bauchspeck umwickeln und jeweils mit einem kleinen Holzspieß fixieren. Öl in einer beschichten Pfanne erhitzen und die Feigen im Speckmantel knusprig braten

Sheet Einkaufsliste
A1: Hobby-Küche Zug | C1: Einkaufsliste | D1: =Dessert!F1 -> 43727 | E1: ok
A2: Menge | B2: Einheit | C2: Artikel
A3: =Vorspeise!A2 -> frisches Baguette mit fertigen Aufstrichen | D3: Bemerkungen
A4: =SUM(Vorspeise!A4) -> 6 | B4: =Vorspeise!B4 -> 0 | C4: =Vorspeise!C4 -> Baguette | D4: =Vorspeise!D4 -> 0
A5: =SUM(Vorspeise!A5) -> 0 | B5: =Vorspeise!B5 -> 0 | C5: =Vorspeise!C5 -> Aufstriche | D5: =Vorspeise!D5 -> 0
A6: =Zwischengang!A2 -> Pasta del'Arrabiata | D6: Bemerkungen
A7: =SUM(Zwischengang!A4) -> 0.96 | B7: =Zwischengang!B4 -> kg | C7: =Zwischengang!C4 -> Penne Rigate | D7: =Zwischengang!D4 -> 0
A8: =SUM(Zwischengang!A5) -> 6 | B8: =Zwischengang!B5 -> EL | C8: =Zwischengang!C5 -> Olivenöl | D8: =Zwischengang!D5 -> 0
A9: =SUM(Zwischengang!A6) -> 6 | B9: =Zwischengang!B6 -> Stk | C9: =Zwischengang!C6 -> Knoblauchzehen | D9: =Zwischengang!D6 -> 0
A10: =SUM(Zwischengang!A7) -> 1.2 | B10: =Zwischengang!B7 -> kg | C10: =Zwischengang!C7 -> Pelati Tomaten | D10: ggf. Dosen
A11: =SUM(Zwischengang!A8) -> 3 | B11: =Zwischengang!B8 -> Stk | C11: =Zwischengang!C8 -> Chiischote | D11: =Zwischengang!D8 -> 0
A12: =SUM(Zwischengang!A9) -> 3 | B12: =Zwischengang!B9 -> Bund | C12: =Zwischengang!C9 -> Petersilie | D12: =Zwischengang!D9 -> 0
A13: =SUM(Zwischengang!A10) -> 0.24 | B13: =Zwischengang!B10 -> kg | C13: =Zwischengang!C10 -> Pecorino | D13: =Zwischengang!D10 -> 0
A14: =Hauptgang!A2 -> Straussenfilet | D14: Bemerkungen
A15: =SUM(Hauptgang!A4) -> 1.5 | B15: =Hauptgang!B4 -> kg | C15: =Hauptgang!C4 -> Straussenfilet | D15: =Hauptgang!D4 -> 0
A16: =SUM(Hauptgang!A5) -> 6 | B16: =Hauptgang!B5 -> EL | C16: =Hauptgang!C5 -> Butterschmalz | D16: =Hauptgang!D5 -> 0
A17: =SUM(Hauptgang!A6) -> 0 | B17: =Hauptgang!B6 -> 0 | C17: =Hauptgang!C6 -> 0 | D17: =Hauptgang!D6 -> 0
A18: =SUM(Hauptgang!A7) -> 0.45 | B18: =Hauptgang!B7 -> Kg | C18: =Hauptgang!C7 -> Creme fraiche | D18: =Hauptgang!D7 -> optional
A19: =SUM(Hauptgang!A8) -> 0 | B19: =Hauptgang!B8 -> 0 | C19: =Hauptgang!C8 -> Calvados | D19: =Hauptgang!D8 -> 0
A20: =Beilage1!A2 -> Rotweinschalotten | D20: Bemerkungen
A21: =Beilage1!A4 -> 0.75 | B21: =Beilage1!B4 -> kg | C21: =Beilage1!C4 -> Schalotten | D21: =Beilage1!D4 -> 0
A22: =Beilage1!A5 -> 1.2 | B22: =Beilage1!B5 -> Lt | C22: =Beilage1!C5 -> trockener Rotwein | D22: =Beilage1!D5 -> 0
A23: =Beilage1!A6 -> 6 | B23: =Beilage1!B6 -> Zweige | C23: =Beilage1!C6 -> Rosmarin | D23: =Beilage1!D6 -> 0
A24: =Beilage1!A7 -> 6 | B24: =Beilage1!B7 -> El | C24: =Beilage1!C7 -> Rohrzucker | D24: =Beilage1!D7 -> 0
A25: =Beilage2!A2 -> Rosmarinkartoffeln
A26: =SUM(Beilage2!A4) -> 1.2 | B26: =Beilage2!B4 -> kg | C26: =Beilage2!C4 -> Kartoffeln | D26: =Beilage2!D4 -> 0
A27: =SUM(Beilage2!A5) -> 0 | B27: =Beilage2!B5 -> 0 | C27: =Beilage2!C5 -> Rosmarin (nach Geschmack) | D27: =Beilage2!D5 -> 0
A29: =SUM('2te Vorspeise'!A4) -> 12 | B29: ='2te Vorspeise'!B4 -> Stk | C29: ='2te Vorspeise'!C4 -> Feigen | D29: ='2te Vorspeise'!D4 -> 0
A30: =SUM('2te Vorspeise'!A5) -> 0.3 | B30: ='2te Vorspeise'!B5 -> Lt | C30: ='2te Vorspeise'!C5 -> Traubensaft oder Wein | D30: ='2te Vorspeise'!D5 -> 0
A31: =SUM('2te Vorspeise'!A6) -> 0.18 | B31: ='2te Vorspeise'!B6 -> kg | C31: ='2te Vorspeise'!C6 -> Edamer (Käse nach Wahl) | D31: ='2te Vorspeise'!D6 -> 0
A32: =SUM('2te Vorspeise'!A7) -> 0.3 | B32: ='2te Vorspeise'!B7 -> kg | C32: ='2te Vorspeise'!C7 -> Bauchspeck | D32: ='2te Vorspeise'!D7 -> 0
A33: =SUM(Dessert!A22) -> 0 | B33: =Dessert!B24 -> 0 | C33: =Dessert!C24 -> 0
A34: =SUM(Dessert!A23) -> 0 | B34: =Dessert!B25 -> 0 | C34: =Dessert!C25 -> 0
A35: =SUM(Dessert!A26) -> 0 | B35: =Dessert!B26 -> 0 | C35: =Dessert!C26 -> 0
A48: =SUM(Dessert!A27) -> 0 | B48: =Dessert!B27 -> 0 | C48: =Dessert!C27 -> 0
A49: =SUM(Dessert!A28) -> 0 | B49: =Dessert!B28 -> 0 | C49: =Dessert!C28 -> 0
A50: =SUM(Dessert!A29) -> 0 | B50: =Dessert!B29 -> 0 | C50: =Dessert!C29 -> 0
A51: =SUM(Dessert!A30) -> 0 | B51: =Dessert!B30 -> 0 | C51: =Dessert!C30 -> 0
A52: =SUM(Dessert!A31) -> 0 | B52: =Dessert!B31 -> 0 | C52: =Dessert!C31 -> 0
A53: =SUM(Dessert!A32) -> 0 | B53: =Dessert!B32 -> 0 | C53: =Dessert!C32 -> 0
