Workbook

Sheet Menu
B1: Motto "Schwarze Magie"
A3: Datum | B3: 43566 | D3: Menu Angaben wie folgt machen: | H3: Kg | I3: 0.25
H4: Lt | I4: 1.25
A5: Vorspeise | B5: Coquilles Saint-Jacques auf schwarzen Beluga Linsen | D5: alle weiteren Angaben ausschreiben | H5: EL | I5: Esslöffel
H6: TL | I6: Teelöffel
A7: Salat | B7: Schwarzer Reissalat mit Paprika | H7: Bund | I7: 1
H8: Stk | I8: Stück
A9: Suppe | B9: Schwarze Bohnensuppe mit Brie | H9: Pä | I9: Päckli
A11: Hauptgang | B11: TAGLIOLINI AL NERO DI SEPPIA mit Kabeljau
A13: Dessert | B13: Schwarze Schoggimousse
A15: Diverses | B15: Pasta nero di seppia frisch machen mit Ruedi
A17: Menu von Tisch | B17: Tisch C
A19: Personenzahl | B19: 4

Sheet Vorspeise
E1: Chochete vom | F1: =SUM(Menu!B3) -> 43566 | I1: Original Rezept
A2: =Menu!B5 -> Coquilles Saint-Jacques auf schwarzen Beluga Linsen | E2: Rezept für | F2: =Menu!B19 -> 4 | I2: 5 | J2: Personen | L2: Menu Angaben wie folgt machen:
A3: Menge | B3: Einheit | C3: Artikel (Gewicht alles ca. Angaben) | D3: Bemerkungen | E3: Einkaufspreis | F3: Betrag | I3: Originalrezept | J3: pro Person
A4: =ROUND(SUM(J4*$F$2),2) -> 80 | B4: gr | C4: Beluga Linsen | F4: =SUM(E4*A4) -> 0 | I4: 100 | J4: =I4/$I$2 -> 20 | L4: Kg | M4: 0.25
A5: =ROUND(SUM(J5*$F$2),2) -> 1.6 | B5: TL | C5: Butter | F5: =SUM(E5*A5) -> 0 | I5: 2 | J5: =I5/$I$2 -> 0.4 | L5: Lt | M5: 1.25
A6: =ROUND(SUM(J6*$F$2),2) -> 1.6 | B6: Stk | C6: Schalotte | F6: =SUM(E6*A6) -> 0 | I6: 2 | J6: =I6/$I$2 -> 0.4 | L6: EL | M6: Esslöffel
A7: =ROUND(SUM(J7*$F$2),2) -> 1.6 | B7: EL | C7: Crema di Balsamico | F7: =SUM(E7*A7) -> 0 | I7: 2 | J7: =I7/$I$2 -> 0.4 | L7: TL | M7: Kaffeelöffel
A8: =ROUND(SUM(J8*$F$2),2) -> 1.6 | B8: TL | C8: Olivenöl | F8: =SUM(E8*A8) -> 0 | I8: 2 | J8: =I8/$I$2 -> 0.4 | L8: Bund | M8: 1
A9: =ROUND(SUM(J9*$F$2),2) -> 0.4 | B9: Bund | C9: Schnittlauch für Garnitur | F9: =SUM(E9*A9) -> 0 | I9: 0.5 | J9: =I9/$I$2 -> 0.1 | L9: Stk | M9: Stück
A10: =ROUND(SUM(J10*$F$2),2) -> 4 | B10: Stk | C10: Coquilles Saint-Jacques | F10: =SUM(E10*A10) -> 0 | I10: 5 | J10: =I10/$I$2 -> 1 | L10: Pä | M10: Päckli
A11: =ROUND(SUM(J11*$F$2),2) -> 0 | F11: =SUM(E11*A11) -> 0 | J11: =I11/$I$2 -> 0 | L11: alles weitere ausschreiben
A12: =ROUND(SUM(J12*$F$2),2) -> 0 | F12: =SUM(E12*A12) -> 0 | J12: =I12/$I$2 -> 0
A13: =ROUND(SUM(J13*$F$2),2) -> 0 | F13: =SUM(E13*A13) -> 0 | J13: =I13/$I$2 -> 0
A14: =ROUND(SUM(J14*$F$2),2) -> 0 | F14: =SUM(E14*A14) -> 0 | J14: =I14/$I$2 -> 0
A15: =ROUND(SUM(J15*$F$2),2) -> 0 | F15: =SUM(E15*A15) -> 0 | J15: =I15/$I$2 -> 0
A16: =ROUND(SUM(J16*$F$2),2) -> 0 | F16: =SUM(E16*A16) -> 0 | J16: =I16/$I$2 -> 0
A17: =ROUND(SUM(J17*$F$2),2) -> 0 | F17: =SUM(E17*A17) -> 0 | J17: =I17/$I$2 -> 0
A18: =ROUND(SUM(J18*$F$2),2) -> 0 | C18: Salz, Pfeffer | F18: =SUM(E18*A18) -> 0 | J18: =I18/$I$2 -> 0
A19: =ROUND(SUM(J19*$F$2),2) -> 0 | F19: =SUM(E19*A19) -> 0 | J19: =I19/$I$2 -> 0
A20: =ROUND(SUM(J20*$F$2),2) -> 0 | F20: =SUM(E20*A20) -> 0 | J20: =I20/$I$2 -> 0
A21: Zubereitung
A22: Linsen weich köcheln, abtropfen. 2 TL Butter in derselben Pfanne warm werden lassen, 2 kleine Schalotten, fein gehackt, beigeben, andämpfen. Linsen und 2 EL Crema di Balsamico beigeben, mischen. Mit wenig Salz und Pfeffer würzen. 2 TL Olivenöl in einer Bratpfanne warm werden lassen, die Cocquilles Saint-Jacques beidseitig je 1 Minute braten, mit wenig Salz und Pfeffer würzen. Linsen auf Tellern verteilen, Muscheln darauf geben und mit Schnittlauch garnieren.

Sheet Salat
E1: Chochete vom | F1: =SUM(Menu!B3) -> 43566 | I1: Original Rezept
A2: =Menu!B7 -> Schwarzer Reissalat mit Paprika | E2: Rezept für | F2: =SUM(Menu!B19) -> 4 | I2: 5 | J2: Personen | L2: Menu Angaben wie folgt machen:
A3: Menge | B3: Einheit | C3: Artikel (Gewicht alles ca. Angaben) | D3: Bemerkungen | E3: Einkaufspreis | F3: Betrag | I3: Originalrezept | J3: pro Person
A4: =ROUND(SUM(J4*$F$2),2) -> 0.6 | B4: Tasse | C4: Schwarzer Reis | F4: =SUM(E4*A4) -> 0 | I4: 0.75 | J4: =I4/$I$2 -> 0.15 | L4: Kg | M4: 0.25
A5: =ROUND(SUM(J5*$F$2),2) -> 0.8 | B5: Stk | C5: Paprika rot | D5: eventuell schälen | F5: =SUM(E5*A5) -> 0 | I5: 1 | J5: =I5/$I$2 -> 0.2 | L5: Lt | M5: 1.25
A6: =ROUND(SUM(J6*$F$2),2) -> 0.8 | B6: Stk | C6: Frühlingszwiebel | F6: =SUM(E6*A6) -> 0 | I6: 1 | J6: =I6/$I$2 -> 0.2 | L6: EL | M6: Esslöffel
A7: =ROUND(SUM(J7*$F$2),2) -> 0.08 | B7: Kg | C7: Cashews | F7: =SUM(E7*A7) -> 0 | I7: 0.1 | J7: =I7/$I$2 -> 0.02 | L7: TL | M7: Kaffeelöffel
A8: =ROUND(SUM(J8*$F$2),2) -> 2.4 | B8: EL | C8: Sojasauce | F8: =SUM(E8*A8) -> 0 | I8: 3 | J8: =I8/$I$2 -> 0.6 | L8: Bund | M8: 1
A9: =ROUND(SUM(J9*$F$2),2) -> 1.6 | B9: EL | C9: Sesamöl | D9: kaltgepresst | F9: =SUM(E9*A9) -> 0 | I9: 2 | J9: =I9/$I$2 -> 0.4 | L9: Stk | M9: Stück
A10: =ROUND(SUM(J10*$F$2),2) -> 0.8 | B10: Stk | C10: Limmette | D10: Saft | F10: =SUM(E10*A10) -> 0 | I10: 1 | J10: =I10/$I$2 -> 0.2 | L10: Pä | M10: Päckli
A11: =ROUND(SUM(J11*$F$2),2) -> 0.8 | B11: TL | C11: Sambal Oelek | F11: =SUM(E11*A11) -> 0 | I11: 1 | J11: =I11/$I$2 -> 0.2 | L11: alles weitere ausschreiben
A12: =ROUND(SUM(J12*$F$2),2) -> 0 | F12: =SUM(E12*A12) -> 0 | J12: =I12/$I$2 -> 0
A13: =ROUND(SUM(J13*$F$2),2) -> 0 | C13: Zucker, Salz und Pfeffer | F13: =SUM(E13*A13) -> 0 | J13: =I13/$I$2 -> 0
A14: =ROUND(SUM(J14*$F$2),2) -> 0 | F14: =SUM(E14*A14) -> 0 | J14: =I14/$I$2 -> 0
A15: =ROUND(SUM(J15*$F$2),2) -> 0 | F15: =SUM(E15*A15) -> 0 | J15: =I15/$I$2 -> 0
A16: =ROUND(SUM(J16*$F$2),2) -> 0 | F16: =SUM(E16*A16) -> 0 | J16: =I16/$I$2 -> 0
A17: =ROUND(SUM(J17*$F$2),2) -> 0 | F17: =SUM(E17*A17) -> 0 | J17: =I17/$I$2 -> 0
A18: =ROUND(SUM(J18*$F$2),2) -> 0 | F18: =SUM(E18*A18) -> 0 | J18: =I18/$I$2 -> 0
A19: =ROUND(SUM(J19*$F$2),2) -> 0 | F19: =SUM(E19*A19) -> 0 | J19: =I19/$I$2 -> 0
A20: =ROUND(SUM(J20*$F$2),2) -> 0 | F20: =SUM(E20*A20) -> 0 | J20: =I20/$I$2 -> 0
A21: Zubereitung
A22: Den Reis erst unter kaltem Wasser abbrausen, dann mit dem Wasser in einem Topf bei mittlerer Temperatur und etwas Salz zum Kochen bringen und ca. 30 Minuten köcheln lassen. Vorsicht! Der schwarze Reis färbt extrem! Der Kochlöffel wird also schwarz beim Umrühren:) Während der Reis kocht, das Dressing in einer großen Salatschüssel zubereiten. Dazu Limettensaft, Sambal Oelek, Sojasauce und Sesamöl verrühren bis sich das Samba Oelek aufgelöst hat. Das Dressing darf ruhig etwas Wumms haben, denn der Reis „dämmt“ den Geschmack. Dann die Paprika entstielen in viertel schneiden und waschen. Dann in kleine Würfel schneiden und zum Dressing geben. Die Frühlingszwiebel waschen, in kleine Ringe schneiden und für die Deko am Schluss beiseite stellen. Die Cashews in einer großen beschichteten Pfanne ohne Fett von allen Seiten goldbraun anrösten. Den fertig gegarten Reis abkühlen lassen. Dann den Reis in die Schüssel mit dem Dressing geben und kurz ziehen lassen. Vor dem Servieren noch nach Belieben mit Salz, Pfeffer und etwas Zucker würzen. Auf Tellern anrichten, mit den gerösteten Cashews und den Frühlingszwiebelringen bestreuen und servieren!

Sheet Suppe
E1: Chochete vom | F1: =SUM(Menu!B3) -> 43566 | I1: Original Rezept
A2: =Menu!B9 -> Schwarze Bohnensuppe mit Brie | E2: Rezept für | F2: =Menu!B19 -> 4 | I2: 5 | J2: Personen | L2: Menu Angaben wie folgt machen:
A3: Menge | B3: Einheit | C3: Artikel (Gewicht alles ca. Angaben) | D3: Bemerkungen | E3: Einkaufspreis | F3: Betrag | I3: Originalrezept | J3: pro Person
A4: =ROUND(SUM(J4*$F$2),2) -> 0.8 | B4: EL | C4: ÖL | F4: =SUM(E4*A4) -> 0 | I4: 1 | J4: =I4/$I$2 -> 0.2 | L4: Kg | M4: 0.25
A5: =ROUND(SUM(J5*$F$2),2) -> 0.8 | B5: Stk | C5: Zwiebel, fein geschnitten | F5: =SUM(E5*A5) -> 0 | I5: 1 | J5: =I5/$I$2 -> 0.2 | L5: Lt | M5: 1.25
A6: =ROUND(SUM(J6*$F$2),2) -> 1.6 | B6: Stk | C6: Knoblauch, gepresst | F6: =SUM(E6*A6) -> 0 | I6: 2 | J6: =I6/$I$2 -> 0.4 | L6: EL | M6: Esslöffel
A7: =ROUND(SUM(J7*$F$2),2) -> 2.4 | B7: Dosen | C7: schwarze Bohnen | D7: je ca. 210 g | F7: =SUM(E7*A7) -> 0 | I7: 3 | J7: =I7/$I$2 -> 0.6 | L7: TL | M7: Kaffeelöffel
A8: =ROUND(SUM(J8*$F$2),2) -> 0.24 | B8: Lt | C8: Weisswein | D8: Chardonnay | F8: =SUM(E8*A8) -> 0 | I8: 0.3 | J8: =I8/$I$2 -> 0.06 | L8: Bund | M8: 1
A9: =ROUND(SUM(J9*$F$2),2) -> 0.64 | B9: Lt | C9: Gemüsebouillon | F9: =SUM(E9*A9) -> 0 | I9: 0.8 | J9: =I9/$I$2 -> 0.16 | L9: Stk | M9: Stück
A10: =ROUND(SUM(J10*$F$2),2) -> 0.12 | B10: Kg | C10: Brie | D10: Brie Vallière | F10: =SUM(E10*A10) -> 0 | I10: 0.15 | J10: =I10/$I$2 -> 0.03 | L10: Pä | M10: Päckli
A11: =ROUND(SUM(J11*$F$2),2) -> 0.8 | B11: Stk. | C11: Gartenkresse | F11: =SUM(E11*A11) -> 0 | I11: 1 | J11: =I11/$I$2 -> 0.2 | L11: alles weitere ausschreiben
A12: =ROUND(SUM(J12*$F$2),2) -> 0.4 | B12: Stk | C12: Schwarzpeter Brot | F12: =SUM(E12*A12) -> 0 | I12: 0.5 | J12: =I12/$I$2 -> 0.1
A13: =ROUND(SUM(J13*$F$2),2) -> 0 | F13: =SUM(E13*A13) -> 0 | J13: =I13/$I$2 -> 0
A14: =ROUND(SUM(J14*$F$2),2) -> 0 | F14: =SUM(E14*A14) -> 0 | J14: =I14/$I$2 -> 0
A15: =ROUND(SUM(J15*$F$2),2) -> 0 | F15: =SUM(E15*A15) -> 0 | J15: =I15/$I$2 -> 0
A16: =ROUND(SUM(J16*$F$2),2) -> 0 | F16: =SUM(E16*A16) -> 0 | J16: =I16/$I$2 -> 0
A17: =ROUND(SUM(J17*$F$2),2) -> 0 | F17: =SUM(E17*A17) -> 0 | J17: =I17/$I$2 -> 0
A18: =ROUND(SUM(J18*$F$2),2) -> 0 | J18: =I18/$I$2 -> 0
A19: =ROUND(SUM(J19*$F$2),2) -> 0 | F19: =SUM(E19*A19) -> 0 | J19: =I19/$I$2 -> 0
A20: Zubereitung
A21: Öl in einer Pfanne warm werden lassen. Knoblauch und Zwiebel ca. 5 Min. andämpfen. Bohnen kurz mitdämpfen. Wein dazu giessen, vollständig einkochen. Bouillon dazu giessen, aufkochen, Hitze reduzieren, ca. 15 Min. köcheln. Suppe pürieren. Suppe in tiefen Tellern anrichten. Brie darauf verteilen und mit Gartenkresse garnieren.

Sheet Beilage 1
E1: Chochete vom | F1: =SUM(Menu!B3) -> 43566 | I1: Original Rezept
A2: =Menu!B10 -> 0 | E2: Rezept für | F2: =SUM(Menu!B19) -> 4 | I2: 4 | J2: Personen | L2: Menu Angaben wie folgt machen:
A3: Menge | B3: Einheit | C3: Artikel (Gewicht alles ca. Angaben) | D3: Bemerkungen | E3: Einkaufspreis | F3: Betrag | I3: Originalrezept | J3: pro Person
A4: =ROUND(SUM(J4*$F$2),2) -> 0 | F4: =SUM(E4*A4) -> 0 | J4: =I4/$I$2 -> 0 | L4: Kg | M4: 0.25
A5: =ROUND(SUM(J5*$F$2),2) -> 0 | F5: =SUM(E5*A5) -> 0 | J5: =I5/$I$2 -> 0 | L5: Lt | M5: 1.25
A6: =ROUND(SUM(J6*$F$2),2) -> 0 | F6: =SUM(E6*A6) -> 0 | J6: =I6/$I$2 -> 0 | L6: EL | M6: Esslöffel
A7: =ROUND(SUM(J7*$F$2),2) -> 0 | F7: =SUM(E7*A7) -> 0 | J7: =I7/$I$2 -> 0 | L7: TL | M7: Kaffeelöffel
A8: =ROUND(SUM(J8*$F$2),2) -> 0 | J8: =I8/$I$2 -> 0 | L8: Bund | M8: 1
A9: =ROUND(SUM(J9*$F$2),2) -> 0 | F9: =SUM(E9*A9) -> 0 | J9: =I9/$I$2 -> 0 | L9: Stk | M9: Stück
A10: =ROUND(SUM(J10*$F$2),2) -> 0 | F10: =SUM(E10*A10) -> 0 | J10: =I10/$I$2 -> 0 | L10: Pä | M10: Päckli
A11: =ROUND(SUM(J11*$F$2),2) -> 0 | F11: =SUM(E11*A11) -> 0 | J11: =I11/$I$2 -> 0 | L11: alles weitere ausschreiben
A12: =ROUND(SUM(J12*$F$2),2) -> 0 | F12: =SUM(E12*A12) -> 0
A13: =ROUND(SUM(J13*$F$2),2) -> 0 | F13: =SUM(E13*A13) -> 0 | J13: =I13/$I$2 -> 0
A14: =ROUND(SUM(J14*$F$2),2) -> 0 | F14: =SUM(E14*A14) -> 0 | J14: =I14/$I$2 -> 0
A15: =ROUND(SUM(J15*$F$2),2) -> 0 | F15: =SUM(E15*A15) -> 0 | J15: =I15/$I$2 -> 0
A16: =ROUND(SUM(J16*$F$2),2) -> 0 | F16: =SUM(E16*A16) -> 0 | J16: =I16/$I$2 -> 0
A17: =ROUND(SUM(J17*$F$2),2) -> 0 | F17: =SUM(E17*A17) -> 0 | J17: =I17/$I$2 -> 0
A18: =ROUND(SUM(J18*$F$2),2) -> 0 | F18: =SUM(E18*A18) -> 0 | J18: =I18/$I$2 -> 0
A19: =ROUND(SUM(J19*$F$2),2) -> 0 | F19: =SUM(E19*A19) -> 0 | J19: =I19/$I$2 -> 0
A20: =ROUND(SUM(J20*$F$2),2) -> 0 | F20: =SUM(E20*A20) -> 0 | J20: =I20/$I$2 -> 0
A21: Zubereitung

Sheet Hauptgang
E1: Chochete vom | F1: =SUM(Menu!B3) -> 43566 | I1: Original Rezept
A2: =Menu!B11 -> TAGLIOLINI AL NERO DI SEPPIA mit Kabeljau | E2: Rezept für | F2: =SUM(Menu!B19) -> 4 | I2: 5 | J2: Personen | L2: Menu Angaben wie folgt machen:
A3: Menge | B3: Einheit | C3: Artikel (Gewicht alles ca. Angaben) | D3: Bemerkungen | E3: Einkaufspreis | F3: Betrag | I3: Originalrezept | J3: pro Person
A4: =ROUND(SUM(J4*$F$2),2) -> 0.24 | B4: Kg | C4: Tagliolini al nero di Seppia | F4: =SUM(E4*A4) -> 0 | I4: 0.3 | J4: =I4/$I$2 -> 0.06 | L4: Kg | M4: 0.25
A5: =ROUND(SUM(J5*$F$2),2) -> 4 | B5: Stk | C5: Kabeljaurückenfilet à ca.100 gr | D5: 1 Stk pro Person | F5: =SUM(E5*A5) -> 0 | I5: 5 | J5: =I5/$I$2 -> 1 | L5: Lt | M5: 1.25
A6: =ROUND(SUM(J6*$F$2),2) -> 1.6 | B6: Stk | C6: Knoblauzehen | F6: =SUM(E6*A6) -> 0 | I6: 2 | J6: =I6/$I$2 -> 0.4 | L6: EL | M6: Esslöffel
A7: =ROUND(SUM(J7*$F$2),2) -> 0.8 | B7: Stk | C7: Peproncino | F7: =SUM(E7*A7) -> 0 | I7: 1 | J7: =I7/$I$2 -> 0.2 | L7: TL | M7: Kaffeelöffel
A8: =ROUND(SUM(J8*$F$2),2) -> 0.8 | B8: Stk | C8: Ingwer | D8: 1 cm | F8: =SUM(E8*A8) -> 0 | I8: 1 | J8: =I8/$I$2 -> 0.2 | L8: Bund | M8: 1
A9: =ROUND(SUM(J9*$F$2),2) -> 2.4 | B9: EL | C9: Olivenöl | F9: =SUM(E9*A9) -> 0 | I9: 3 | J9: =I9/$I$2 -> 0.6 | L9: Stk | M9: Stück
A10: =ROUND(SUM(J10*$F$2),2) -> 0.8 | B10: EL | C10: Honig | D10: flüssig | F10: =SUM(E10*A10) -> 0 | I10: 1 | J10: =I10/$I$2 -> 0.2 | L10: Pä | M10: Päckli
A11: =ROUND(SUM(J11*$F$2),2) -> 0.08 | B11: LT | C11: Limettensaft | F11: =SUM(E11*A11) -> 0 | I11: 0.1 | J11: =I11/$I$2 -> 0.02 | L11: alles weitere ausschreiben
A12: =ROUND(SUM(J12*$F$2),2) -> 3.2 | B12: EL | C12: Sojasauce | F12: =SUM(E12*A12) -> 0 | I12: 4 | J12: =I12/$I$2 -> 0.8
A13: =ROUND(SUM(J13*$F$2),2) -> 0.24 | B13: Bund | C13: Koriander | D13: zum Garnieren | F13: =SUM(E13*A13) -> 0 | I13: 0.3 | J13: =I13/$I$2 -> 0.06
A14: =ROUND(SUM(J14*$F$2),2) -> 0 | F14: =SUM(E14*A14) -> 0 | J14: =I14/$I$2 -> 0
A15: =ROUND(SUM(J15*$F$2),2) -> 0 | F15: =SUM(E15*A15) -> 0 | J15: =I15/$I$2 -> 0
A16: =ROUND(SUM(J16*$F$2),2) -> 0 | F16: =SUM(E16*A16) -> 0 | J16: =I16/$I$2 -> 0
A17: =ROUND(SUM(J17*$F$2),2) -> 0 | F17: =SUM(E17*A17) -> 0 | J17: =I17/$I$2 -> 0
A18: =ROUND(SUM(J18*$F$2),2) -> 0 | F18: =SUM(E18*A18) -> 0 | J18: =I18/$I$2 -> 0
A19: =ROUND(SUM(J19*$F$2),2) -> 0 | F19: =SUM(E19*A19) -> 0 | J19: =I19/$I$2 -> 0
A20: Zubereitung
A21: Tagliolini in reichlich Salzwasser al dente kochen. Fischfilets mit kaltem Wasser abspülen, mit Haushaltspapier trocken tupfen. Mit Salz und Pfeffer würzen. Knoblauch in Scheiben schneiden. Peperoncino und Ingwer fein hacken. Öl in einer weiten Bratpfanne erhitzen. Fisch bei mittlerer Hitze 6–8 Minuten rundum braten. Herausnehmen und warmhalten. In derselben Pfanne Knoblauch, Peperoncino und Ingwer kurz anbraten. Mit Honig, Limettensaft und Sojasauce mischen. Sauce köcheln lassen. Spaghetti abgiessen und abtropfen lassen. Etwas Pastawasser auffangen. Spaghetti mit aufgefangenem Kochwasser zur Sauce geben. Schwarze Spaghetti mit Kabeljau servieren. Mit Koriander bestreuen.

Sheet Dessert
E1: Chochete vom | F1: =SUM(Menu!B3) -> 43566 | I1: Original Rezept
A2: =Menu!B13 -> Schwarze Schoggimousse | E2: Rezept für | F2: =SUM(Menu!B19) -> 4 | I2: 5 | J2: Personen | L2: Menu Angaben wie folgt machen:
A3: Menge | B3: Einheit | C3: Artikel (Gewicht alles ca. Angaben) | D3: Bemerkungen | E3: Einkaufspreis | F3: Betrag | I3: Originalrezept | J3: pro Person
A4: =ROUND(SUM(J4*$F$2),2) -> 0.2 | B4: Kg | C4: QimiQ Rahm-Basis, ungekühlt | F4: =SUM(E4*A4) -> 0 | I4: 0.25 | J4: =I4/$I$2 -> 0.05 | L4: Kg | M4: 0.25
A5: =ROUND(SUM(J5*$F$2),2) -> 0.08 | B5: Kg | C5: Extra dunkle Schokolade, 80% | F5: =SUM(E5*A5) -> 0 | I5: 0.1 | J5: =I5/$I$2 -> 0.02 | L5: Lt | M5: 1.25
A6: =ROUND(SUM(J6*$F$2),2) -> 0.05 | B6: LT | C6: Milch | F6: =SUM(E6*A6) -> 0 | I6: 0.06 | J6: =I6/$I$2 -> 0.012 | L6: EL | M6: Esslöffel
A7: =ROUND(SUM(J7*$F$2),2) -> 2.4 | B7: EL | C7: Zucker | F7: =SUM(E7*A7) -> 0 | I7: 3 | J7: =I7/$I$2 -> 0.6 | L7: KL | M7: Kaffeelöffel
A8: =ROUND(SUM(J8*$F$2),2) -> 0.8 | B8: TL | C8: Ruhm | F8: =SUM(E8*A8) -> 0 | I8: 1 | J8: =I8/$I$2 -> 0.2 | L8: Stk | M8: Stück
A9: =ROUND(SUM(J9*$F$2),2) -> 0.2 | B9: LT | C9: Vollrahm | F9: =SUM(E9*A9) -> 0 | I9: 0.25 | J9: =I9/$I$2 -> 0.05 | L9: Pä | M9: Päckli
A10: =ROUND(SUM(J10*$F$2),2) -> 0 | F10: =SUM(E10*A10) -> 0 | J10: =I10/$I$2 -> 0 | L10: alles weitere ausschreiben
A11: =ROUND(SUM(J11*$F$2),2) -> 0 | F11: =SUM(E11*A11) -> 0 | J11: =I11/$I$2 -> 0
A12: =ROUND(SUM(J12*$F$2),2) -> 0 | F12: =SUM(E12*A12) -> 0 | J12: =I12/$I$2 -> 0
A13: =ROUND(SUM(J13*$F$2),2) -> 0 | F13: =SUM(E13*A13) -> 0 | J13: =I13/$I$2 -> 0
A14: =ROUND(SUM(J14*$F$2),2) -> 0 | F14: =SUM(E14*A14) -> 0 | J14: =I14/$I$2 -> 0
A15: =ROUND(SUM(J15*$F$2),2) -> 0 | F15: =SUM(E15*A15) -> 0 | J15: =I15/$I$2 -> 0
A16: =ROUND(SUM(J16*$F$2),2) -> 0 | F16: =SUM(E16*A16) -> 0 | J16: =I16/$I$2 -> 0
A17: =ROUND(SUM(J17*$F$2),2) -> 0 | F17: =SUM(E17*A17) -> 0 | J17: =I17/$I$2 -> 0
A18: =ROUND(SUM(J18*$F$2),2) -> 0 | F18: =SUM(E18*A18) -> 0 | J18: =I18/$I$2 -> 0
A19: =ROUND(SUM(J19*$F$2),2) -> 0 | F19: =SUM(E19*A19) -> 0 | J19: =I19/$I$2 -> 0
A20: Zubereitung
A21: QimiQ glatt rühren. Milch, Zucker und Ruhm dazu mischen. Geschmolzene Schokolade unterziehen. Geschlagenen Rahm unterheben, abfüllen und mindesten 3 Stunden durchkühlen lassen. Tipp: Vor dem durchkühlen in Gläser abfüllen. Vor den Servieren mit Rahm und Schokospänen garnieren.

Sheet Diverses
E1: Chochete vom | F1: =SUM(Menu!B3) -> 43566 | I1: Original Rezept
A2: =Menu!B15 -> Pasta nero di seppia frisch machen mit Ruedi | E2: Rezept für | F2: =SUM(Menu!B19) -> 4 | I2: 5 | J2: Personen | L2: Menu Angaben wie folgt machen:
A3: Menge | B3: Einheit | C3: Artikel (Gewicht alles ca. Angaben) | D3: Bemerkungen | E3: Einkaufspreis | F3: Betrag | I3: Originalrezept | J3: pro Person
A4: =ROUND(SUM(J4*$F$2),2) -> 0.12 | B4: Kg | C4: Weizenmehl | F4: =SUM(E4*A4) -> 0 | I4: 0.15 | J4: =I4/$I$2 -> 0.03 | L4: Kg | M4: 0.25
A5: =ROUND(SUM(J5*$F$2),2) -> 0.12 | B5: Kg | C5: Hartweizenmehl | F5: =SUM(E5*A5) -> 0 | I5: 0.15 | J5: =I5/$I$2 -> 0.03 | L5: Lt | M5: 1.25
A6: =ROUND(SUM(J6*$F$2),2) -> 2.4 | B6: Stk | C6: Eier | F6: =SUM(E6*A6) -> 0 | I6: 3 | J6: =I6/$I$2 -> 0.6 | L6: EL | M6: Esslöffel
A7: =ROUND(SUM(J7*$F$2),2) -> 0.8 | B7: EL | C7: Olivenöl | F7: =SUM(E7*A7) -> 0 | I7: 1 | J7: =I7/$I$2 -> 0.2 | L7: KL | M7: Kaffeelöffel
A8: =ROUND(SUM(J8*$F$2),2) -> 0.4 | B8: KL | C8: Salz | F8: =SUM(E8*A8) -> 0 | I8: 0.5 | J8: =I8/$I$2 -> 0.1 | L8: Bund | M8: 1
A9: =ROUND(SUM(J9*$F$2),2) -> 0.8 | B9: EL | C9: Seppiatinte | F9: =SUM(E9*A9) -> 0 | I9: 1 | J9: =I9/$I$2 -> 0.2 | L9: Stk | M9: Stück
A10: =ROUND(SUM(J10*$F$2),2) -> 0 | F10: =SUM(E10*A10) -> 0 | J10: =I10/$I$2 -> 0 | L10: Pä | M10: Päckli
A11: =ROUND(SUM(J11*$F$2),2) -> 0 | F11: =SUM(E11*A11) -> 0 | J11: =I11/$I$2 -> 0 | L11: alles weitere ausschreiben
A12: =ROUND(SUM(J12*$F$2),2) -> 0 | F12: =SUM(E12*A12) -> 0 | J12: =I12/$I$2 -> 0
A13: =ROUND(SUM(J13*$F$2),2) -> 0 | F13: =SUM(E13*A13) -> 0 | J13: =I13/$I$2 -> 0
A14: =ROUND(SUM(J14*$F$2),2) -> 0 | F14: =SUM(E14*A14) -> 0 | J14: =I14/$I$2 -> 0
A15: =ROUND(SUM(J15*$F$2),2) -> 0 | F15: =SUM(E15*A15) -> 0 | J15: =I15/$I$2 -> 0
A16: =ROUND(SUM(J16*$F$2),2) -> 0 | F16: =SUM(E16*A16) -> 0 | J16: =I16/$I$2 -> 0
A17: =ROUND(SUM(J17*$F$2),2) -> 0 | F17: =SUM(E17*A17) -> 0 | J17: =I17/$I$2 -> 0
A18: =ROUND(SUM(J18*$F$2),2) -> 0 | F18: =SUM(E18*A18) -> 0 | J18: =I18/$I$2 -> 0
A19: Zubereitung
A20: Mehl mit Hartweizengriess und Salz mischen, auf ein Brett häufen. In die Mitte eine Mulde drücken, Eier und Öl hineingeben. Eier mit etwas Mehl verquirlen und, falls nötig, etwas Wasser zugeben. Dann Sepiatinte zugeben. Mit dem Handballen so lange durchkneten, bis ein glatter, formbarer Teig entsteht. Der Teig ist optimal, wenn er sich vom Holzbrett löst und die Oberfläche glänzt. Zu einer Kugel formen, mit einem Tuch bedecken und ca. 30 Minuten ruhen lassen. Nudelteig in Form bringen: Die Teigkugel von der Mitte aus auf einem bemehlten Backbrett auswellen. Beim Ausrollen mit der Nudelmaschine die Walzenstärke von Mal zu Mal verringern. Die Teigstreifen leicht bemehlt nebeneinander legen und kurz antrocknen lassen. Mit dem entsprechenden Vorsatz an der Nudelmaschine den Teig in schmale oder breite Nudeln schneiden. Die Nudeln in ausreichend kochendes und gesalzenes Wasser geben. Frische Nudeln sind innerhalb von 2-5 Minuten, je nach Dicke des Teigs, bereits fertig.

Sheet Einkaufsliste
A1: Hobby-Küche Zug | C1: Einkaufsliste | D1: =Dessert!F1 -> 43566 | E1: ok
A2: Menge | B2: Einheit | C2: Artikel
A3: =Vorspeise!A2 -> Coquilles Saint-Jacques auf schwarzen Beluga Linsen | D3: Bemerkungen
A4: =SUM(Vorspeise!A4) -> 80 | B4: =Vorspeise!B4 -> gr | C4: =Vorspeise!C4 -> Beluga Linsen | D4: =Vorspeise!D4 -> 0
A5: =SUM(Vorspeise!A5) -> 1.6 | B5: =Vorspeise!B5 -> TL | C5: =Vorspeise!C5 -> Butter | D5: =Vorspeise!D5 -> 0
A6: =SUM(Vorspeise!A6) -> 1.6 | B6: =Vorspeise!B6 -> Stk | C6: =Vorspeise!C6 -> Schalotte | D6: =Vorspeise!D6 -> 0
A7: =SUM(Vorspeise!A7) -> 1.6 | B7: =Vorspeise!B7 -> EL | C7: =Vorspeise!C7 -> Crema di Balsamico | D7: =Vorspeise!D7 -> 0
A8: =SUM(Vorspeise!A8) -> 1.6 | B8: =Vorspeise!B8 -> TL | C8: =Vorspeise!C8 -> Olivenöl | D8: =Vorspeise!D8 -> 0
A9: =SUM(Vorspeise!A9) -> 0.4 | B9: =Vorspeise!B9 -> Bund | C9: =Vorspeise!C9 -> Schnittlauch für Garnitur | D9: =Vorspeise!D9 -> 0
A10: =SUM(Vorspeise!A10) -> 4 | B10: =Vorspeise!B10 -> Stk | C10: =Vorspeise!C10 -> Coquilles Saint-Jacques | D10: =Vorspeise!D10 -> 0
A11: =SUM(Vorspeise!A11) -> 0 | B11: =Vorspeise!B11 -> 0 | C11: =Vorspeise!C11 -> 0 | D11: =Vorspeise!D11 -> 0
A12: =SUM(Vorspeise!A12) -> 0 | B12: =Vorspeise!B12 -> 0 | C12: =Vorspeise!C12 -> 0 | D12: =Vorspeise!D12 -> 0
A13: =SUM(Vorspeise!A13) -> 0 | B13: =Vorspeise!B13 -> 0 | C13: =Vorspeise!C13 -> 0 | D13: =Vorspeise!D13 -> 0
A14: =SUM(Vorspeise!A14) -> 0 | B14: =Vorspeise!B14 -> 0 | C14: =Vorspeise!C14 -> 0 | D14: =Vorspeise!D14 -> 0
A15: =SUM(Vorspeise!A15) -> 0 | B15: =Vorspeise!B15 -> 0 | C15: =Vorspeise!C15 -> 0 | D15: =Vorspeise!D15 -> 0
... A20: =SUM(Vorspeise!A20) -> 0 | B20: =Vorspeise!B20 -> 0 | C20: =Vorspeise!C20 -> 0 | D20: =Vorspeise!D20 -> 0
A21: =Salat!A2 -> Schwarzer Reissalat mit Paprika | D21: Bemerkungen
A22: =SUM(Salat!A4) -> 0.6 | B22: =Salat!B4 -> Tasse | C22: =Salat!C4 -> Schwarzer Reis | D22: =Salat!D4 -> 0
A23: =SUM(Salat!A5) -> 0.8 | B23: =Salat!B5 -> Stk | C23: =Salat!C5 -> Paprika rot | D23: =Salat!D5 -> eventuell schälen
A24: =SUM(Salat!A6) -> 0.8 | B24: =Salat!B6 -> Stk | C24: =Salat!C6 -> Frühlingszwiebel | D24: =Salat!D6 -> 0
A25: =SUM(Salat!A7) -> 0.08 | B25: =Salat!B7 -> Kg | C25: =Salat!C7 -> Cashews | D25: =Salat!D7 -> 0
A26: =SUM(Salat!A8) -> 2.4 | B26: =Salat!B8 -> EL | C26: =Salat!C8 -> Sojasauce | D26: =Salat!D8 -> 0
A27: =SUM(Salat!A9) -> 1.6 | B27: =Salat!B9 -> EL | C27: =Salat!C9 -> Sesamöl | D27: =Salat!D9 -> kaltgepresst
A28: =SUM(Salat!A10) -> 0.8 | B28: =Salat!B10 -> Stk | C28: =Salat!C10 -> Limmette | D28: =Salat!D10 -> Saft
A29: =SUM(Salat!A11) -> 0.8 | B29: =Salat!B11 -> TL | C29: =Salat!C11 -> Sambal Oelek | D29: =Salat!D11 -> 0
A30: =SUM(Salat!A12) -> 0 | B30: =Salat!B12 -> 0 | C30: =Salat!C12 -> 0 | D30: =Salat!D12 -> 0
A31: =SUM(Salat!A13) -> 0 | B31: =Salat!B13 -> 0 | C31: =Salat!C13 -> Zucker, Salz und Pfeffer | D31: =Salat!D13 -> 0
A32: =SUM(Salat!A14) -> 0 | B32: =Salat!B14 -> 0 | C32: =Salat!C14 -> 0 | D32: =Salat!D14 -> 0
A33: =SUM(Salat!A15) -> 0 | B33: =Salat!B15 -> 0 | C33: =Salat!C15 -> 0 | D33: =Salat!D15 -> 0
... A38: =SUM(Salat!A20) -> 0 | B38: =Salat!B20 -> 0 | C38: =Salat!C20 -> 0 | D38: =Salat!D20 -> 0
A39: =Suppe!A2 -> Schwarze Bohnensuppe mit Brie | D39: Bemerkungen
A40: =SUM(Suppe!A4) -> 0.8 | B40: =Suppe!B4 -> EL | C40: =Suppe!C4 -> ÖL | D40: =Suppe!D4 -> 0
A41: =SUM(Suppe!A5) -> 0.8 | B41: =Suppe!B5 -> Stk | C41: =Suppe!C5 -> Zwiebel, fein geschnitten | D41: =Suppe!D5 -> 0
A42: =SUM(Suppe!A6) -> 1.6 | B42: =Suppe!B6 -> Stk | C42: =Suppe!C6 -> Knoblauch, gepresst | D42: =Suppe!D6 -> 0
A43: =SUM(Suppe!A7) -> 2.4 | B43: =Suppe!B7 -> Dosen | C43: =Suppe!C7 -> schwarze Bohnen | D43: =Suppe!D7 -> je ca. 210 g
A44: =SUM(Suppe!A8) -> 0.24 | B44: =Suppe!B8 -> Lt | C44: =Suppe!C8 -> Weisswein | D44: =Suppe!D8 -> Chardonnay
A45: =SUM(Suppe!A9) -> 0.64 | B45: =Suppe!B9 -> Lt | C45: =Suppe!C9 -> Gemüsebouillon | D45: =Suppe!D9 -> 0
A46: =SUM(Suppe!A10) -> 0.12 | B46: =Suppe!B10 -> Kg | C46: =Suppe!C10 -> Brie | D46: =Suppe!D10 -> Brie Vallière
A47: =SUM(Suppe!A11) -> 0.8 | B47: =Suppe!B11 -> Stk. | C47: =Suppe!C11 -> Gartenkresse | D47: =Suppe!D11 -> 0
A48: =SUM(Suppe!A12) -> 0.4 | B48: =Suppe!B12 -> Stk | C48: =Suppe!C12 -> Schwarzpeter Brot | D48: =Suppe!D12 -> 0
A49: =SUM(Suppe!A13) -> 0 | B49: =Suppe!B13 -> 0 | C49: =Suppe!C13 -> 0 | D49: =Suppe!D13 -> 0
A50: =SUM(Suppe!A14) -> 0 | B50: =Suppe!B14 -> 0 | C50: =Suppe!C14 -> 0 | D50: =Suppe!D14 -> 0
A51: =SUM(Suppe!A15) -> 0 | B51: =Suppe!B15 -> 0 | C51: =Suppe!C15 -> 0 | D51: =Suppe!D15 -> 0
... A55: =SUM(Suppe!A19) -> 0 | B55: =Suppe!B19 -> 0 | C55: =Suppe!C19 -> 0 | D55: =Suppe!D19 -> 0
A56: =SUM(Suppe!A20) -> 0 | B56: =Suppe!B20 -> 0 | C56: =Suppe!C19 -> 0 | D56: =Suppe!D19 -> 0
A57: ='Beilage 1'!A2 -> 0 | D57: Bemerkungen
A58: ='Beilage 1'!A4 -> 0 | B58: ='Beilage 1'!B4 -> 0 | C58: ='Beilage 1'!C4 -> 0 | D58: ='Beilage 1'!D4 -> 0
A59: ='Beilage 1'!A5 -> 0 | B59: ='Beilage 1'!B5 -> 0 | C59: ='Beilage 1'!C5 -> 0 | D59: ='Beilage 1'!D5 -> 0
A60: ='Beilage 1'!A6 -> 0 | B60: ='Beilage 1'!B6 -> 0 | C60: ='Beilage 1'!C6 -> 0 | D60: ='Beilage 1'!D6 -> 0
A61: ='Beilage 1'!A7 -> 0 | B61: ='Beilage 1'!B7 -> 0 | C61: ='Beilage 1'!C7 -> 0 | D61: ='Beilage 1'!D7 -> 0
A62: ='Beilage 1'!A8 -> 0 | B62: ='Beilage 1'!B8 -> 0 | C62: ='Beilage 1'!C8 -> 0 | D62: ='Beilage 1'!D8 -> 0
A63: ='Beilage 1'!A9 -> 0 | B63: ='Beilage 1'!B9 -> 0 | C63: ='Beilage 1'!C9 -> 0 | D63: ='Beilage 1'!D9 -> 0
A64: ='Beilage 1'!A10 -> 0 | B64: ='Beilage 1'!B10 -> 0 | C64: ='Beilage 1'!C10 -> 0 | D64: ='Beilage 1'!D10 -> 0
A65: ='Beilage 1'!A11 -> 0 | B65: ='Beilage 1'!B11 -> 0 | C65: ='Beilage 1'!C11 -> 0 | D65: ='Beilage 1'!D11 -> 0
A66: ='Beilage 1'!A12 -> 0 | B66: ='Beilage 1'!B12 -> 0 | C66: ='Beilage 1'!C12 -> 0 | D66: ='Beilage 1'!D12 -> 0
A67: ='Beilage 1'!A13 -> 0 | B67: ='Beilage 1'!B13 -> 0 | C67: ='Beilage 1'!C13 -> 0 | D67: ='Beilage 1'!D13 -> 0
A68: ='Beilage 1'!A14 -> 0 | B68: ='Beilage 1'!B14 -> 0 | C68: ='Beilage 1'!C14 -> 0 | D68: ='Beilage 1'!D14 -> 0
A69: ='Beilage 1'!A15 -> 0 | B69: ='Beilage 1'!B15 -> 0 | C69: ='Beilage 1'!C15 -> 0 | D69: ='Beilage 1'!D15 -> 0
... A74: ='Beilage 1'!A20 -> 0 | B74: ='Beilage 1'!B20 -> 0 | C74: ='Beilage 1'!C20 -> 0 | D74: ='Beilage 1'!D20 -> 0
A75: =Hauptgang!A2 -> TAGLIOLINI AL NERO DI SEPPIA mit Kabeljau
A76: =SUM(Hauptgang!A4) -> 0.24 | B76: =Hauptgang!B4 -> Kg | C76: =Hauptgang!C4 -> Tagliolini al nero di Seppia | D76: =Hauptgang!D4 -> 0
A77: =SUM(Hauptgang!A5) -> 4 | B77: =Hauptgang!B5 -> Stk | C77: =Hauptgang!C5 -> Kabeljaurückenfilet à ca.100 gr | D77: =Hauptgang!D5 -> 1 Stk pro Person
A78: =SUM(Hauptgang!A6) -> 1.6 | B78: =Hauptgang!B6 -> Stk | C78: =Hauptgang!C6 -> Knoblauzehen | D78: =Hauptgang!D6 -> 0
A79: =SUM(Hauptgang!A7) -> 0.8 | B79: =Hauptgang!B7 -> Stk | C79: =Hauptgang!C7 -> Peproncino | D79: =Hauptgang!D7 -> 0
A80: =SUM(Hauptgang!A8) -> 0.8 | B80: =Hauptgang!B8 -> Stk | C80: =Hauptgang!C8 -> Ingwer | D80: =Hauptgang!D8 -> 1 cm
A81: =SUM(Hauptgang!A9) -> 2.4 | B81: =Hauptgang!B9 -> EL | C81: =Hauptgang!C9 -> Olivenöl | D81: =Hauptgang!D9 -> 0
A82: =SUM(Hauptgang!A10) -> 0.8 | B82: =Hauptgang!B10 -> EL | C82: =Hauptgang!C10 -> Honig | D82: =Hauptgang!D10 -> flüssig
A83: =SUM(Hauptgang!A11) -> 0.08 | B83: =Hauptgang!B11 -> LT | C83: =Hauptgang!C11 -> Limettensaft | D83: =Hauptgang!D11 -> 0
A84: =SUM(Hauptgang!A12) -> 3.2 | B84: =Hauptgang!B12 -> EL | C84: =Hauptgang!C12 -> Sojasauce | D84: =Hauptgang!D12 -> 0
A85: =SUM(Hauptgang!A13) -> 0.24 | B85: =Hauptgang!B13 -> Bund | C85: =Hauptgang!C13 -> Koriander | D85: =Hauptgang!D13 -> zum Garnieren
A86: =SUM(Hauptgang!A14) -> 0 | B86: =Hauptgang!B14 -> 0 | C86: =Hauptgang!C14 -> 0 | D86: =Hauptgang!D14 -> 0
A87: =SUM(Hauptgang!A15) -> 0 | B87: =Hauptgang!B15 -> 0 | C87: =Hauptgang!C15 -> 0 | D87: =Hauptgang!D15 -> 0
... A92: =SUM(Hauptgang!A20) -> 0 | B92: =Hauptgang!B20 -> 0 | C92: =Hauptgang!C20 -> 0 | D92: =Hauptgang!D20
A93: =Dessert!A2 -> Schwarze Schoggimousse | D93: Bemerkungen
A94: =SUM(Dessert!A4) -> 0.2 | B94: =Dessert!B4 -> Kg | C94: =Dessert!C4 -> QimiQ Rahm-Basis, ungekühlt | D94: =Dessert!D4 -> 0
A95: =SUM(Dessert!A5) -> 0.08 | B95: =Dessert!B5 -> Kg | C95: =Dessert!C5 -> Extra dunkle Schokolade, 80% | D95: =Dessert!D5 -> 0
A96: =SUM(Dessert!A6) -> 0.05 | B96: =Dessert!B6 -> LT | C96: =Dessert!C6 -> Milch | D96: =Dessert!D6 -> 0
A97: =SUM(Dessert!A7) -> 2.4 | B97: =Dessert!B7 -> EL | C97: =Dessert!C7 -> Zucker | D97: =Dessert!D7 -> 0
A98: =SUM(Dessert!A8) -> 0.8 | B98: =Dessert!B8 -> TL | C98: =Dessert!C8 -> Ruhm | D98: =Dessert!D8 -> 0
A99: =SUM(Dessert!A9) -> 0.2 | B99: =Dessert!B9 -> LT | C99: =Dessert!C9 -> Vollrahm | D99: =Dessert!D9 -> 0
A100: =SUM(Dessert!A10) -> 0 | B100: =Dessert!B10 -> 0 | C100: =Dessert!C10 -> 0 | D100: =Dessert!D10 -> 0
A101: =SUM(Dessert!A11) -> 0 | B101: =Dessert!B11 -> 0 | C101: =Dessert!C11 -> 0 | D101: =Dessert!D11 -> 0
A102: =SUM(Dessert!A11) -> 0 | B102: =Dessert!B12 -> 0 | C102: =Dessert!C11 -> 0 | D102: =Dessert!D11 -> 0
A103: =SUM(Dessert!A12) -> 0 | B103: =Dessert!B12 -> 0 | C103: =Dessert!C12 -> 0 | D103: =Dessert!D12 -> 0
A104: =SUM(Dessert!A13) -> 0 | B104: =Dessert!B13 -> 0 | C104: =Dessert!C13 -> 0 | D104: =Dessert!D13 -> 0
A105: =SUM(Dessert!A14) -> 0 | B105: =Dessert!B14 -> 0 | C105: =Dessert!C14 -> 0 | D105: =Dessert!D14 -> 0
A106: =SUM(Dessert!A15) -> 0 | B106: =Dessert!B15 -> 0 | C106: =Dessert!C15 -> 0 | D106: =Dessert!D15 -> 0
A107: =SUM(Dessert!A16) -> 0 | B107: =Dessert!B16 -> 0 | C107: =Dessert!C16 -> 0 | D107: =Dessert!D16 -> 0
A108: =SUM(Dessert!A17) -> 0 | B108: =Dessert!B17 -> 0 | C108: =Dessert!C17 -> 0 | D108: =Dessert!D17 -> 0
A109: =Diverses!A2 -> Pasta nero di seppia frisch machen mit Ruedi
A110: =SUM(Diverses!A4) -> 0.12 | B110: =Diverses!B4 -> Kg | C110: =Diverses!C4 -> Weizenmehl | D110: =Diverses!D4 -> 0
A111: =SUM(Diverses!A5) -> 0.12 | B111: =Diverses!B5 -> Kg | C111: =Diverses!C5 -> Hartweizenmehl | D111: =Diverses!D5 -> 0
A112: =SUM(Diverses!A6) -> 2.4 | B112: =Diverses!B6 -> Stk | C112: =Diverses!C6 -> Eier | D112: =Diverses!D6 -> 0
A113: =SUM(Diverses!A7) -> 0.8 | B113: =Diverses!B7 -> EL | C113: =Diverses!C7 -> Olivenöl | D113: =Diverses!D7 -> 0
A114: =SUM(Diverses!A8) -> 0.4 | B114: =Diverses!B8 -> KL | C114: =Diverses!C8 -> Salz | D114: =Diverses!D8 -> 0
A115: =SUM(Diverses!A9) -> 0.8 | B115: =Diverses!B9 -> EL | C115: =Diverses!C9 -> Seppiatinte | D115: =Diverses!D9 -> 0
A116: =SUM(Diverses!A10) -> 0 | B116: =Diverses!B10 -> 0 | C116: =Diverses!C10 -> 0 | D116: =Diverses!D10 -> 0
A117: =SUM(Diverses!A11) -> 0 | B117: =Diverses!B11 -> 0 | C117: =Diverses!C11 -> 0 | D117: =Diverses!D11 -> 0
A118: =SUM(Diverses!A12) -> 0 | B118: =Diverses!B12 -> 0 | C118: =Diverses!C12 -> 0 | D118: =Diverses!D12 -> 0
A119: =SUM(Diverses!A13) -> 0 | B119: =Diverses!B13 -> 0 | C119: =Diverses!C13 -> 0 | D119: =Diverses!D13 -> 0
...
