Workbook

Sheet Menu
A3: Datum | B3: Donnerstag, 10. September 2015
B4: ****
A6: Vorspeise 1 | B6: Hartweizen Salat mit Kräutern
B9: ****
A10: Vorspeise 2 | B10: Eglifilet mit Limetten-Kräuterschaum
B13: ****
A14: Hauptgang | B14: Gefüllte Kalbsbrust
A16: Beilage | B16: mit Kartoffel-Gnocchi
B19: ****
A20: Dessert | B20: Feigen-Gewürz-Dessert mit Honig
B21: ****
A22: Menu von Tisch | B22: Tisch A
B23: ****
A24: Personenzahl | B24: 5 | D24: Für die Einkaufsliste Anzahlteilnehmer eingeben! Für den Kochabend auf Personenzahl pro Tisch reduzieren und Drucken

Sheet Vorspeise 1
E1: Chochete vom | F1: =SUM(Menu!B3) -> 0 | I1: Original Rezept
A2: =Menu!B6 -> Hartweizen Salat mit Kräutern | E2: Rezept für | F2: =Menu!B24 -> 5 | I2: 8 | J2: Personen
A3: Menge | B3: Einheit | C3: Artikel (Gewicht alles ca. Angaben) | D3: Bemerkungen | E3: Einkaufspreis | F3: Betrag | I3: Originalrezept | J3: pro Person
A4: =$F$2*J4 -> 0.625 | B4: EL | C4: Olivenöl | E4: 0 | F4: =SUM(E4*A4) -> 0 | I4: 1 | J4: =I4/$I$2 -> 0.125
A5: =$F$2*J5 -> 1.25 | B5: Stk. | C5: Schalotten | F5: =SUM(E5*A5) -> 0 | I5: 2 | J5: =I5/$I$2 -> 0.25
A6: =$F$2*J6 -> 0.625 | B6: Stk. | C6: Knoblauchzehe | F6: =SUM(E6*A6) -> 0 | I6: 1 | J6: =I6/$I$2 -> 0.125
A7: =$F$2*J7 -> 1.875 | B7: EL | C7: Rosinen | F7: =SUM(E7*A7) -> 0 | I7: 3 | J7: =I7/$I$2 -> 0.375
A8: =$F$2*J8 -> 125 | B8: gr | C8: vorgekochter Hartweizen | F8: =SUM(E8*A8) -> 0 | I8: 200 | J8: =I8/$I$2 -> 25
A9: =$F$2*J9 -> 3.75 | B9: dl | C9: Gemüsebouillon | F9: =SUM(E9*A9) -> 0 | I9: 6 | J9: =I9/$I$2 -> 0.75
A10: =$F$2*J10 -> 2.5 | B10: EL | C10: Weissweinessig | F10: =SUM(E10*A10) -> 0 | I10: 4 | J10: =I10/$I$2 -> 0.5
A11: =$F$2*J11 -> 3.125 | B11: EL | C11: Olivenöl | F11: =SUM(E11*A11) -> 0 | I11: 5 | J11: =I11/$I$2 -> 0.625
A12: =$F$2*J12 -> 1.25 | B12: EL | C12: glattbättrige Petersilie und Majoranblättchen | F12: =SUM(E12*A12) -> 0 | I12: 2 | J12: =I12/$I$2 -> 0.25
A13: =$F$2*J13 -> 0 | F13: =SUM(E13*A13) -> 0 | J13: =I13/$I$2 -> 0
A14: =$F$2*J14 -> 0 | C14: Salz, Pfeffeer aus der Mühle | F14: =SUM(E14*A14) -> 0 | J14: =I14/$I$2 -> 0
A15: =$F$2*J15 -> 0 | F15: =SUM(E15*A15) -> 0 | J15: =I15/$I$2 -> 0
A16: =ROUND(SUM(J16*$F$2),2) -> 0 | F16: =SUM(E16*A16) -> 0 | J16: =I16/$I$2 -> 0
A17: =ROUND(SUM(J17*$F$2),2) -> 0 | F17: =SUM(E17*A17) -> 0 | J17: =I17/$I$2 -> 0
A18: =ROUND(SUM(J18*$F$2),2) -> 0
A19: =ROUND(SUM(J19*$F$2),2) -> 0
A20: =ROUND(SUM(J20*$F$2),2) -> 0 | F20: =SUM(E20*A20) -> 0 | J20: =I20/$I$2 -> 0
A21: Zubereitung | C21: ca. 30 Min. | J21: =I21/$I$2 -> 0
A22: 1. Olivenöl in einer Pfanne warm werden lassen 2. Gehackte Schalotten und gepresste Knoblauchzehe und Rosinen andämpfen 3. Vorgekochter Hartweizen beigeben, ca. 2min dünsten 4. Gemüsebouillon dazugiessen, aufkochen, Hitze reduzieren, ca. 20 Min köcheln, in Schüssel auskühlen 5. Öl und Essig beigeben und mischen 6. Petersilie und Majoran darunter mischen
J24: =I24/$I$2 -> 0
J25: =I25/$I$2 -> 0
J26: =I26/$I$2 -> 0
J27: =I27/$I$2 -> 0

Sheet Vorspeise 2
E1: Chochete vom | F1: =SUM(Menu!B3) -> 0 | I1: Original Rezept
A2: =Menu!B10 -> Eglifilet mit Limetten-Kräuterschaum | E2: Rezept für | F2: =SUM(Menu!B24) -> 5 | I2: 8 | J2: Personen
A3: Menge | B3: Einheit | C3: Artikel (Gewicht alles ca. Angaben) | D3: Bemerkungen | E3: Einkaufspreis | F3: Betrag | I3: Originalrezept | J3: pro Person
A4: =$F$2*J4 -> 10 | B4: Stk | C4: Eglifilet | F4: =SUM(E4*A4) -> 0 | I4: 16 | J4: =I4/$I$2 -> 2
A5: =$F$2*J5 -> 1.25 | B5: dl | C5: fertig Fischfond | F5: =SUM(E5*A5) -> 0 | I5: 2 | J5: =I5/$I$2 -> 0.25
A6: =$F$2*J6 -> 0.625 | B6: dl | C6: trockerner Weisswein | F6: =SUM(E6*A6) -> 0 | I6: 1 | J6: =I6/$I$2 -> 0.125
A7: =$F$2*J7 -> 1.25 | B7: Stk | C7: frische Eigelbe | F7: =SUM(E7*A7) -> 0 | I7: 2 | J7: =I7/$I$2 -> 0.25
A8: =$F$2*J8 -> 0.3125 | B8: Stk | C8: Limette | F8: =SUM(E8*A8) -> 0 | I8: 0.5 | J8: =I8/$I$2 -> 0.0625
A9: =$F$2*J9 -> 0 | B9: Bund | C9: Dill | F9: =SUM(E9*A9) -> 0 | I9: 0
A10: =$F$2*J10 -> 0 | C10: Bratbutter zum Anbraten | F10: =SUM(E10*A10) -> 0 | J10: =I10/$I$2 -> 0
A11: =$F$2*J11 -> 0 | C11: Salz, Pfeffer, Muskat | F11: =SUM(E11*A11) -> 0 | J11: =I11/$I$2 -> 0
A12: =$F$2*J12 -> 0 | F12: =SUM(E12*A12) -> 0 | J12: =I12/$I$2 -> 0
A13: =$F$2*J13 -> 0 | F13: =SUM(E13*A13) -> 0 | J13: =I13/$I$2 -> 0
F14: =SUM(E14*A14) -> 0 | J14: =I14/$I$2 -> 0
F15: =SUM(E15*A15) -> 0 | J15: =I15/$I$2 -> 0
A16: =ROUND(SUM(J16*$F$2),2) -> 0 | F16: =SUM(E16*A16) -> 0 | J16: =I16/$I$2 -> 0
A17: =ROUND(SUM(J17*$F$2),2) -> 0 | F17: 0 | J17: =I17/$I$2 -> 0
F18: 0 | J18: =I18/$I$2 -> 0
A19: =ROUND(SUM(J19*$F$2),2) -> 0 | F19: =SUM(E19*A19) -> 0 | J19: =I19/$I$2 -> 0
A20: =ROUND(SUM(J20*$F$2),2) -> 0 | F20: =SUM(E20*A20) -> 0 | J20: =I20/$I$2 -> 0
A21: Zubereitung | J21: =I21/$I$2 -> 0
A22: 1.Fisch würzen mit Pfeffer aus Mühle 2.Bratbutter in einer beschichteten Bratpfanne heiss werden lassen, Hitze reduzieren, Fisch protionenweise beidseitig je ca. 2 Min. braten, herausnehmen 3.Fischfond und Weisswein in einer Pfanne aufkochen, Hitze reduzieren, auf ca. 1/2 einköcheln, in einer dünnwandigen Schüssel auskühlen 4. 2 frische Eigelbe beigeben, mit den Schwingbesen des Handrührgerätes im heissen Wasserbad (knapp unter dem Siedepunkt) ca. 4 Min. rühren, bis die Masse schaumig ist und sich Rührspuren abzeichnen. Schüssel herausnehmen, kurz weiterrühren. 5. abgeribene Schale und 1 Teelöffel Saft von der Limette und Dill beigeben. Nach Bedarf würzen. Hinweis: der Schaum lässt sich nicht warm halten, er fällt schnell zusammen. Deshalb kurz vor dem Servieren zubereiten. | J22: =I22/$I$2 -> 0
J23: =I23/$I$2 -> 0
J24: =I24/$I$2 -> 0
J25: =I25/$I$2 -> 0
J26: =I26/$I$2 -> 0
J27: =I27/$I$2 -> 0
J28: =I28/$I$2 -> 0
J29: =I29/$I$2 -> 0
J30: =I30/$I$2 -> 0
J31: =I31/$I$2 -> 0
J32: =I32/$I$2 -> 0
J33: =I33/$I$2 -> 0
J34: =I34/$I$2 -> 0

Sheet Hauptgang
E1: Chochete vom | F1: =SUM(Menu!B3) -> 0 | I1: Original Rezept
A2: Gefüllte Kalbsbrust | E2: Rezept für | F2: =Menu!B24 -> 5 | I2: 8 | J2: Personen
A3: Menge | B3: Einheit | C3: Artikel (Gewicht alles ca. Angaben) | D3: Bemerkungen | E3: Einkaufspreis | F3: Betrag | I3: Originalrezept | J3: pro Person
A4: =F2*J4 -> 312.5 | B4: gr | C4: frischer Blattspinat | F4: =SUM(E4*A4) -> 0 | I4: 500 | J4: =I4/$I$2 -> 62.5
A5: =F2*J5 -> 0 | C5: Butter zum Anbraten | F5: =SUM(E5*A5) -> 0 | J5: =I5/$I$2 -> 0
A6: =F2*J6 -> 0.625 | B6: Prise | C6: Muskatnuss | F6: =SUM(E6*A6) -> 0 | I6: 1 | J6: =I6/$I$2 -> 0.125
A7: =F2*J7 -> 0.625 | B7: kg | C7: Kalbsbrust, vom Metzger zum Rollen aufgeschnitten | F7: =SUM(E7*A7) -> 0 | I7: 1 | J7: =I7/$I$2 -> 0.125
A8: =F2*J8 -> 62.5 | B8: gr | C8: gekochter Parmaschinken | F8: =SUM(E8*A8) -> 0 | I8: 100 | J8: =I8/$I$2 -> 12.5
A9: =F2*J9 -> 2.5 | B9: Esslöfel | C9: frisch geriebener Parmesan | F9: =SUM(E9*A9) -> 0 | I9: 4 | J9: =I9/$I$2 -> 0.5
A10: =F2*J10 -> 0.625 | B10: Stk. | C10: Stangensellerie | F10: =SUM(E10*A10) -> 0 | I10: 1 | J10: =I10/$I$2 -> 0.125
A11: =F2*J11 -> 1.25 | B11: stk. | C11: Karotten | F11: =SUM(E11*A11) -> 0 | I11: 2 | J11: =I11/$I$2 -> 0.25
A12: =F2*J12 -> 0.625 | B12: Stk. | C12: Zwiebel | F12: =SUM(E12*A12) -> 0 | I12: 1 | J12: =I12/$I$2 -> 0.125
A13: =F2*J13 -> 0.625 | B13: stk | C13: Lorbeerblatt | F13: =SUM(E13*A13) -> 0 | I13: 1 | J13: =I13/$I$2 -> 0.125
A14: =F2*J14 -> 1.25 | B14: Stk | C14: Nelken | F14: =SUM(E14*A14) -> 0 | I14: 2 | J14: =I14/$I$2 -> 0.25
A15: =F2*J15 -> 46.875 | B15: ml | C15: Olivenöl | F15: =SUM(E15*A15) -> 0 | I15: 75 | J15: =I15/$I$2 -> 9.375
A16: =F2*J16 -> 78.125 | B16: ml | C16: Weisswein | F16: =SUM(E16*A16) -> 0 | I16: 125 | J16: =I16/$I$2 -> 15.625
A17: =F2*J17 -> 0.625 | B17: Stk. | C17: Küchenschnur | F17: =SUM(E17*A17) -> 0 | I17: 1 | J17: =I17/$I$2 -> 0.125
A18: =ROUND(SUM(J18*$F$2),2) -> 0 | F18: =SUM(E18*A18) -> 0 | J18: =I18/$I$2 -> 0
F25: =SUM(E25*A25) -> 0 | J25: =I25/$I$2 -> 0
A26: Zubereitung | J26: =I26/$I$2 -> 0
A27: Frischen Spinat gründlich waschen und in das tiefe Backblech geben. Im Ofen 10 Minuten dampfgaren, bis der Spinat zusammengefallen ist. In ein Sieb abschütten und sehr gut ausdrücken. Grob hacken, in einer Schüssel mit der Butter mischen, mit Salz, Pfeffer und Muskatnuss würzen. Die Kalbsbrust auf der Arbeitsfläche auslegen, nach Belieben einen Teil des Fetts wegschneiden. Das Fleisch mit den Schinkenscheiben belegen, den Spinat darauf verteilen und mit dem Käse bestreuen. Die Kalbsbrust satt aufrollen und mit Küchenschnur binden. Rundherum mit Salz und Pfeffer würzen. Die Kalbsbrust in eine feuerfeste Form legen. Das Olivenöl in einem kleinen Topf erhizen und über den Braten täufeln. Sofort in den auf 220Grad Ober-/Unterhize vorgeheitzen Ofen geben und 15 Minuten anbraten. Inzwischen den Stangensellerie und die Karrotten in Stücke schneiden. Die Zwiebel schälen, halbieren und mit dem Loorbeerblatt und den Nelken bestecken. Nach 15 Minuten den Braten aus dem Ofen nehmen. Den Ofen auf 180 Grad Intervallfunktion umschalten. Das Gemüse und die besteckte Zwiebel zur Kalbsbrust geben und alles mit dem Weisswein beträufeln. die Kalbsbrust wieder in den Ofen geben und bei 180Grad mit Intervallfunktion 1 1/2 Stunden braten. Den Braten aus dem Ofen nehmen, in Alufolie wickeln und 5-10 Minuten nachziehen lassen. Dann in Scheiben aufschneiden und servieren. | J27: =I27/$I$2 -> 0
J28: =I28/$I$2 -> 0
J29: =I29/$I$2 -> 0
J30: =I30/$I$2 -> 0
J31: =I31/$I$2 -> 0
J32: =I32/$I$2 -> 0
J33: =I33/$I$2 -> 0
J34: =I34/$I$2 -> 0
J35: =I35/$I$2 -> 0
J36: =I36/$I$2 -> 0
J37: =I37/$I$2 -> 0
J38: =I38/$I$2 -> 0
J39: =I39/$I$2 -> 0

Sheet Beilage
E1: Chochete vom | F1: =SUM(Menu!B3) -> 0 | I1: Original Rezept
A2: =Menu!B16 -> mit Kartoffel-Gnocchi | E2: Rezept für | F2: =SUM(Menu!B24) -> 5 | I2: 8 | J2: Personen
A3: Menge | B3: Einheit | C3: Artikel (Gewicht alles ca. Angaben) | D3: Bemerkungen | E3: Einkaufspreis | F3: Betrag | I3: Originalrezept | J3: pro Person
A4: =$F$2*J4 -> 468.75 | B4: gr | C4: Kartoffeln mehlig kochend | F4: =SUM(E4*A4) -> 0 | I4: 750 | J4: =I4/$I$2 -> 93.75
A5: =$F$2*J5 -> 125 | B5: gr | C5: Mehl | F5: =SUM(E5*A5) -> 0 | I5: 200 | J5: =I5/$I$2 -> 25
A6: =$F$2*J6 -> 31.25 | B6: gr | C6: Parmesan gerieben | F6: =SUM(E6*A6) -> 0 | I6: 50 | J6: =I6/$I$2 -> 6.25
A7: =$F$2*J7 -> 0.625 | B7: Stk | C7: Ei verklopft | F7: =SUM(E7*A7) -> 0 | I7: 1 | J7: =I7/$I$2 -> 0.125
A8: =$F$2*J8 -> 0.46875 | C8: Muskat | F8: =SUM(E8*A8) -> 0 | I8: 0.75 | J8: =I8/$I$2 -> 0.09375
A9: =$F$2*J9 -> 0.9375 | B9: TL | C9: Salz | F9: =SUM(E9*A9) -> 0 | I9: 1.5 | J9: =I9/$I$2 -> 0.1875
A10: =ROUND(SUM(J10*$F$2),2) -> 0 | F10: =SUM(E10*A10) -> 0 | J10: =I10/$I$2 -> 0
F11: =SUM(E11*A11) -> 0 | J11: =I11/$I$2 -> 0
F12: =SUM(E12*A12) -> 0 | J12: =I12/$I$2 -> 0
J13: =I13/$I$2 -> 0
F14: =SUM(E14*A14) -> 0 | J14: =I14/$I$2 -> 0
F15: =SUM(E15*A15) -> 0 | J15: =I15/$I$2 -> 0
F16: =SUM(E16*A16) -> 0 | J16: =I16/$I$2 -> 0
F17: =SUM(E17*A17) -> 0 | J17: =I17/$I$2 -> 0
F18: =SUM(E18*A18) -> 0 | J18: =I18/$I$2 -> 0
F19: =SUM(E19*A19) -> 0 | J19: =I19/$I$2 -> 0
F20: =SUM(E20*A20) -> 0 | J20: =I20/$I$2 -> 0
F21: =SUM(E21*A21) -> 0 | J21: =I21/$I$2 -> 0
F22: =SUM(E22*A22) -> 0 | J22: =I22/$I$2 -> 0
J23: =I23/$I$2 -> 0
J24: =I24/$I$2 -> 0
J25: =I25/$I$2 -> 0
J26: =I26/$I$2 -> 0
F27: =SUM(E27*A27) -> 0 | J27: =I27/$I$2 -> 0
A28: Zubereitung | J28: =I28/$I$2 -> 0
A29: 1. Kartoffeln wie Gschwellti zubereiten, heiss schälen, in Stücke schneiden, durchs passe-vite in eine Schüssel treiben, etwas abkühlen 2. Mehl, Parmesan Ei, Muskat und Salz mit dem Kartoffelschnee mischen, evtl. noch etwas Mehl beigeben. Die Masse sollte noch feucht sein, aber nicht mehr an den Händen kleben. 3. Gnocchi-Masse auf wenig Mehl zu Rollen von je ca. 1.5cm Durchmesser formen. Rollen in ca. 2cm lange Stücke schneiden. 4. Gnocchi in 2 Portionen je ca. 5 Min. im knapp siedenden Salzwasser ziehen lassen, mit einer Schaumkelle herausnehmen. Je nach Geschmack Butterflöckli darauf verteilen, warm stellen | J29: =I29/$I$2 -> 0
J30: =I30/$I$2 -> 0
J31: =I31/$I$2 -> 0
J32: =I32/$I$2 -> 0
J33: =I33/$I$2 -> 0
J34: =I34/$I$2 -> 0
J35: =I35/$I$2 -> 0
J36: =I36/$I$2 -> 0
J37: =I37/$I$2 -> 0
J38: =I38/$I$2 -> 0
J39: =I39/$I$2 -> 0
J40: =I40/$I$2 -> 0
J41: =I41/$I$2 -> 0

Sheet Dessert
E1: Chochete vom | F1: =SUM(Menu!B3) -> 0 | I1: Original Rezept
A2: =Menu!B20 -> Feigen-Gewürz-Dessert mit Honig | E2: Rezept für | F2: =SUM(Menu!B24) -> 5 | I2: 8 | J2: Personen
A3: Menge | B3: Einheit | C3: Artikel (Gewicht alles ca. Angaben) | D3: Bemerkungen | E3: Einkaufspreis | F3: Betrag | I3: Originalrezept | J3: pro Person
A4: =$F$2*J4 -> 250 | B4: gr | C4: Feige | F4: =SUM(E4*A4) -> 0 | I4: 400 | J4: =I4/$I$2 -> 50
A5: =$F$2*J5 -> 312.5 | B5: ml | C5: trockener Rotwein | F5: =SUM(E5*A5) -> 0 | I5: 500 | J5: =I5/$I$2 -> 62.5
A6: =$F$2*J6 -> 1.25 | B6: Stk. | C6: Zimtstangen | F6: =SUM(E6*A6) -> 0 | I6: 2 | J6: =I6/$I$2 -> 0.25
A7: =$F$2*J7 -> 1.875 | B7: Stk. | C7: Sternanis | F7: =SUM(E7*A7) -> 0 | I7: 3 | J7: =I7/$I$2 -> 0.375
A8: =$F$2*J8 -> 1.25 | B8: Stk | C8: Gewürznelken | F8: =SUM(E8*A8) -> 0 | I8: 2 | J8: =I8/$I$2 -> 0.25
A9: =$F$2*J9 -> 1.25 | B9: Stk. | C9: Kardamomkapseln | F9: =SUM(E9*A9) -> 0 | I9: 2 | J9: =I9/$I$2 -> 0.25
A10: =$F$2*J10 -> 62.5 | B10: ml | C10: Apfelsaft | F10: =SUM(E10*A10) -> 0 | I10: 100 | J10: =I10/$I$2 -> 12.5
A11: =$F$2*J11 -> 0.625 | B11: Stk. | C11: unbehandlte Zitrone | F11: =SUM(E11*A11) -> 0 | I11: 1 | J11: =I11/$I$2 -> 0.125
A12: =$F$2*J12 -> 62.5 | B12: gr | C12: Crème Fraîche | F12: =SUM(E12*A12) -> 0 | I12: 100 | J12: =I12/$I$2 -> 12.5
A13: =ROUND(SUM(J13*$F$2),2) -> 0 | C13: Honig | F13: =SUM(E13*A13) -> 0
F14: =SUM(E14*A14) -> 0
F15: =SUM(E15*A15) -> 0
F16: =SUM(E16*A16) -> 0
A17: =ROUND(SUM(J17*$F$2),2) -> 0 | F17: =SUM(E17*A17) -> 0
A18: =ROUND(SUM(J18*$F$2),2) -> 0 | F18: =SUM(E18*A18) -> 0 | J18: =I18/$I$2 -> 0
A19: =ROUND(SUM(J19*$F$2),2) -> 0
A20: =ROUND(SUM(J20*$F$2),2) -> 0
A21: =ROUND(SUM(J21*$F$2),2) -> 0 | F21: =SUM(E21*A21) -> 0 | J21: =I21/$I$2 -> 0
A22: Zubereitung | J22: =I22/$I$2 -> 0
A23: 1. Die Feigen putzen und vierteln. In einem Topf den Wein mit den Gewürzen, dem Honig, dem Saft und dem Zitronensaft zum Kochen bringen und auf die Hälfte einreduzieren alssen. Die Feigen in den Sud legen, die Hitze reduzieren und die Feigen 5-7 Minuten köcheln lassen. 2. Den Topf vom Herd nehmen und die Feigen in dem Sud abkühlen lassen. Das Kompott in Teller verteilen und mit je einer Nocke Crème fraîche angerichtet servieren. | J23: =I23/$I$2 -> 0
J24: =I24/$I$2 -> 0
J25: =I25/$I$2 -> 0
J26: =I26/$I$2 -> 0
J27: =I27/$I$2 -> 0
J28: =I28/$I$2 -> 0
J29: =I29/$I$2 -> 0
J30: =I30/$I$2 -> 0
J31: =I31/$I$2 -> 0
J32: =I32/$I$2 -> 0
J33: =I33/$I$2 -> 0
J34: =I34/$I$2 -> 0
J35: =I35/$I$2 -> 0

Sheet Einkaufsliste
A1: =Menu!A1 -> 0 | C1: Einkaufsliste | D1: =Dessert!F1 -> 0 | E1: ok
A2: Menge | B2: Einheit | C2: Artikel
A3: ='Vorspeise 1'!A2 -> Hartweizen Salat mit Kräutern | D3: Bemerkungen | G3: Achtung Einkaufsliste prüfen und korrigieren 2.75 Eier --> 3 Eier etc…
A4: =SUM('Vorspeise 1'!A4) -> 0.625 | B4: ='Vorspeise 1'!B4 -> EL | C4: ='Vorspeise 1'!C4 -> Olivenöl
A5: =SUM('Vorspeise 1'!A5) -> 1.25 | B5: ='Vorspeise 1'!B5 -> Stk. | C5: ='Vorspeise 1'!C5 -> Schalotten
A6: =SUM('Vorspeise 1'!A6) -> 0.625 | B6: ='Vorspeise 1'!B6 -> Stk. | C6: ='Vorspeise 1'!C6 -> Knoblauchzehe
A7: =SUM('Vorspeise 1'!A7) -> 1.875 | B7: ='Vorspeise 1'!B7 -> EL | C7: ='Vorspeise 1'!C7 -> Rosinen
A8: =SUM('Vorspeise 1'!A8) -> 125 | B8: ='Vorspeise 1'!B8 -> gr | C8: ='Vorspeise 1'!C8 -> vorgekochter Hartweizen
A9: =SUM('Vorspeise 1'!A9) -> 3.75 | B9: ='Vorspeise 1'!B9 -> dl | C9: ='Vorspeise 1'!C9 -> Gemüsebouillon
A10: =SUM('Vorspeise 1'!A10) -> 2.5 | B10: ='Vorspeise 1'!B10 -> EL | C10: ='Vorspeise 1'!C10 -> Weissweinessig
A11: =SUM('Vorspeise 1'!A11) -> 3.125 | B11: ='Vorspeise 1'!B11 -> EL | C11: ='Vorspeise 1'!C11 -> Olivenöl
A12: =SUM('Vorspeise 1'!A12) -> 1.25 | B12: ='Vorspeise 1'!B12 -> EL | C12: ='Vorspeise 1'!C12 -> glattbättrige Petersilie und Majoranblättchen
A13: =SUM('Vorspeise 1'!A13) -> 0 | B13: ='Vorspeise 1'!B13 -> 0 | C13: ='Vorspeise 1'!C13 -> 0
A14: =SUM('Vorspeise 1'!A14) -> 0 | B14: ='Vorspeise 1'!B14 -> 0 | C14: ='Vorspeise 1'!C14 -> Salz, Pfeffeer aus der Mühle
A15: =SUM('Vorspeise 1'!A15) -> 0 | B15: ='Vorspeise 1'!B15 -> 0 | C15: ='Vorspeise 1'!C15 -> 0
... A17: =SUM('Vorspeise 1'!A17) -> 0 | B17: ='Vorspeise 1'!B17 -> 0 | C17: ='Vorspeise 1'!C17 -> 0
A18: =SUM('Vorspeise 1'!A20) -> 0 | B18: ='Vorspeise 1'!B20 -> 0 | C18: ='Vorspeise 1'!C20 -> 0
A19: =SUM('Vorspeise 1'!A21) -> 0 | B19: ='Vorspeise 1'!B21 -> 0
A20: =SUM('Vorspeise 1'!A22) -> 0 | B20: ='Vorspeise 1'!B22 -> 0 | C20: ='Vorspeise 1'!C22 -> 0
A21: =SUM('Vorspeise 1'!A23) -> 0 | B21: ='Vorspeise 1'!B23 -> 0 | C21: ='Vorspeise 1'!C23 -> 0
A22: =SUM('Vorspeise 1'!A24) -> 0 | B22: ='Vorspeise 1'!B24 -> 0 | C22: ='Vorspeise 1'!C24 -> 0
A23: =SUM('Vorspeise 1'!A25) -> 0 | B23: ='Vorspeise 1'!B25 -> 0 | C23: ='Vorspeise 1'!C25 -> 0
A24: =SUM('Vorspeise 1'!A26) -> 0 | B24: ='Vorspeise 1'!B26 -> 0 | C24: ='Vorspeise 1'!C26 -> 0
A25: =SUM('Vorspeise 1'!A27) -> 0 | B25: ='Vorspeise 1'!B27 -> 0 | C25: ='Vorspeise 1'!C27 -> 0
A26: =SUM('Vorspeise 1'!A28) -> 0 | B26: ='Vorspeise 1'!B28 -> 0 | C26: ='Vorspeise 1'!C28 -> 0
A27: =SUM('Vorspeise 1'!A29) -> 0 | B27: ='Vorspeise 1'!B29 -> 0 | C27: ='Vorspeise 1'!C29 -> 0
A28: ='Vorspeise 2'!A2 -> Eglifilet mit Limetten-Kräuterschaum | D28: Bemerkungen
A29: =SUM('Vorspeise 2'!A4) -> 10 | B29: ='Vorspeise 2'!B4 -> Stk | C29: ='Vorspeise 2'!C4 -> Eglifilet
A30: =SUM('Vorspeise 2'!A5) -> 1.25 | B30: ='Vorspeise 2'!B5 -> dl | C30: ='Vorspeise 2'!C5 -> fertig Fischfond
A31: =SUM('Vorspeise 2'!A6) -> 0.625 | B31: ='Vorspeise 2'!B6 -> dl | C31: ='Vorspeise 2'!C6 -> trockerner Weisswein
A32: =SUM('Vorspeise 2'!A7) -> 1.25 | B32: ='Vorspeise 2'!B7 -> Stk | C32: ='Vorspeise 2'!C7 -> frische Eigelbe
A33: =SUM('Vorspeise 2'!A8) -> 0.3125 | B33: ='Vorspeise 2'!B8 -> Stk | C33: ='Vorspeise 2'!C8 -> Limette
A34: =SUM('Vorspeise 2'!A9) -> 0 | B34: ='Vorspeise 2'!B9 -> Bund | C34: ='Vorspeise 2'!C9 -> Dill
A35: =SUM('Vorspeise 2'!A10) -> 0 | B35: ='Vorspeise 2'!B10 -> 0 | C35: ='Vorspeise 2'!C10 -> Bratbutter zum Anbraten
A36: =SUM('Vorspeise 2'!A11) -> 0 | B36: ='Vorspeise 2'!B11 -> 0 | C36: ='Vorspeise 2'!C11 -> Salz, Pfeffer, Muskat
A37: =SUM('Vorspeise 2'!A12) -> 0 | B37: ='Vorspeise 2'!B12 -> 0 | C37: ='Vorspeise 2'!C12 -> 0
A38: =SUM('Vorspeise 2'!A13) -> 0 | B38: ='Vorspeise 2'!B13 -> 0 | C38: ='Vorspeise 2'!C13 -> 0
A39: =SUM('Vorspeise 2'!A14) -> 0 | B39: ='Vorspeise 2'!B14 -> 0 | C39: ='Vorspeise 2'!C14 -> 0
A40: =SUM('Vorspeise 2'!A15) -> 0 | B40: ='Vorspeise 2'!B15 -> 0 | C40: ='Vorspeise 2'!C15 -> 0
... A52: =SUM('Vorspeise 2'!A27) -> 0 | B52: ='Vorspeise 2'!B27 -> 0 | C52: ='Vorspeise 2'!C27 -> 0
A53: =Hauptgang!A2 -> Gefüllte Kalbsbrust | D53: Bemerkungen
A54: =SUM(Hauptgang!A4) -> 312.5 | B54: =Hauptgang!B4 -> gr | C54: =Hauptgang!C4 -> frischer Blattspinat
A55: =SUM(Hauptgang!A5) -> 0 | B55: =Hauptgang!B5 -> 0 | C55: =Hauptgang!C5 -> Butter zum Anbraten
A56: =SUM(Hauptgang!A6) -> 0.625 | B56: =Hauptgang!B6 -> Prise | C56: =Hauptgang!C6 -> Muskatnuss
A57: =SUM(Hauptgang!A7) -> 0.625 | B57: =Hauptgang!B7 -> kg | C57: =Hauptgang!C7 -> Kalbsbrust, vom Metzger zum Rollen aufgeschnitten
A58: =SUM(Hauptgang!A8) -> 62.5 | B58: =Hauptgang!B8 -> gr | C58: =Hauptgang!C8 -> gekochter Parmaschinken
A59: =SUM(Hauptgang!A9) -> 2.5 | B59: =Hauptgang!B9 -> Esslöfel | C59: =Hauptgang!C9 -> frisch geriebener Parmesan
A60: =SUM(Hauptgang!A10) -> 0.625 | B60: =Hauptgang!B10 -> Stk. | C60: =Hauptgang!C10 -> Stangensellerie
A61: =SUM(Hauptgang!A11) -> 1.25 | B61: =Hauptgang!B11 -> stk. | C61: =Hauptgang!C11 -> Karotten
A62: =SUM(Hauptgang!A12) -> 0.625 | B62: =Hauptgang!B12 -> Stk. | C62: =Hauptgang!C12 -> Zwiebel
A63: =SUM(Hauptgang!A13) -> 0.625 | B63: =Hauptgang!B13 -> stk | C63: =Hauptgang!C13 -> Lorbeerblatt
A64: =SUM(Hauptgang!A14) -> 1.25 | B64: =Hauptgang!B14 -> Stk | C64: =Hauptgang!C14 -> Nelken
A65: =SUM(Hauptgang!A15) -> 46.875 | B65: =Hauptgang!B15 -> ml | C65: =Hauptgang!C15 -> Olivenöl
... A69: =SUM(Hauptgang!A19) -> 0 | B69: =Hauptgang!B19 -> 0 | C69: =Hauptgang!C19 -> 0
A70: =SUM(Hauptgang!A25) -> 0 | B70: =Hauptgang!B25 -> 0 | C70: =Hauptgang!C25 -> 0
A71: =SUM(Hauptgang!A26) -> 0 | B71: =Hauptgang!B26 -> 0 | C71: =Hauptgang!C26 -> 0
A72: =SUM(Hauptgang!A27) -> 0 | B72: =Hauptgang!B27 -> 0 | C72: =Hauptgang!C27 -> 0
A73: =SUM(Hauptgang!A28) -> 0 | B73: =Hauptgang!B28 -> 0 | C73: =Hauptgang!C28 -> 0
A74: =SUM(Hauptgang!A29) -> 0 | B74: =Hauptgang!B29 -> 0 | C74: =Hauptgang!C29 -> 0
A75: =SUM(Hauptgang!A32) -> 0 | B75: =Hauptgang!B32 -> 0 | C75: =Hauptgang!C32 -> 0
A76: =Beilage!A2 -> mit Kartoffel-Gnocchi | D76: Bemerkungen
A77: =Beilage!A4 -> 468.75 | B77: =Beilage!B4 -> gr | C77: =Beilage!C4 -> Kartoffeln mehlig kochend
A78: =Beilage!A5 -> 125 | B78: =Beilage!B5 -> gr | C78: =Beilage!C5 -> Mehl
A79: =Beilage!A6 -> 31.25 | B79: =Beilage!B6 -> gr | C79: =Beilage!C6 -> Parmesan gerieben
A80: =Beilage!A7 -> 0.625 | B80: =Beilage!B7 -> Stk | C80: =Beilage!C7 -> Ei verklopft
A81: =Beilage!A8 -> 0.46875 | B81: =Beilage!B8 -> 0 | C81: =Beilage!C8 -> Muskat
A82: =Beilage!A9 -> 0.9375 | B82: =Beilage!B9 -> TL | C82: =Beilage!C9 -> Salz
A83: =Beilage!A10 -> 0 | B83: =Beilage!B10 -> 0 | C83: =Beilage!C10 -> 0
A84: =Beilage!A11 -> 0 | B84: =Beilage!B11 -> 0 | C84: =Beilage!C11 -> 0
A85: =Beilage!A12 -> 0 | B85: =Beilage!B12 -> 0 | C85: =Beilage!C12 -> 0
A86: =Beilage!A13 -> 0 | B86: =Beilage!B13 -> 0 | C86: =Beilage!C13 -> 0
A87: =Beilage!A14 -> 0 | B87: =Beilage!B14 -> 0 | C87: =Beilage!C14 -> 0
A88: =Beilage!A15 -> 0 | B88: =Beilage!B15 -> 0 | C88: =Beilage!C15 -> 0
... A95: =Beilage!A22 -> 0 | B95: =Beilage!B22 -> 0 | C95: =Beilage!C22 -> 0
A96: =Beilage!A23 -> 0 | B96: =Beilage!B32 -> 0 | C96: =Beilage!C23 -> 0
A97: =Beilage!A24 -> 0 | B97: =Beilage!B24 -> 0 | C97: =Beilage!C24 -> 0
A98: =Beilage!A25 -> 0 | B98: =Beilage!B25 -> 0 | C98: =Beilage!C25 -> 0
A99: =Beilage!A26 -> 0 | B99: =Beilage!B26 -> 0 | C99: =Beilage!C26 -> 0
A100: =Beilage!A27 -> 0 | B100: =Beilage!B27 -> 0 | C100: =Beilage!C27 -> 0
A101: =Beilage!A37 -> 0 | B101: =Beilage!B28 -> 0 | C101: =Beilage!C37 -> 0
A102: =Dessert!A2 -> Feigen-Gewürz-Dessert mit Honig | D102: Bemerkungen
A103: =SUM(Dessert!A4) -> 250 | B103: =Dessert!B4 -> gr | C103: =Dessert!C4 -> Feige
A104: =SUM(Dessert!A5) -> 312.5 | B104: =Dessert!B5 -> ml | C104: =Dessert!C5 -> trockener Rotwein
A105: =SUM(Dessert!A6) -> 1.25 | B105: =Dessert!B6 -> Stk. | C105: =Dessert!C6 -> Zimtstangen
A106: =SUM(Dessert!A7) -> 1.875 | B106: =Dessert!B7 -> Stk. | C106: =Dessert!C7 -> Sternanis
A107: =SUM(Dessert!A8) -> 1.25 | B107: =Dessert!B8 -> Stk | C107: =Dessert!C8 -> Gewürznelken
A108: =SUM(Dessert!A9) -> 1.25 | B108: =Dessert!B9 -> Stk. | C108: =Dessert!C9 -> Kardamomkapseln
A109: =SUM(Dessert!A10) -> 62.5 | B109: =Dessert!B10 -> ml | C109: =Dessert!C10 -> Apfelsaft
A110: =SUM(Dessert!A11) -> 0.625 | B110: =Dessert!B11 -> Stk. | C110: =Dessert!C11 -> unbehandlte Zitrone
A111: =SUM(Dessert!A12) -> 62.5 | B111: =Dessert!B12 -> gr | C111: =Dessert!C12 -> Crème Fraîche
A112: =SUM(Dessert!A13) -> 0 | B112: =Dessert!B13 -> 0 | C112: =Dessert!C13 -> Honig
A113: =SUM(Dessert!A14) -> 0 | B113: =Dessert!B14 -> 0 | C113: =Dessert!C14 -> 0
A114: =SUM(Dessert!A15) -> 0 | B114: =Dessert!B15 -> 0 | C114: =Dessert!C15 -> 0
... A117: =SUM(Dessert!A18) -> 0 | B117: =Dessert!B18 -> 0 | C117: =Dessert!C18 -> 0
A118: =SUM(Dessert!A21) -> 0 | B118: =Dessert!B21 -> 0 | C118: =Dessert!C21 -> 0
A119: =SUM(Dessert!A22) -> 0 | B119: =Dessert!B22 -> 0 | C119: =Dessert!C22 -> 0
A120: =SUM(Dessert!A23) -> 0 | B120: =Dessert!B23 -> 0 | C120: =Dessert!C23 -> 0
A121: =SUM(Dessert!A24) -> 0 | B121: =Dessert!B24 -> 0 | C121: =Dessert!C24 -> 0
A122: =SUM(Dessert!A25) -> 0 | B122: =Dessert!B25 -> 0 | C122: =Dessert!C25 -> 0
A123: =SUM(Dessert!A26) -> 0 | B123: =Dessert!B26 -> 0 | C123: =Dessert!C26 -> 0
...
