Workbook

Sheet Menu
A3: Datum | B3: 42173 | D3: Menu Angaben wie folgt machen: | H3: Kg | I3: 0.25
H4: Lt | I4: 1.25
A5: Vorspeise | B5: Grüner Couscous-Salat | D5: alle weiteren Angaben ausschreiben | H5: EL | I5: Esslöffel
H6: TL | I6: Kaffeelöffel
A7: Suppe | B7: Kalte Gurkensuppe mit Pfefferminze | H7: Bund | I7: 1
H8: Stk | I8: Stück
A9: Hauptgang | B9: Kalbssteak auf Kohlrabi-Carpaccio | H9: Pä | I9: Päckli
A11: Dessert | B11: Basilikum-Sorbet
A13: Diverses
A15: Menu von Tisch | B15: D
A17: Personenzahl | B17: 4

Sheet Vorspeise
E1: Chochete vom Do 18.6.2015 | I1: Original Rezept
A2: =Menu!B5 -> Grüner Couscous-Salat | E2: Rezept für | F2: 4 | I2: 4 | J2: Personen | L2: Menu Angaben wie folgt machen:
A3: Menge | B3: Einheit | C3: Artikel (Gewicht alles ca. Angaben) | D3: Bemerkungen | E3: Einkaufspreis | F3: Betrag | I3: Originalrezept | J3: pro Person
A4: =ROUND(SUM(J4*$F$2),2) -> 0.2 | B4: Kg | C4: Couscous | F4: =SUM(E4*A4) -> 0 | I4: 0.2 | J4: =I4/$I$2 -> 0.05 | L4: Kg | M4: 0.25
A5: =ROUND(SUM(J5*$F$2),2) -> 0.4 | B5: Lt | C5: Gemüsebouillon | F5: =SUM(E5*A5) -> 0 | I5: 0.4 | J5: =I5/$I$2 -> 0.1 | L5: Lt | M5: 1.25
A6: =ROUND(SUM(J6*$F$2),2) -> 0 | C6: Salatsauce | F6: =SUM(E6*A6) -> 0 | J6: =I6/$I$2 -> 0 | L6: EL | M6: Esslöffel
A7: =ROUND(SUM(J7*$F$2),2) -> 2 | B7: EL | C7: Essig | F7: =SUM(E7*A7) -> 0 | I7: 2 | J7: =I7/$I$2 -> 0.5 | L7: TL | M7: Kaffeelöffel
A8: =ROUND(SUM(J8*$F$2),2) -> 3 | B8: EL | C8: Rapsöl | F8: =SUM(E8*A8) -> 0 | I8: 3 | J8: =I8/$I$2 -> 0.75 | L8: Bund | M8: 1
A9: =ROUND(SUM(J9*$F$2),2) -> 0 | C9: Salz, Pfeffer, | F9: =SUM(E9*A9) -> 0 | J9: =I9/$I$2 -> 0 | L9: Pä | M9: Päckli
C10: Salatbeilage
A11: =ROUND(SUM(J11*$F$2),2) -> 0.25 | B11: Kg | C11: Salatgurke gerüstet | D11: fein gewürfelt | F11: =SUM(E11*A11) -> 0 | I11: 0.25 | J11: =I11/$I$2 -> 0.0625 | L11: alles weitere ausschreiben
A12: =ROUND(SUM(J12*$F$2),2) -> 0 | B12: 2-3 Stängel | C12: Stangensellerie gerüstet | D12: fein gewürfelt | F12: =SUM(E12*A12) -> 0 | J12: =I12/$I$2 -> 0
A13: =ROUND(SUM(J13*$F$2),2) -> 2 | B13: Stück | C13: Bundzwiebeln (Frühlingszwiebeln) | D13: fein gehackt | F13: =SUM(E13*A13) -> 0 | I13: 2 | J13: =I13/$I$2 -> 0.5
A14: =ROUND(SUM(J14*$F$2),2) -> 1 | B14: kleiner Bund | C14: Petersilie | F14: =SUM(E14*A14) -> 0 | I14: 1 | J14: =I14/$I$2 -> 0.25
A15: =ROUND(SUM(J15*$F$2),2) -> 0.1 | B15: Kg | C15: Schweizer Feta, zerbröckelt | F15: =SUM(E15*A15) -> 0 | I15: 0.1 | J15: =I15/$I$2 -> 0.025
A16: =ROUND(SUM(J16*$F$2),2) -> 0 | F16: =SUM(E16*A16) -> 0 | J16: =I16/$I$2 -> 0
A17: =ROUND(SUM(J17*$F$2),2) -> 0 | F17: =SUM(E17*A17) -> 0 | J17: =I17/$I$2 -> 0
F18: =SUM(E18*A18) -> 0 | J18: =I18/$I$2 -> 0
A19: =ROUND(SUM(J19*$F$2),2) -> 0 | F19: =SUM(E19*A19) -> 0 | J19: =I19/$I$2 -> 0
A20: =ROUND(SUM(J20*$F$2),2) -> 0 | F20: =SUM(E20*A20) -> 0 | J20: =I20/$I$2 -> 0
A21: Zubereitung
A22: Couscous mit aufgekochter Bouillon übergiessen, umrühren, zugedeckt 5 Minuten quellen lassen, mit einer Gabel lockern.
A23: Salatsauce: Alle Zutaten verrühren
A24: Couscous mit Gemüse und Petersilie zur Sauce geben, mischen.
A25: Salat auf Teller anrichten, mit Feta garnieren
A26: Tipp
A27: Schweizer Feta gibt es bei Coop als Qualité & prix Ilios und bei Migros als Salatkäse

Sheet Suppe
E1: Chochete vom Do 18.6.2015 | I1: Original Rezept
A2: =Menu!B7 -> Kalte Gurkensuppe mit Pfefferminze | E2: Rezept für | F2: =SUM(Menu!B17) -> 4 | I2: 4 | J2: Personen | L2: Menu Angaben wie folgt machen:
A3: Menge | B3: Einheit | C3: Artikel (Gewicht alles ca. Angaben) | D3: Bemerkungen | E3: Einkaufspreis | F3: Betrag | I3: Originalrezept | J3: pro Person
A4: =ROUND(SUM(J4*$F$2),2) -> 1 | B4: St | C4: Gurke, ca. 450 g, geschält, in Stücke geschnitten | F4: =SUM(E4*A4) -> 0 | I4: 1 | J4: =I4/$I$2 -> 0.25 | L4: Kg | M4: 0.25
A5: =ROUND(SUM(J5*$F$2),2) -> 1 | B5: St | C5: Schalotte, in Stücke geschnitten | F5: =SUM(E5*A5) -> 0 | I5: 1 | J5: =I5/$I$2 -> 0.25 | L5: Lt | M5: 1.25
A6: =ROUND(SUM(J6*$F$2),2) -> 0.35 | B6: Lt | C6: kalte Gemüsebouillon | F6: =SUM(E6*A6) -> 0 | I6: 0.35 | J6: =I6/$I$2 -> 0.0875 | L6: EL | M6: Esslöffel
A7: =ROUND(SUM(J7*$F$2),2) -> 0 | C7: Salz | F7: =SUM(E7*A7) -> 0 | J7: =I7/$I$2 -> 0 | L7: TL | M7: Kaffeelöffel
A8: =ROUND(SUM(J8*$F$2),2) -> 0 | C8: rosa Pfeffer | F8: =SUM(E8*A8) -> 0 | J8: =I8/$I$2 -> 0 | L8: Bund | M8: 1
A9: =ROUND(SUM(J9*$F$2),2) -> 0 | C9: Paprika | F9: =SUM(E9*A9) -> 0 | J9: =I9/$I$2 -> 0 | L9: Stk | M9: Stück
A10: =ROUND(SUM(J10*$F$2),2) -> 4 | B10: Zweige | C10: Pfefferminze, abgetrennte Blätter | F10: =SUM(E10*A10) -> 0 | I10: 4 | J10: =I10/$I$2 -> 1 | L10: Pä | M10: Päckli
A11: =ROUND(SUM(J11*$F$2),2) -> 0.18 | B11: Kg | C11: Joghurt nature | F11: =SUM(E11*A11) -> 0 | I11: 0.18 | J11: =I11/$I$2 -> 0.045 | L11: alles weitere ausschreiben
A12: =ROUND(SUM(J12*$F$2),2) -> 0 | F12: =SUM(E12*A12) -> 0 | J12: =I12/$I$2 -> 0
A13: =ROUND(SUM(J13*$F$2),2) -> 0 | F13: =SUM(E13*A13) -> 0 | J13: =I13/$I$2 -> 0
A14: =ROUND(SUM(J14*$F$2),2) -> 0 | F14: =SUM(E14*A14) -> 0 | J14: =I14/$I$2 -> 0
A15: =ROUND(SUM(J15*$F$2),2) -> 0 | F15: =SUM(E15*A15) -> 0 | J15: =I15/$I$2 -> 0
A16: =ROUND(SUM(J16*$F$2),2) -> 0 | F16: =SUM(E16*A16) -> 0 | J16: =I16/$I$2 -> 0
A17: =ROUND(SUM(J17*$F$2),2) -> 0 | F17: =SUM(E17*A17) -> 0 | J17: =I17/$I$2 -> 0
A18: =ROUND(SUM(J18*$F$2),2) -> 0 | F18: =SUM(E18*A18) -> 0 | J18: =I18/$I$2 -> 0
A19: =ROUND(SUM(J19*$F$2),2) -> 0 | F19: =SUM(E19*A19) -> 0 | J19: =I19/$I$2 -> 0
A20: =ROUND(SUM(J20*$F$2),2) -> 0 | F20: =SUM(E20*A20) -> 0 | J20: =I20/$I$2 -> 0
A21: Zubereitung
A22: Alle Zutaten bis und mit Jogurt in einen Mixbecher füllen und pürieren. Nach Bedarf stärker würzen, evtl. noch in Kühlschrank stellen.
A23: Mit Vollkorntoast oder Brot servieren.

Sheet Hauptgang
E1: Chochete vom Do 18.6.2015 | I1: Original Rezept
A2: =Menu!B9 -> Kalbssteak auf Kohlrabi-Carpaccio | E2: Rezept für | F2: =Menu!B17 -> 4 | I2: 4 | J2: Personen | L2: Menu Angaben wie folgt machen:
A3: Menge | B3: Einheit | C3: Artikel (Gewicht alles ca. Angaben) | D3: Bemerkungen | E3: Einkaufspreis | F3: Betrag | I3: Originalrezept | J3: pro Person
A4: =ROUND(SUM(J4*$F$2),2) -> 0.6 | B4: Kg | C4: Kalbssteak | D4: 150 Gramm | F4: =SUM(E4*A4) -> 0 | I4: 0.6 | J4: =I4/$I$2 -> 0.15 | L4: Kg | M4: 0.25
A5: =ROUND(SUM(J5*$F$2),2) -> 0 | C5: Bratbutter oder Bratcrème | F5: =SUM(E5*A5) -> 0 | J5: =I5/$I$2 -> 0 | L5: Lt | M5: 1.25
A6: =ROUND(SUM(J6*$F$2),2) -> 0 | C6: Salz und Pfeffer oder Fleischgewürz | F6: =SUM(E6*A6) -> 0 | J6: =I6/$I$2 -> 0 | L6: EL | M6: Esslöffel
A7: =ROUND(SUM(J7*$F$2),2) -> 0 | C7: Carpaccio | F7: =SUM(E7*A7) -> 0 | J7: =I7/$I$2 -> 0 | L7: TL | M7: Kaffeelöffel
A8: =ROUND(SUM(J8*$F$2),2) -> 0.6 | B8: Kg | C8: 1-2 Kohlrabi, gerüstet, feine Scheiben | F8: =SUM(E8*A8) -> 0 | I8: 0.6 | J8: =I8/$I$2 -> 0.15 | L8: Bund | M8: 1
A9: =ROUND(SUM(J9*$F$2),2) -> 0 | C9: wenig Bratbutter | F9: =SUM(E9*A9) -> 0 | J9: =I9/$I$2 -> 0 | L9: Stk | M9: Stück
A10: =ROUND(SUM(J10*$F$2),2) -> 0 | C10: Salz und Pfeffer | F10: =SUM(E10*A10) -> 0 | J10: =I10/$I$2 -> 0 | L10: Pä | M10: Päckli
A11: =ROUND(SUM(J11*$F$2),2) -> 1 | B11: Handvoll | C11: Kresse (für Garnitur) | F11: =SUM(E11*A11) -> 0 | I11: 1 | J11: =I11/$I$2 -> 0.25 | L11: alles weitere ausschreiben
A12: =ROUND(SUM(J12*$F$2),2) -> 0 | C12: Radiesli Pesto | F12: =SUM(E12*A12) -> 0 | J12: =I12/$I$2 -> 0
A13: =ROUND(SUM(J13*$F$2),2) -> 1 | B13: Bund | C13: Radiesli gerüstet | F13: =SUM(E13*A13) -> 0 | I13: 1 | J13: =I13/$I$2 -> 0.25
A14: =ROUND(SUM(J14*$F$2),2) -> 4 | B14: EL | C14: geschälte Mandeln (oder Pistazien) | F14: =SUM(E14*A14) -> 0 | I14: 4 | J14: =I14/$I$2 -> 1
A15: =ROUND(SUM(J15*$F$2),2) -> 0.05 | B15: Kg | C15: Sbrinz, in Stücken | F15: =SUM(E15*A15) -> 0 | I15: 0.05 | J15: =I15/$I$2 -> 0.0125
A16: =ROUND(SUM(J16*$F$2),2) -> 0 | C16: einige Tropfen Zitronensaft | F16: =SUM(E16*A16) -> 0 | J16: =I16/$I$2 -> 0
A17: =ROUND(SUM(J17*$F$2),2) -> 1 | B17: dl | C17: Raps- oder Mandelöl | F17: =SUM(E17*A17) -> 0 | I17: 1 | J17: =I17/$I$2 -> 0.25
A18: =ROUND(SUM(J18*$F$2),2) -> 0 | C18: Salz und Pfeffer | F18: =SUM(E18*A18) -> 0 | J18: =I18/$I$2 -> 0
A20: =ROUND(SUM(J20*$F$2),2) -> 0 | C20: Kresse und einige Radiesli zum Garnieren | F20: =SUM(E20*A20) -> 0 | J20: =I20/$I$2 -> 0
A21: Zubereitung
A22: Fleisch sollte Zimmertemperatur haben. Platte und Teller vorwärmen.
A23: Zubereitung Variante 1: Backofen auf 70° vorheizen. Die Steaks würzen, In der heissen Bratbutter je nach Dicke 2-3 Minuten braten. Sofort in die vorgewärmte Platte geben und im 70° heissen Ofen zirka 30 Minuten nachgaren lassen.
A24: Zubereitung Variante 2: Backofen auf 180° vorheizen. Steaks würzen. In der Bratbutter auf jeder Seite zirka 2 Minuten anbraten. Auf ein Blech legen. Im Ofen zirka 10 Minuten garen.
A25: Zubereitung Variante 3: Backofen auf 70° vorheizen. Steaks (eingeölt, gewürzt) etwa 15 Minuten in den vorgeheizten Backofen geben. Anschliessend In der Bratbutter oder Öl auf jeder Seite zirka 2 Minuten braten. Kurz im Ofen ruhen lassen
A26: Carpaccio: Kohlrabi in der Bratbutter kurz anbraten, würzen.
A27: Pesto: Radiesli, Nüsse, Sbrinz und Zitronensaft im Cutter fein hacken, mit dem Öl zu einem Pesto anrühren, würzen.
A28: Anrichten: Kohlrabi mit Kresse auf Teller geben, Kalbssteak daraufgeben. (Evtl. quer zur Faser in Scheiben schneiden.) Mit Pesto, Kresse und Radiesli garnieren.
A29: Tipp "Würzen": nach Auskunft von Metzgermeister Berchtold sollte das Fleisch vor dem Anbraten NIE mit Salz gewürzt werden (zieht Flüssigkeit) .

Sheet Dessert
E1: Chochete vom Do 18.6.2015 | I1: Original Rezept
A2: Basilikum Sorbet (nach Wildeisen) | E2: Rezept für | F2: 4 | I2: 4 | J2: Personen | L2: Menu Angaben wie folgt machen:
A3: Menge | B3: Einheit | C3: Artikel (Gewicht alles ca. Angaben) | D3: Bemerkungen | E3: Einkaufspreis | F3: Betrag | I3: Originalrezept | J3: pro Person
A4: =ROUND(SUM(J4*$F$2),2) -> 0.2 | B4: Lt | C4: Kohlensäurehaltiges Mineralwasser | F4: =SUM(E4*A4) -> 0 | I4: 0.2 | J4: =I4/$I$2 -> 0.05 | L4: Kg | M4: 0.25
A5: =ROUND(SUM(J5*$F$2),2) -> 0.2 | B5: Lt | C5: Weisswein | F5: =SUM(E5*A5) -> 0 | I5: 0.2 | J5: =I5/$I$2 -> 0.05 | L5: Lt | M5: 1.25
A6: =ROUND(SUM(J6*$F$2),2) -> 0.13 | B6: Kg | C6: Zucker | F6: =SUM(E6*A6) -> 0 | I6: 0.125 | J6: =I6/$I$2 -> 0.03125 | L6: EL | M6: Esslöffel
A7: =ROUND(SUM(J7*$F$2),2) -> 1 | B7: Stk | C7: Limette, Saft / oder 1 grosse Zitrone | F7: =SUM(E7*A7) -> 0 | I7: 1 | J7: =I7/$I$2 -> 0.25 | L7: KL | M7: Kaffeelöffel
A8: =ROUND(SUM(J8*$F$2),2) -> 2 | B8: Stk | C8: Eiweiss | F8: =SUM(E8*A8) -> 0 | I8: 2 | J8: =I8/$I$2 -> 0.5 | L8: Bund | M8: 1
A9: =ROUND(SUM(J9*$F$2),2) -> 0.5 | B9: Bund | C9: Basilikum (sehr fein schneiden) | F9: =SUM(E9*A9) -> 0 | I9: 0.5 | J9: =I9/$I$2 -> 0.125 | L9: Stk | M9: Stück
A10: =ROUND(SUM(J10*$F$2),2) -> 0 | F10: =SUM(E10*A10) -> 0 | J10: =I10/$I$2 -> 0 | L10: Pä | M10: Päckli
A11: =ROUND(SUM(J11*$F$2),2) -> 0 | F11: =SUM(E11*A11) -> 0 | J11: =I11/$I$2 -> 0 | L11: alles weitere ausschreiben
A12: =ROUND(SUM(J12*$F$2),2) -> 0 | F12: =SUM(E12*A12) -> 0 | J12: =I12/$I$2 -> 0
A13: =ROUND(SUM(J13*$F$2),2) -> 0 | F13: =SUM(E13*A13) -> 0 | J13: =I13/$I$2 -> 0
A14: =ROUND(SUM(J14*$F$2),2) -> 0 | F14: =SUM(E14*A14) -> 0 | J14: =I14/$I$2 -> 0
A15: =ROUND(SUM(J15*$F$2),2) -> 0 | F15: =SUM(E15*A15) -> 0 | J15: =I15/$I$2 -> 0
A16: =ROUND(SUM(J16*$F$2),2) -> 0 | F16: =SUM(E16*A16) -> 0 | J16: =I16/$I$2 -> 0
A17: =ROUND(SUM(J17*$F$2),2) -> 0 | F17: =SUM(E17*A17) -> 0 | J17: =I17/$I$2 -> 0
A18: =ROUND(SUM(J18*$F$2),2) -> 0 | F18: =SUM(E18*A18) -> 0 | J18: =I18/$I$2 -> 0
A19: =ROUND(SUM(J19*$F$2),2) -> 0 | F19: =SUM(E19*A19) -> 0 | J19: =I19/$I$2 -> 0
A20: =ROUND(SUM(J20*$F$2),2) -> 0 | F20: =SUM(E20*A20) -> 0 | J20: =I20/$I$2 -> 0
A21: Zubereitung
A22: Das Mineralwasser, den Weisswein und den Zucker aufkochen und so lange auf grossem Feuer einkochen lassen, bis nur noch 3 dl Flüssigkeit vorhanden sind. Vollständig auskühlen lassen.
A23: Den Zitronensaft beifügen.
A24: Die Eiweiss sehr steif schlagen und sorgfältig unter die vollständig erkaltete Flüssigkeit mischen. In eine Form (Glacemaschine) füllen und während 2-3 Stunden gefrieren lassen.
A25: Vor dem Servieren das Basilikum sehr fein schneiden und unter die nicht zu stark gefrorene Sorbetmasse ziehen.
A26: In vorgekühlten Gläsern servieren.

Sheet Einkaufsliste
A1: Hobby-Küche Zug | C1: Einkaufsliste | D1: =Dessert!F1 -> 0 | E1: ok
A2: Menge | B2: Einheit | C2: Artikel
A3: =Vorspeise!A2 -> Grüner Couscous-Salat | D3: Bemerkungen
A4: =SUM(Vorspeise!A4) -> 0.2 | B4: =Vorspeise!B4 -> Kg | C4: =Vorspeise!C4 -> Couscous | D4: =Vorspeise!D4 -> 0
A5: =SUM(Vorspeise!A5) -> 0.4 | B5: =Vorspeise!B5 -> Lt | C5: =Vorspeise!C5 -> Gemüsebouillon | D5: =Vorspeise!D5 -> 0
A6: =SUM(Vorspeise!A6) -> 0 | B6: =Vorspeise!B6 -> 0 | C6: =Vorspeise!C6 -> Salatsauce | D6: =Vorspeise!D6 -> 0
A7: =SUM(Vorspeise!A7) -> 2 | B7: =Vorspeise!B7 -> EL | C7: =Vorspeise!C7 -> Essig | D7: =Vorspeise!D7 -> 0
A8: =SUM(Vorspeise!A8) -> 3 | B8: =Vorspeise!B8 -> EL | C8: =Vorspeise!C8 -> Rapsöl | D8: =Vorspeise!D8 -> 0
A9: =SUM(Vorspeise!A9) -> 0 | B9: =Vorspeise!B9 -> 0 | C9: =Vorspeise!C9 -> Salz, Pfeffer, | D9: =Vorspeise!D9 -> 0
A10: =SUM(Vorspeise!A10) -> 0 | B10: =Vorspeise!B10 -> 0 | C10: =Vorspeise!C10 -> Salatbeilage | D10: =Vorspeise!D10 -> 0
A11: =SUM(Vorspeise!A11) -> 0.25 | B11: =Vorspeise!B11 -> Kg | C11: =Vorspeise!C11 -> Salatgurke gerüstet | D11: =Vorspeise!D11 -> fein gewürfelt
A12: =SUM(Vorspeise!A12) -> 0 | B12: =Vorspeise!B12 -> 2-3 Stängel | C12: =Vorspeise!C12 -> Stangensellerie gerüstet | D12: =Vorspeise!D12 -> fein gewürfelt
A13: =SUM(Vorspeise!A13) -> 2 | B13: =Vorspeise!B13 -> Stück | C13: =Vorspeise!C13 -> Bundzwiebeln (Frühlingszwiebeln) | D13: =Vorspeise!D13 -> fein gehackt
A14: =SUM(Vorspeise!A14) -> 1 | B14: =Vorspeise!B14 -> kleiner Bund | C14: =Vorspeise!C14 -> Petersilie | D14: =Vorspeise!D14 -> 0
A15: =SUM(Vorspeise!A15) -> 0.1 | B15: =Vorspeise!B15 -> Kg | C15: =Vorspeise!C15 -> Schweizer Feta, zerbröckelt | D15: =Vorspeise!D15 -> 0
... A18: =SUM(Vorspeise!A18) -> 0 | B18: =Vorspeise!B18 -> 0 | C18: =Vorspeise!C18 -> 0 | D18: =Vorspeise!D18 -> 0
A19: 3 | B19: =Vorspeise!B19 -> 0 | C19: Brote für alle Tische / Bagette | D19: =Vorspeise!D19 -> 0
A20: =SUM(Vorspeise!A20) -> 0 | B20: =Vorspeise!B20 -> 0 | C20: =Vorspeise!C20 -> 0 | D20: =Vorspeise!D20 -> 0
A21: =Suppe!A2 -> Kalte Gurkensuppe mit Pfefferminze | D21: Bemerkungen
A22: =SUM(Suppe!A4) -> 1 | B22: =Suppe!B4 -> St | C22: =Suppe!C4 -> Gurke, ca. 450 g, geschält, in Stücke geschnitten | D22: =Suppe!D4 -> 0
A23: =SUM(Suppe!A5) -> 1 | B23: =Suppe!B5 -> St | C23: =Suppe!C5 -> Schalotte, in Stücke geschnitten | D23: =Suppe!#REF! -> #REF!
A24: =SUM(Suppe!A6) -> 0.35 | B24: =Suppe!B6 -> Lt | C24: =Suppe!C6 -> kalte Gemüsebouillon | D24: =Suppe!D6 -> 0
A25: =SUM(Suppe!A7) -> 0 | B25: =Suppe!B7 -> 0 | C25: =Suppe!C7 -> Salz | D25: =Suppe!D7 -> 0
A26: =SUM(Suppe!A8) -> 0 | B26: =Suppe!B8 -> 0 | C26: =Suppe!C8 -> rosa Pfeffer | D26: =Suppe!D8 -> 0
A27: =SUM(Suppe!A9) -> 0 | B27: =Suppe!B9 -> 0 | C27: =Suppe!C9 -> Paprika | D27: =Suppe!D9 -> 0
A28: =SUM(Suppe!A10) -> 4 | B28: =Suppe!B10 -> Zweige | C28: =Suppe!C10 -> Pfefferminze, abgetrennte Blätter | D28: =Suppe!D10 -> 0
A29: =SUM(Suppe!A11) -> 0.18 | B29: =Suppe!B11 -> Kg | C29: =Suppe!C11 -> Joghurt nature | D29: =Suppe!D11 -> 0
A30: =SUM(Suppe!A12) -> 0 | B30: =Suppe!B12 -> 0 | C30: =Suppe!C12 -> 0 | D30: =Suppe!D12 -> 0
A31: =SUM(Suppe!A13) -> 0 | B31: =Suppe!B13 -> 0 | C31: =Suppe!C13 -> 0 | D31: =Suppe!D13 -> 0
A32: =SUM(Suppe!A14) -> 0 | B32: =Suppe!B14 -> 0 | C32: =Suppe!C14 -> 0 | D32: =Suppe!D14 -> 0
A33: =SUM(Suppe!A15) -> 0 | B33: =Suppe!B15 -> 0 | C33: =Suppe!C15 -> 0 | D33: =Suppe!D15 -> 0
A34: =SUM(Suppe!A16) -> 0 | B34: =Suppe!B16 -> 0 | C34: =Suppe!C16 -> 0 | D34: =Suppe!D16 -> 0
A35: =SUM(Suppe!A17) -> 0 | B35: =Suppe!B17 -> 0 | C35: =Suppe!C17 -> 0 | D35: =Suppe!D17 -> 0
... A38: =SUM(Suppe!A20) -> 0 | B38: =Suppe!B20 -> 0 | C38: =Suppe!C20 -> 0 | D38: =Suppe!D20 -> 0
A39: =Hauptgang!A2 -> Kalbssteak auf Kohlrabi-Carpaccio | D39: Bemerkungen
A40: =SUM(Hauptgang!A4) -> 0.6 | B40: =Hauptgang!B4 -> Kg | C40: =Hauptgang!C4 -> Kalbssteak | D40: =Hauptgang!D4 -> 150 Gramm
A41: =SUM(Hauptgang!A5) -> 0 | B41: =Hauptgang!B5 -> 0 | C41: =Hauptgang!C5 -> Bratbutter oder Bratcrème | D41: =Hauptgang!D5 -> 0
A42: =SUM(Hauptgang!A6) -> 0 | B42: =Hauptgang!B6 -> 0 | C42: =Hauptgang!C6 -> Salz und Pfeffer oder Fleischgewürz | D42: =Hauptgang!D6 -> 0
A43: =SUM(Hauptgang!A7) -> 0 | B43: =Hauptgang!B7 -> 0 | C43: =Hauptgang!C7 -> Carpaccio | D43: =Hauptgang!D7 -> 0
A44: =SUM(Hauptgang!A8) -> 0.6 | B44: =Hauptgang!B8 -> Kg | C44: =Hauptgang!C8 -> 1-2 Kohlrabi, gerüstet, feine Scheiben | D44: =Hauptgang!D8 -> 0
...
