Workbook

Sheet Menu
A3: Datum | B3: 42054 | D3: Menu Angaben wie folgt machen: | H3: Kg | I3: 0.25
H4: Lt | I4: 1.25
A5: Vorspeise | D5: alle weiteren Angaben weitere ausschreiben | H5: EL | I5: Esslöffel
H6: TL | I6: Kaffeelöffel
A7: Suppe | B7: Zucchini-Kartoffelsuppe | H7: Bund | I7: 1
H8: Stk | I8: Stück
A9: Hauptgang | B9: Rindsroulade mit Spinatfüllung | H9: Pä | I9: Päckli
A10: Beilage1 | B10: Grüner Petersilienwurzel-Risotto
A11: Beilage2
A13: Dessert | B13: Apfelkuchen, sehr fein
A15: Diverses
A17: Menu von Tisch | B17: D
A19: Personenzahl | B19: 4

Sheet Suppe
E1: Chochete vom | F1: =SUM(Menu!B3) -> 42054 | I1: Original Rezept
A2: =Menu!B7 -> Zucchini-Kartoffelsuppe | E2: Rezept für | F2: =SUM(Menu!B19) -> 4 | I2: 4 | J2: Personen | L2: Menu Angaben wie folgt machen:
A3: Menge | B3: Einheit | C3: Artikel (Gewicht alles ca. Angaben) | D3: Bemerkungen | E3: Einkaufspreis | F3: Betrag | I3: Originalrezept | J3: pro Person
A4: =ROUND(SUM(J4*$F$2),2) -> 1 | B4: St | C4: Zwiebeln | F4: =SUM(E4*A4) -> 0 | I4: 1 | J4: =I4/$I$2 -> 0.25 | L4: Kg | M4: 0.25
A5: =ROUND(SUM(J5*$F$2),2) -> 1 | B5: St | C5: Knoblauchzehe | F5: =SUM(E5*A5) -> 0 | I5: 1 | J5: =I5/$I$2 -> 0.25 | L5: Lt | M5: 1.25
A6: =ROUND(SUM(J6*$F$2),2) -> 2 | B6: St | C6: Kartoffeln | F6: =SUM(E6*A6) -> 0 | I6: 2 | J6: =I6/$I$2 -> 0.5 | L6: EL | M6: Esslöffel
A7: =ROUND(SUM(J7*$F$2),2) -> 2 | B7: St | C7: gelbe Zucchini nicht zu gross | D7: grüne eventuell etwas schälen | F7: =SUM(E7*A7) -> 0 | I7: 2 | J7: =I7/$I$2 -> 0.5 | L7: TL | M7: Kaffeelöffel
A8: =ROUND(SUM(J8*$F$2),2) -> 0.03 | B8: Kg | C8: Butter | F8: =SUM(E8*A8) -> 0 | I8: 0.025 | J8: =I8/$I$2 -> 0.00625 | L8: Bund | M8: 1
A9: =ROUND(SUM(J9*$F$2),2) -> 0.6 | B9: Lt | C9: Hühnebouillon | F9: =SUM(E9*A9) -> 0 | I9: 0.6 | J9: =I9/$I$2 -> 0.15 | L9: Stk | M9: Stück
A10: 1 | B10: Prise | C10: Cayenne Pfeffer | F10: =SUM(E10*A10) -> 0 | J10: =I10/$I$2 -> 0 | L10: Pä | M10: Päckli
A11: 1 | B11: Prise | C11: Salz | F11: =SUM(E11*A11) -> 0 | J11: =I11/$I$2 -> 0 | L11: alles weitere ausschreiben
A12: 1 | B12: Prise | C12: Pfeffer | F12: =SUM(E12*A12) -> 0 | J12: =I12/$I$2 -> 0
A13: 1 | B13: TL | C13: Paprika | F13: =SUM(E13*A13) -> 0 | J13: =I13/$I$2 -> 0
A14: 0.5 | B14: TL | C14: Thymian frisch | F14: =SUM(E14*A14) -> 0 | J14: =I14/$I$2 -> 0
A15: 0.5 | B15: TL | C15: Oregano frisch | F15: =SUM(E15*A15) -> 0 | J15: =I15/$I$2 -> 0
A16: =ROUND(SUM(J16*$F$2),2) -> 0.2 | B16: Lt | C16: Sahne | F16: =SUM(E16*A16) -> 0 | I16: 0.2 | J16: =I16/$I$2 -> 0.05
A17: 1 | B17: El | C17: Peterli fein gehackt | D17: als Garniture | F17: =SUM(E17*A17) -> 0 | J17: =I17/$I$2 -> 0
A18: =ROUND(SUM(J18*$F$2),2) -> 0 | F18: =SUM(E18*A18) -> 0 | J18: =I18/$I$2 -> 0
A19: =ROUND(SUM(J19*$F$2),2) -> 0 | F19: =SUM(E19*A19) -> 0 | J19: =I19/$I$2 -> 0
A20: =ROUND(SUM(J20*$F$2),2) -> 0 | F20: =SUM(E20*A20) -> 0 | J20: =I20/$I$2 -> 0
A21: Zubereitung
A22: Zwiebeln und Knoblauch schälen und hacken. Die Kartoffeln schälen und würfeln.
A23: Zucchini waschen und in Scheiben schneiden.
A24: Butter in einer grossem Topf erhitzen und Zwiebeln mit Knoblauch darin glasig dünsten. Die Kartoffeln hinzufügen und ca. 7 Minuten schmoren lassen. 2 EL Kartoffeln aus dem Topf nehmen, dann Zucchini dazugeben und alles weitere 3 Minuten garen. Hühner Bouillon angiessen und die Gewürze einfügen.
A26: Die Suppe aufkochen lassen, dann bei geringer Temperatur etwa 30 Minutengaren, anschliessend pürieren. Sahne in die Suppe rühren kurz erhitzen und mit Salz und Pfeffer abschnecken.
A27: Die zurückgelegten Kartoffeln auf die Suppentassen verteilen, die Suppe darüber giessen und noch mit der Petersilie bestreuen.

Sheet Hauptgang
E1: Chochete vom | F1: =SUM(Menu!B3) -> 42054 | I1: Original Rezept
A2: =Menu!B9 -> Rindsroulade mit Spinatfüllung | E2: Rezept für | F2: =SUM(Menu!B19) -> 4 | I2: 2 | J2: Personen | L2: Menu Angaben wie folgt machen:
A3: Menge | B3: Einheit | C3: Artikel (Gewicht alles ca. Angaben) | D3: Bemerkungen | E3: Einkaufspreis | F3: Betrag | I3: Originalrezept | J3: pro Person
A4: =ROUND(SUM(J4*$F$2),2) -> 0.8 | B4: Kg | C4: Rindsroulade flach | F4: =SUM(E4*A4) -> 0 | I4: 0.4 | J4: =I4/$I$2 -> 0.2 | L4: Kg | M4: 0.25
A5: =ROUND(SUM(J5*$F$2),2) -> 0.4 | B5: Kg | C5: Blattspinat | F5: =SUM(E5*A5) -> 0 | I5: 0.2 | J5: =I5/$I$2 -> 0.1 | L5: Lt | M5: 1.25
A6: =ROUND(SUM(J6*$F$2),2) -> 0.8 | B6: EL | C6: Olivenöl | F6: =SUM(E6*A6) -> 0 | I6: 0.4 | J6: =I6/$I$2 -> 0.2 | L6: EL | M6: Esslöffel
A7: =ROUND(SUM(J7*$F$2),2) -> 0 | C7: Salz | F7: =SUM(E7*A7) -> 0 | J7: =I7/$I$2 -> 0 | L7: TL | M7: Kaffeelöffel
A8: =ROUND(SUM(J8*$F$2),2) -> 0 | C8: Pfeffer | F8: =SUM(E8*A8) -> 0 | J8: =I8/$I$2 -> 0 | L8: Bund | M8: 1
A9: =ROUND(SUM(J9*$F$2),2) -> 4 | B9: St | C9: Schalotten | F9: =SUM(E9*A9) -> 0 | I9: 2 | J9: =I9/$I$2 -> 1 | L9: Stk | M9: Stück
A10: =ROUND(SUM(J10*$F$2),2) -> 2 | B10: St | C10: Knoblauchzehen | F10: =SUM(E10*A10) -> 0 | I10: 1 | J10: =I10/$I$2 -> 0.5 | L10: Pä | M10: Päckli
A11: =ROUND(SUM(J11*$F$2),2) -> 0.3 | B11: Kg | C11: Champignons | F11: =SUM(E11*A11) -> 0 | I11: 0.15 | J11: =I11/$I$2 -> 0.075 | L11: alles weitere ausschreiben
A12: =ROUND(SUM(J12*$F$2),2) -> 2 | B12: TL | C12: Thymian frisch | F12: =SUM(E12*A12) -> 0 | I12: 1 | J12: =I12/$I$2 -> 0.5
A13: =ROUND(SUM(J13*$F$2),2) -> 4 | B13: EL | C13: Brandy | F13: =SUM(E13*A13) -> 0 | I13: 2 | J13: =I13/$I$2 -> 1
A14: =ROUND(SUM(J14*$F$2),2) -> 1 | B14: St | C14: Limettensaft | F14: =SUM(E14*A14) -> 0 | I14: 0.5 | J14: =I14/$I$2 -> 0.25
A15: =ROUND(SUM(J15*$F$2),2) -> 0.08 | B15: Kg | C15: Butter | F15: =SUM(E15*A15) -> 0 | I15: 0.04 | J15: =I15/$I$2 -> 0.02
A16: =ROUND(SUM(J16*$F$2),2) -> 0.12 | B16: Kg | C16: Greyerzer gerieben | F16: =SUM(E16*A16) -> 0 | I16: 0.06 | J16: =I16/$I$2 -> 0.03
A17: =ROUND(SUM(J17*$F$2),2) -> 0 | F17: =SUM(E17*A17) -> 0 | J17: =I17/$I$2 -> 0
A18: =ROUND(SUM(J18*$F$2),2) -> 0 | F18: =SUM(E18*A18) -> 0 | J18: =I18/$I$2 -> 0
A19: =ROUND(SUM(J19*$F$2),2) -> 0 | F19: =SUM(E19*A19) -> 0 | J19: =I19/$I$2 -> 0
A20: =ROUND(SUM(J20*$F$2),2) -> 0 | F20: =SUM(E20*A20) -> 0 | J20: =I20/$I$2 -> 0
A21: Zubereitung
A22: Spinat im Öl dünsten und mit Salz und Pfeffer würzen. Danach fein hacken
A23: Backofen auf 180° vorheizen
A24: Schalotten und Knoblauch fein hacken
A25: Champignons reinigen und in Scheiben schneiden
A26: Das restliche Öl in einen Pfanne erhitzen und Schalotten mit Knoblauch und Thymian darin dünsten.Pilze dazugeben und mitschmoren.Brandy eingiessen etwas einkochen lassen, dann Limettensaft mit Butter einrühren. Alles mit dem Spinat verrühren. Käse unterheben und abschmecken.
A28: Die Füllung auf die Rouladen geben, zusammenrollen und mit Rouladen Nadel oder Zahnstocher feststecken.
A29: Im Ofen etwa 20 Minuten braten, (in der hälfte der Bratzeit wenden oder auch schmoren) bis des Fleisch weich ist. Die Rouladen können auch in dünnen Scheiben serviert werden zum Anrichten.

Sheet Beilage1
E1: Chochete vom | F1: =SUM(Menu!B3) -> 42054 | I1: Original Rezept
A2: =Menu!B10 -> Grüner Petersilienwurzel-Risotto | E2: Rezept für | F2: =SUM(Menu!B19) -> 4 | I2: 6 | J2: Personen | L2: Menu Angaben wie folgt machen:
A3: Menge | B3: Einheit | C3: Artikel (Gewicht alles ca. Angaben) | D3: Bemerkungen | E3: Einkaufspreis | F3: Betrag | I3: Originalrezept | J3: pro Person
A4: 0.3 | B4: Kg | C4: Petersilienwurzel | F4: =SUM(E4*A4) -> 0 | I4: 0.4 | J4: =I4/$I$2 -> 0.066666667 | L4: Kg | M4: 0.25 | N4: Zum Fertigstellen:
A5: 0.5 | B5: Lt | C5: Gemüsebouillon | F5: =SUM(E5*A5) -> 0 | I5: 0.64 | J5: =I5/$I$2 -> 0.10666667 | L5: Lt | M5: 1.25 | N5: 0.5 Bund Petersilie glattblättrig
A6: 1 | B6: St | C6: Schalotte fein gehackt | F6: =SUM(E6*A6) -> 0 | J6: =I6/$I$2 -> 0 | L6: EL | M6: Esslöffel | N6: 0.5 dl Rahm
A7: 1 | B7: Bund | C7: Peterli blätterig | F7: =SUM(E7*A7) -> 0 | J7: =I7/$I$2 -> 0 | L7: TL | M7: Kaffeelöffel | N7: 25 g Butter
A8: =ROUND(SUM(J8*$F$2),2) -> 1.33 | B8: EL | C8: Olivenöl | F8: =SUM(E8*A8) -> 0 | I8: 2 | J8: =I8/$I$2 -> 0.33333333 | L8: Bund | M8: 1 | N8: 50 g Parmesan gerieben, oder Sbrinz
A9: =ROUND(SUM(J9*$F$2),2) -> 0.02 | B9: Kg | C9: Butter | D9: Die Wurzelpetersilie, auch Knollenpetersilie oder Petersilienwurzel genannt; in Österreich auch Peterwurzen, ist eine Unterart der Petersilie mit verdickter, länglich, spitz zulaufender Rübe. Sie gehört zur botanischen Familie der Doldenblütler. | I9: 0.025 | J9: =I9/$I$2 -> 0.0041666667 | L9: Stk | M9: Stück | N9: Salz
A10: =ROUND(SUM(J10*$F$2),2) -> 0.16 | B10: Kg | C10: Risotto Reis | I10: 0.24 | J10: =I10/$I$2 -> 0.04 | L10: Pä | M10: Päckli | N10: schwarzer Pfeffer
A11: =ROUND(SUM(J11*$F$2),2) -> 0.07 | B11: Lt | C11: Noilly-Prat oder Wermut | I11: 0.1 | J11: =I11/$I$2 -> 0.016666667 | L11: alles weitere ausschreiben | N11: 1 Prise Muskatnuss gerieben
C12: Peterli blätterig (Garniture) | J12: =I12/$I$2 -> 0 | N12: einige Tropfen Zitronensaft
A13: =ROUND(SUM(J13*$F$2),2) -> 0.4 | B13: Lt | C13: Rahm | I13: 0.6 | J13: =I13/$I$2 -> 0.1
A14: =ROUND(SUM(J14*$F$2),2) -> 0.02 | B14: Kg | C14: Butter | F14: =SUM(E14*A14) -> 0 | I14: 0.025 | J14: =I14/$I$2 -> 0.0041666667
A15: =ROUND(SUM(J15*$F$2),2) -> 0.03 | C15: Parmesan gerieben | F15: =SUM(E15*A15) -> 0 | I15: 0.05 | J15: =I15/$I$2 -> 0.0083333333
A16: =ROUND(SUM(J16*$F$2),2) -> 0 | C16: Salz, Pfeffer, Muskat einige Tropfen Zitronensaft | F16: =SUM(E16*A16) -> 0 | J16: =I16/$I$2 -> 0
A17: Zubereitung | J17: =I17/$I$2 -> 0
A18: Die Petersilienwurzeln waschen, schälen und die Enden abschneiden. Schalen und Abschnitte mit der Bouillon in eine Pfanne geben und zugedeckt 10 Minuten kochen lassen. Anschliessend durch ein Sieb in einen Massbecher giessen und die Flüssigkeit wenn nötig mit Wasser wieder auf 6 dl ergänzen. | J18: =I18/$I$2 -> 0
J19: =I19/$I$2 -> 0
A20: Inzwischen die Petersilienwurzeln in knapp 1 cm dicke und 3 cm lange Stängelchen schneiden. Die Schalotten schälen und fein hacken. | J20: =I20/$I$2 -> 0
A21: Die Petersilienblätter abzupfen, in einen hohen Becher geben und zusammen mit ½ dl Petersiliensud sowie dem Olivenöl fein pürieren. Diesen Pesto beiseitestellen.
A22: In einer Pfanne die Butter schmelzen. Die Schalotten darin glasig dünsten. Die Petersilienwurzeln beifügen und 2 Minuten mitdünsten. Dann den Risotto Reis dazugeben und ebenfalls kurz mitdünsten. Noilly Prat oder Wermut sowie ⅓ des Petersiliensuds beifügen und alles unter Rühren einkochen lassen. Dann den restlichen Petersiliensud dazu giessen und den Risotto unter gelegentlichem Umrühren bei mittlerer Hitze 10–12 Minuten bissfest, d.h. knapp weich garen.
A25: Inzwischen zum Fertigstellen die Petersilienblätter von den Zweigen zupfen.
A26: Am Ende der Garzeit den Petersilien- Pesto, den Rahm, die Butter und den Käse zum Risotto geben und alles sorgfältig untermischen. Mit Salz, Pfeffer, Muskatnuss sowie Zitronensaft abschmecken. Den Risotto zugedeckt noch etwa 3 Minuten ruhen lassen. Dann in vorgewärmte tiefe Teller anrichten, mit den abgezupften Petersilienblättern garnieren und den Risotto sofort servieren.
A28: Petersilie gibt es nicht nur als Gewürzkraut – glattblättrig oder krause –, sondern auch in Wurzelform, die natürlich ebenfalls ausgeprägt „petersilie“ schmeckt. Die Petersilienwurzel wird oft mit der Pastinake verwechselt, da beide fast gleich aussehen und auch ähnlich schmecken. Kein Wunder, ist doch die Pastinake eine Kreuzung zwischen Karotte und Petersilienwurzel. Dennoch gibt es Merkmale, um die beiden Wurzelgemüse zu unterscheiden: Der Stielansatz der Pastinake ist nach innen gewölbt, während sich jener der Petersilienwurzel nach aussen wölbt. Zudem fühlt sich die Pastinake auf Fingerdruck etwas weicher als die Petersilienwurzel an.

Sheet Dessert
E1: Chochete vom | F1: =SUM(Menu!B3) -> 42054 | I1: Original Rezept
A2: =Menu!B13 -> Apfelkuchen, sehr fein | E2: Rezept für | F2: 12 | I2: 12 | J2: Personen | L2: Menu Angaben wie folgt machen:
A3: Menge | B3: Einheit | C3: Artikel (Gewicht alles ca. Angaben) | D3: Bemerkungen | E3: Einkaufspreis | I3: Originalrezept | J3: pro Person
A4: =ROUND(SUM(J4*$F$2),2) -> 0.5 | B4: Kg | C4: Aäpfel z.B. Elstar oder Boskop | D4: in Würfel | F4: =SUM(E4*A4) -> 0 | I4: 0.5 | J4: =I4/$I$2 -> 0.041666667 | L4: Kg | M4: 0.25
A5: =ROUND(SUM(J5*$F$2),2) -> 0.13 | B5: Kg | C5: Butter weich | F5: =SUM(E5*A5) -> 0 | I5: 0.125 | J5: =I5/$I$2 -> 0.010416667 | L5: Lt | M5: 1.25
A6: =ROUND(SUM(J6*$F$2),2) -> 0.1 | B6: Kg | C6: Zucker | F6: =SUM(E6*A6) -> 0 | I6: 0.1 | J6: =I6/$I$2 -> 0.0083333333 | L6: EL | M6: Esslöffel
A7: =ROUND(SUM(J7*$F$2),2) -> 1 | B7: Päckli | C7: Vanille-Zucker | F7: =SUM(E7*A7) -> 0 | I7: 1 | J7: =I7/$I$2 -> 0.083333333 | L7: KL | M7: Kaffeelöffel
A8: =ROUND(SUM(J8*$F$2),2) -> 1 | B8: Prise | C8: Salz | F8: =SUM(E8*A8) -> 0 | I8: 1 | J8: =I8/$I$2 -> 0.083333333 | L8: Bund | M8: 1
A9: =ROUND(SUM(J9*$F$2),2) -> 0 | B9: wenig | C9: Zitronen-Aroma | F9: =SUM(E9*A9) -> 0 | J9: =I9/$I$2 -> 0 | L9: Stk | M9: Stück
A10: =ROUND(SUM(J10*$F$2),2) -> 3 | B10: St | C10: Eier grosse | F10: =SUM(E10*A10) -> 0 | I10: 3 | J10: =I10/$I$2 -> 0.25 | L10: Pä | M10: Päckli
A11: =ROUND(SUM(J11*$F$2),2) -> 0.2 | B11: Kg | C11: Weissmehl | F11: =SUM(E11*A11) -> 0 | I11: 0.2 | J11: =I11/$I$2 -> 0.016666667 | L11: alles weitere ausschreiben
A12: =ROUND(SUM(J12*$F$2),2) -> 2 | B12: TL | C12: Backpulver | F12: =SUM(E12*A12) -> 0 | I12: 2 | J12: =I12/$I$2 -> 0.16666667
A13: =ROUND(SUM(J13*$F$2),2) -> 2 | B13: EL | C13: Milch | F13: =SUM(E13*A13) -> 0 | I13: 2 | J13: =I13/$I$2 -> 0.16666667
A14: =ROUND(SUM(J14*$F$2),2) -> 0.2 | B14: Kg | C14: Marzipanmasse | F14: =SUM(E14*A14) -> 0 | I14: 0.2 | J14: =I14/$I$2 -> 0.016666667
A15: =ROUND(SUM(J15*$F$2),2) -> 0 | C15: Zimt und | F15: =SUM(E15*A15) -> 0 | J15: =I15/$I$2 -> 0
A16: =ROUND(SUM(J16*$F$2),2) -> 0 | C16: Nelkenpulver zum marinieren der Äpfel | F16: =SUM(E16*A16) -> 0 | J16: =I16/$I$2 -> 0
A17: =ROUND(SUM(J17*$F$2),2) -> 0 | F17: =SUM(B29*A17) -> 0 | J17: =I17/$I$2 -> 0
A18: =ROUND(SUM(J18*$F$2),2) -> 0 | B18: Zutaten (etwa 12 Stück) | F18: =SUM(B30*A18) -> 0 | J18: =I18/$I$2 -> 0
A19: =ROUND(SUM(J19*$F$2),2) -> 0 | B19: für die Springform (Ø 26 cm): | F19: =SUM(B31*A19) -> 0 | J19: =I19/$I$2 -> 0
A20: =ROUND(SUM(J20*$F$2),2) -> 0 | F20: =SUM(B32*A20) -> 0 | J20: =I20/$I$2 -> 0
A21: Zubereitung
A22: Boden der Springform fetten. Für den Belag Äpfel schälen, vierteln und mehrmals der Länge nach einritzen. Backofen vorheizen.
A23: Rührteig:
A24: Butter oder Margarine in einer Rührschüssel mit einem Mixer (Rührstäbe) geschmeidig rühren. Nach und nach Zucker, Vanillin-Zucker, Salz und Aroma unter Rühren hinzufügen, bis eine gebundene Masse entsteht. Jedes Ei etwa ½ Min. auf höchster Stufe unterrühren. Mehl und Backpulver mischen und abwechselnd mit der Milch in 2 Portionen kurz auf mittlerer Stufe unterrühren. Marzinpanmasse unterziehen. Teig in die Springform füllen und glatt streichen. Die Apfelviertel kranzförmig auf den Teig legen. Die Form auf dem Rost in den Backofen schieben.
A27: Springformrand lösen und entfernen. Kuchen vom Springformboden lösen, aber darauf auf einem Kuchenrost erkalten lassen.
A28: Vor dem Servieren den Apfelkuchen mit Puderzucker bestreuen.
A29: Einschub: unteres Drittel
A30: Ober-/Unterhitze: etwa 180°C
A31: Heißluft: etwa 160°C
A32: Backzeit: etwa 45 Min.

Sheet Einkaufsliste
A1: Hobby-Küche Zug | C1: Einkaufsliste | D1: =Dessert!F1 -> 42054 | E1: ok
A2: =SUM(Dessert!A4) -> 0.5 | B2: =Dessert!B4 -> Kg | C2: =Dessert!C4 -> Aäpfel z.B. Elstar oder Boskop | D2: =SUM(Dessert!D4) -> 0
A3: =SUM(Dessert!A12) -> 2 | B3: =Dessert!B12 -> TL | C3: =Dessert!C12 -> Backpulver | D3: 1 x kaufen | E3: P
A4: =SUM(Hauptgang!A5) -> 0.4 | B4: =Hauptgang!B5 -> Kg | C4: =Hauptgang!C5 -> Blattspinat | D4: 3x500 gr
A5: =SUM(Hauptgang!A13) -> 4 | B5: =Hauptgang!B13 -> EL | C5: =Hauptgang!C13 -> Brandy | D5: =SUM(Hauptgang!D13) -> 0 | E5: P
A6: =Beilage1!A9 -> 0.02 | B6: =Beilage1!B9 -> Kg | C6: =Beilage1!C9 -> Butter | D6: =SUM(Beilage1!D9) -> 0
A7: =SUM(Suppe!A8) -> 0.03 | B7: =Suppe!B8 -> Kg | C7: =Suppe!C8 -> Butter | D7: 3x250
A8: =SUM(Hauptgang!A15) -> 0.08 | B8: =Hauptgang!B15 -> Kg | C8: =Hauptgang!C15 -> Butter
A9: =SUM(Dessert!A5) -> 0.13 | B9: =Dessert!B5 -> Kg | C9: =Dessert!C5 -> Butter weich | D9: =SUM(Dessert!D5) -> 0
A10: =SUM(Suppe!A10) -> 1 | B10: =Suppe!B10 -> Prise | C10: =Suppe!C10 -> Cayenne Pfeffer | D10: =SUM(Suppe!D10) -> 0 | E10: P
A11: =SUM(Hauptgang!A11) -> 0.3 | B11: =Hauptgang!B11 -> Kg | C11: =Hauptgang!C11 -> Champignons | D11: =SUM(Hauptgang!D11) -> 0
A12: =SUM(Dessert!A10) -> 3 | B12: =Dessert!B10 -> St | C12: =Dessert!C10 -> Eier grosse | D12: =SUM(Dessert!D10) -> 0
A13: =SUM(Suppe!A7) -> 2 | B13: =Suppe!B7 -> St | C13: =Suppe!C7 -> gelbe Zucchini nicht zu gross | D13: =SUM(Suppe!D7) -> 0
A14: =Beilage1!A5 -> 0.5 | B14: =Beilage1!B5 -> Lt | C14: =Beilage1!C5 -> Gemüsebouillon | D14: =SUM(Beilage1!D5) -> 0
A15: =SUM(Hauptgang!A16) -> 0.12 | B15: =Hauptgang!B16 -> Kg | C15: =Hauptgang!C16 -> Greyerzer gerieben | D15: =SUM(Hauptgang!D16) -> 0
A16: =SUM(Suppe!A9) -> 0.6 | B16: =Suppe!B9 -> Lt | C16: =Suppe!C9 -> Hühnebouillon | D16: =SUM(Suppe!D9) -> 0 | E16: P
A17: =SUM(Suppe!A6) -> 2 | B17: =Suppe!B6 -> St | C17: =Suppe!C6 -> Kartoffeln | D17: =SUM(Suppe!D6) -> 0
A18: =SUM(Suppe!A5) -> 1 | B18: =Suppe!B5 -> St | C18: =Suppe!C5 -> Knoblauchzehe | D18: je 1 Knolle
A19: =SUM(Hauptgang!A10) -> 2 | B19: =Hauptgang!B10 -> St | C19: =Hauptgang!C10 -> Knoblauchzehen | D19: =SUM(Hauptgang!D10) -> 0
A20: =SUM(Hauptgang!A14) -> 1 | B20: =Hauptgang!B14 -> St | C20: =Hauptgang!C14 -> Limettensaft | D20: =SUM(Hauptgang!D14) -> 0
A21: =SUM(Dessert!A14) -> 0.2 | B21: =Dessert!B14 -> Kg | C21: =Dessert!C14 -> Marzipanmasse | D21: JP | E21: P
A22: =SUM(Dessert!A13) -> 2 | B22: =Dessert!B13 -> EL | C22: =Dessert!C13 -> Milch | D22: =SUM(Dessert!D13) -> 0
A23: =SUM(Dessert!A16) -> 0 | C23: =Dessert!C16 -> Nelkenpulver zum marinieren der Äpfel | D23: JP | E23: P
A24: =Beilage1!A11 -> 0.07 | B24: =Beilage1!B11 -> Lt | C24: =Beilage1!C11 -> Noilly-Prat oder Wermut | D24: =SUM(Beilage1!D11) -> 0 | E24: P
A25: =SUM(Hauptgang!A6) -> 0.8 | B25: =Hauptgang!B6 -> EL | C25: =Hauptgang!C6 -> Olivenöl | D25: =SUM(Hauptgang!D6) -> 0 | E25: P
A26: =Beilage1!A8 -> 1.33 | B26: =Beilage1!B8 -> EL | C26: =Beilage1!C8 -> Olivenöl | D26: =SUM(Beilage1!D8) -> 0 | E26: P
A27: =SUM(Suppe!A15) -> 0.5 | B27: =Suppe!B15 -> TL | C27: =Suppe!C15 -> Oregano frisch | D27: =SUM(Suppe!D15) -> 0
A28: =SUM(Suppe!A13) -> 1 | B28: =Suppe!B13 -> TL | C28: =Suppe!C13 -> Paprika | D28: =SUM(Suppe!D13) -> 0 | E28: P
A29: =Beilage1!A7 -> 1 | B29: =Beilage1!B7 -> Bund | C29: =Beilage1!C7 -> Peterli blätterig | D29: =SUM(Beilage1!D7) -> 0
A30: =SUM(Suppe!A17) -> 1 | B30: =Suppe!B17 -> El | C30: =Suppe!C17 -> Peterli fein gehackt | D30: =SUM(Suppe!D17) -> 0
A31: =Beilage1!A4 -> 0.3 | B31: =Beilage1!B4 -> Kg | C31: =Beilage1!C4 -> Petersilienwurzel | D31: =SUM(Beilage1!D4) -> 0 | E31: P
A32: =SUM(Suppe!A12) -> 1 | B32: =Suppe!B12 -> Prise | C32: =Suppe!C12 -> Pfeffer | D32: =SUM(Suppe!D12) -> 0 | E32: P
A33: =SUM(Hauptgang!A4) -> 0.8 | B33: =Hauptgang!B4 -> Kg | C33: =Hauptgang!C4 -> Rindsroulade flach | D33: =SUM(Hauptgang!D4) -> 0
A34: =Beilage1!A10 -> 0.16 | B34: =Beilage1!B10 -> Kg | C34: =Beilage1!C10 -> Risotto Reis | D34: =SUM(Beilage1!D10) -> 0
A35: =SUM(Suppe!A16) -> 0.2 | B35: =Suppe!B16 -> Lt | C35: =Suppe!C16 -> Sahne | D35: =SUM(Suppe!D16) -> 0
A36: =SUM(Suppe!A11) -> 1 | B36: =Suppe!B11 -> Prise | C36: =Suppe!C11 -> Salz | D36: =SUM(Suppe!D11) -> 0 | E36: P
A37: =Beilage1!A6 -> 1 | B37: =Beilage1!B6 -> St | C37: =Beilage1!C6 -> Schalotte fein gehackt | D37: =SUM(Beilage1!D6) -> 0
A38: =SUM(Hauptgang!A9) -> 4 | B38: =Hauptgang!B9 -> St | C38: =Hauptgang!C9 -> Schalotten | D38: =SUM(Hauptgang!D9) -> 0
A39: =SUM(Suppe!A14) -> 0.5 | B39: =Suppe!B14 -> TL | C39: =Suppe!C14 -> Thymian frisch | D39: =SUM(Suppe!D14) -> 0 | E39: P
A40: =SUM(Hauptgang!A12) -> 2 | B40: =Hauptgang!B12 -> TL | C40: =Hauptgang!C12 -> Thymian frisch | D40: =SUM(Hauptgang!D12) -> 0
...
