Workbook

Sheet Menu
A3: Datum | B3: 41802
A5: Apero | B5: Flammkuchen
A7: Vorspeise | B7: Lachs auf dem Räucherbrett (mit Lime gespickt) mit Rucola & Cherry Tomaten
A9: Hauptgang | B9: Entrecote double (ca. 100 gr / Person) Kräuterbutter
A10: Beilage1 | B10: Ofengemüse (Blechgemüse) mit Kartoffel
A12: Dessert | B12: Glasige Schoggi küchlein mit Olivenöl & Meersalz und Vanille Eis
A14: Diverses Tisch 1 | B14: Roquefort-Butter
A15: Diverses Tisch 2 | B15: Mexicaine-Butter
A16: Diverses Tisch 3 | B16: Pesto-Butter
A18: Menu von Tisch | B18: D
A20: Personenzahl | B20: 4

Sheet Apero
E1: Chochete vom | F1: =SUM(Menu!B3) -> 41802 | I1: Original Rezept
A2: =Menu!B5 -> Flammkuchen | E2: Rezept für | F2: =SUM(Menu!B20) -> 4 | I2: 4 | J2: Personen | L2: Menu Angaben wie folgt machen:
A3: Menge | B3: Einheit | C3: Artikel (Gewicht alles ca. Angaben) | D3: Bemerkungen | E3: Einkaufspreis | F3: Betrag | I3: Originalrezept | J3: pro Person
A4: =ROUND(SUM(J4*$F$2),2) -> 1 | B4: Stk | C4: Flammkuchenteig (Fertig) | F4: =SUM(E4*A4) -> 0 | I4: 1 | J4: =I4/$I$2 -> 0.25 | L4: Kg | M4: 0.25
A5: =ROUND(SUM(J5*$F$2),2) -> 0.01 | B5: Lt | C5: Creme Fraiche | F5: =SUM(E5*A5) -> 0 | I5: 0.01 | J5: =I5/$I$2 -> 0.0025 | L5: Lt | M5: 1.25
A6: =ROUND(SUM(J6*$F$2),2) -> 1 | B6: Stk | C6: Zwiebel | F6: =SUM(E6*A6) -> 0 | I6: 1 | J6: =I6/$I$2 -> 0.25 | L6: EL | M6: Esslöffel
A7: =ROUND(SUM(J7*$F$2),2) -> 0.1 | B7: Kg | C7: Speck | F7: =SUM(E7*A7) -> 0 | I7: 0.1 | J7: =I7/$I$2 -> 0.025 | L7: TL | M7: Kaffeelöffel
A8: =ROUND(SUM(J8*$F$2),2) -> 0 | F8: =SUM(E8*A8) -> 0 | J8: =I8/$I$2 -> 0 | L8: Bund | M8: 1
A9: =ROUND(SUM(J9*$F$2),2) -> 0 | F9: =SUM(E9*A9) -> 0 | J9: =I9/$I$2 -> 0 | L9: Stk | M9: Stück
A10: =ROUND(SUM(J10*$F$2),2) -> 0 | C10: Salz | F10: =SUM(E10*A10) -> 0 | J10: =I10/$I$2 -> 0 | L10: Pä | M10: Päckli
A11: =ROUND(SUM(J11*$F$2),2) -> 0 | C11: Pfeffer aus der Mühle | F11: =SUM(E11*A11) -> 0 | J11: =I11/$I$2 -> 0 | L11: alles weitere ausschreiben
A12: =ROUND(SUM(J12*$F$2),2) -> 0 | F12: =SUM(E12*A12) -> 0 | J12: =I12/$I$2 -> 0
A13: =ROUND(SUM(J13*$F$2),2) -> 0 | F13: =SUM(E13*A13) -> 0 | J13: =I13/$I$2 -> 0
A14: =ROUND(SUM(J14*$F$2),2) -> 0 | F14: =SUM(E14*A14) -> 0 | J14: =I14/$I$2 -> 0
A15: =ROUND(SUM(J15*$F$2),2) -> 0 | F15: =SUM(E15*A15) -> 0 | J15: =I15/$I$2 -> 0
A16: =ROUND(SUM(J16*$F$2),2) -> 0 | F16: =SUM(E16*A16) -> 0 | J16: =I16/$I$2 -> 0
A17: =ROUND(SUM(J17*$F$2),2) -> 0 | F17: =SUM(E17*A17) -> 0 | J17: =I17/$I$2 -> 0
A18: =ROUND(SUM(J18*$F$2),2) -> 0 | F18: =SUM(E18*A18) -> 0 | J18: =I18/$I$2 -> 0
A19: =ROUND(SUM(J19*$F$2),2) -> 0 | F19: =SUM(E19*A19) -> 0 | J19: =I19/$I$2 -> 0
A20: =ROUND(SUM(J20*$F$2),2) -> 0 | F20: =SUM(E20*A20) -> 0 | J20: =I20/$I$2 -> 0
A21: Zubereitung
A22: BELAG Crème fraîche auf dem Teig verteilen, dabei einen Rand von ca. 1 cm frei lassen. Zwiebel, in feinen Ringen und Speckwürfeli darauf verteilen und nach belieben würzen.

Sheet Vorspeise
E1: Chochete vom | F1: =SUM(Menu!B3) -> 41802 | I1: Original Rezept
A2: =Menu!B7 -> Lachs auf dem Räucherbrett (mit Lime gespickt) mit Rucola & Cherry Tomaten | E2: Rezept für | F2: =Menu!B20 -> 4 | I2: 4 | J2: Personen | L2: Menu Angaben wie folgt machen:
A3: Menge | B3: Einheit | C3: Artikel (Gewicht alles ca. Angaben) | D3: Bemerkungen | E3: Einkaufspreis | F3: Betrag | I3: Originalrezept | J3: pro Person
A4: =ROUND(SUM(J4*$F$2),2) -> 0.4 | B4: Kg | C4: Lachsfilet (100gr/ Person) mit Haut | E4: 0 | F4: =SUM(E4*A4) -> 0 | I4: 0.4 | J4: =I4/$I$2 -> 0.1 | L4: Kg | M4: 0.25
A5: =ROUND(SUM(J5*$F$2),2) -> 1 | B5: Stk | C5: Lime | F5: =SUM(E5*A5) -> 0 | I5: 1 | J5: =I5/$I$2 -> 0.25 | L5: Lt | M5: 1.25
A6: =ROUND(SUM(J6*$F$2),2) -> 0.4 | B6: Kg | C6: Ruccola | F6: =SUM(E6*A6) -> 0 | I6: 0.4 | J6: =I6/$I$2 -> 0.1 | L6: EL | M6: Esslöffel
A7: =ROUND(SUM(J7*$F$2),2) -> 0.2 | B7: Kg | C7: Cherrytomaten | F7: =SUM(E7*A7) -> 0 | I7: 0.2 | J7: =I7/$I$2 -> 0.05 | L7: TL | M7: Kaffeelöffel
A8: =ROUND(SUM(J8*$F$2),2) -> 0 | F8: =SUM(E8*A8) -> 0 | J8: =I8/$I$2 -> 0 | L8: Bund | M8: 1
A9: =ROUND(SUM(J9*$F$2),2) -> 0 | F9: =SUM(E9*A9) -> 0 | J9: =I9/$I$2 -> 0 | L9: Stk | M9: Stück
A10: =ROUND(SUM(J10*$F$2),2) -> 1 | C10: Oliven Oel zum Lachs beträufeln | F10: =SUM(E10*A10) -> 0 | I10: 1 | J10: =I10/$I$2 -> 0.25 | L10: Pä | M10: Päckli
A11: =ROUND(SUM(J11*$F$2),2) -> 0 | C11: Salz & Pfeffer | F11: =SUM(E11*A11) -> 0 | J11: =I11/$I$2 -> 0 | L11: alles weitere ausschreiben
A12: =ROUND(SUM(J12*$F$2),2) -> 0 | C12: unbehandeltes Zedernholzbrett | F12: =SUM(E12*A12) -> 0 | J12: =I12/$I$2 -> 0
A13: =ROUND(SUM(J13*$F$2),2) -> 0 | F13: =SUM(E13*A13) -> 0 | J13: =I13/$I$2 -> 0
A14: =ROUND(SUM(J14*$F$2),2) -> 0 | F14: =SUM(E14*A14) -> 0 | J14: =I14/$I$2 -> 0
A15: =ROUND(SUM(J15*$F$2),2) -> 0 | C15: Salat Sauce | F15: =SUM(E15*A15) -> 0 | J15: =I15/$I$2 -> 0
A16: =ROUND(SUM(J16*$F$2),2) -> 0.02 | B16: Kg | C16: Oliven Oel | F16: =SUM(E16*A16) -> 0 | I16: 0.02 | J16: =I16/$I$2 -> 0.005
A17: =ROUND(SUM(J17*$F$2),2) -> 0.01 | B17: Kg | C17: Aceto Balsamico | F17: =SUM(E17*A17) -> 0 | I17: 0.01 | J17: =I17/$I$2 -> 0.0025
A18: =ROUND(SUM(J18*$F$2),2) -> 0 | C18: Salz & Pfeffer | F18: =SUM(E18*A18) -> 0 | J18: =I18/$I$2 -> 0
A19: =ROUND(SUM(J19*$F$2),2) -> 0 | F19: =SUM(E19*A19) -> 0 | J19: =I19/$I$2 -> 0
A20: =ROUND(SUM(J20*$F$2),2) -> 0 | F20: =SUM(E20*A20) -> 0 | J20: =I20/$I$2 -> 0
A21: Zubereitung
A22: GRILLMETHODE direkte mittlere Hitze (175-230 "C] GRILLZEIT 10Min. ZUBEHÖR Ein unbehandeltes Zedernholzbrett, 30-40 cm lang und etwa 1,5 cm dick, mindestens 1 Stunde in Salzwasser gewässert (Je nach Lust & Laune in Wein oder Brandy). ZUBEREITUNG Den rohen Fisch in Portionen teilen, ohne dabei die Haut zu durchtrennen. Mit Limmeten den lachs bestecken und nach belieben würzen.

Sheet Hauptgang
E1: Chochete vom | F1: =SUM(Menu!B3) -> 41802 | I1: Original Rezept
A2: =Menu!B9 -> Entrecote double (ca. 100 gr / Person) Kräuterbutter | E2: Rezept für | F2: =Menu!B20 -> 4 | I2: 4 | J2: Personen | L2: Menu Angaben wie folgt machen:
A3: Menge | B3: Einheit | C3: Artikel (Gewicht alles ca. Angaben) | D3: Bemerkungen | E3: Einkaufspreis | F3: Betrag | I3: Originalrezept | J3: pro Person
A4: =ROUND(SUM(J4*$F$2),2) -> 0.4 | B4: Kg | C4: Rindsentrecote | F4: =SUM(E4*A4) -> 0 | I4: 0.4 | J4: =I4/$I$2 -> 0.1 | L4: Kg | M4: 0.25
A5: =ROUND(SUM(J5*$F$2),2) -> 0 | F5: =SUM(E5*A5) -> 0 | J5: =I5/$I$2 -> 0 | L5: Lt | M5: 1.25
A6: =ROUND(SUM(J6*$F$2),2) -> 0 | C6: Olivenoel zum Einreiben | F6: =SUM(E6*A6) -> 0 | J6: =I6/$I$2 -> 0 | L6: EL | M6: Esslöffel
A7: =ROUND(SUM(J7*$F$2),2) -> 0 | C7: Meersalz aus der Mühle | F7: =SUM(E7*A7) -> 0 | J7: =I7/$I$2 -> 0 | L7: TL | M7: Kaffeelöffel
A8: =ROUND(SUM(J8*$F$2),2) -> 0 | F8: =SUM(E8*A8) -> 0 | J8: =I8/$I$2 -> 0 | L8: Bund | M8: 1
A9: =ROUND(SUM(J9*$F$2),2) -> 0 | F9: =SUM(E9*A9) -> 0 | J9: =I9/$I$2 -> 0 | L9: Stk | M9: Stück
A10: =ROUND(SUM(J10*$F$2),2) -> 0 | F10: =SUM(E10*A10) -> 0 | J10: =I10/$I$2 -> 0 | L10: Pä | M10: Päckli
A11: =ROUND(SUM(J11*$F$2),2) -> 0 | F11: =SUM(E11*A11) -> 0 | J11: =I11/$I$2 -> 0 | L11: alles weitere ausschreiben
A12: =ROUND(SUM(J12*$F$2),2) -> 0 | F12: =SUM(E12*A12) -> 0 | J12: =I12/$I$2 -> 0
A13: =ROUND(SUM(J13*$F$2),2) -> 0 | C13: Garstufen | F13: =SUM(E13*A13) -> 0 | J13: =I13/$I$2 -> 0
A14: =ROUND(SUM(J14*$F$2),2) -> 0 | C14: Rind (blutig) | D14: 40 − 45 °C | F14: =SUM(E14*A14) -> 0 | J14: =I14/$I$2 -> 0
A15: =ROUND(SUM(J15*$F$2),2) -> 0 | C15: Rind (rosa) | D15: 50 − 55 °C | F15: =SUM(E15*A15) -> 0 | J15: =I15/$I$2 -> 0
A16: =ROUND(SUM(J16*$F$2),2) -> 0 | C16: Rind (durch) | D16: 60 − 65 °C | F16: =SUM(E16*A16) -> 0 | J16: =I16/$I$2 -> 0
A17: =ROUND(SUM(J17*$F$2),2) -> 0 | F17: =SUM(E17*A17) -> 0 | J17: =I17/$I$2 -> 0
A18: =ROUND(SUM(J18*$F$2),2) -> 0 | F18: =SUM(E18*A18) -> 0 | J18: =I18/$I$2 -> 0
A19: =ROUND(SUM(J19*$F$2),2) -> 0 | F19: =SUM(E19*A19) -> 0 | J19: =I19/$I$2 -> 0
A20: =ROUND(SUM(J20*$F$2),2) -> 0 | F20: =SUM(E20*A20) -> 0 | J20: =I20/$I$2 -> 0
A21: Zubereitung
A22: GRILLMETHODE direkte starke Hitze (230-290 °C) GRILLZEIT 12-15 Min. ca. 15 Min. ZUBEREITUNG Steak auf beiden Seiten dünn mit Öl bestreichen und gleichmässig mit Salz und Pfeffer würzen. Den Grill für direkte strarke Hitze vorbereiten. Steak über starke Hitze schräg auf den Grillrost legen - in der Richtung eines Stundenzeigers, der auf zehn Uhr zeigt. Den Deckel schliessen. Das Steak so drehen, dass es auf zwei Uhr zeigt, dann den Deckel schliessen und weitere 1 bis 2 Minuten. bei starker Hitze grillieren. Das Steak umdrehen - es sollte jetzt ein gleichmässiges Kreuzmuster aufweisen. Bei einer Kerntemperatur von 50 °C ist es medium rare. HKZ--> Grillpfanne Muster geben anschliessend im Backofen fertig garen.

Sheet Beilage1
E1: Chochete vom | F1: =SUM(Menu!B3) -> 41802 | I1: Original Rezept
A2: =Menu!B10 -> Ofengemüse (Blechgemüse) mit Kartoffel | E2: Rezept für | F2: =SUM(Menu!B20) -> 4 | I2: 4 | J2: Personen | L2: Menu Angaben wie folgt machen:
A3: Menge | B3: Einheit | C3: Artikel (Gewicht alles ca. Angaben) | D3: Bemerkungen | E3: Einkaufspreis | F3: Betrag | I3: Originalrezept | J3: pro Person
A4: =ROUND(SUM(J4*$F$2),2) -> 0.5 | B4: Stk | C4: Peperoni grün | D4: in quadrate | F4: =SUM(E4*A4) -> 0 | I4: 0.5 | J4: =I4/$I$2 -> 0.125 | L4: Kg | M4: 0.25
A5: =ROUND(SUM(J5*$F$2),2) -> 0.5 | B5: Stk | C5: Peperoni rot | D5: in quadrate | F5: =SUM(E5*A5) -> 0 | I5: 0.5 | J5: =I5/$I$2 -> 0.125 | L5: Lt | M5: 1.25
A6: =ROUND(SUM(J6*$F$2),2) -> 0.5 | B6: Stk | C6: Peperoni gelb | D6: in quadrate | F6: =SUM(E6*A6) -> 0 | I6: 0.5 | J6: =I6/$I$2 -> 0.125 | L6: EL | M6: Esslöffel
A7: =ROUND(SUM(J7*$F$2),2) -> 1 | B7: Stk | C7: Zugetti grün | D7: grob gewürfelt | F7: =SUM(E7*A7) -> 0 | I7: 1 | J7: =I7/$I$2 -> 0.25 | L7: TL | M7: Kaffeelöffel
A8: =ROUND(SUM(J8*$F$2),2) -> 1 | B8: Stk | C8: Zugetti gelb | D8: grob gewürfelt | F8: =SUM(E8*A8) -> 0 | I8: 1 | J8: =I8/$I$2 -> 0.25 | L8: Bund | M8: 1
A9: =ROUND(SUM(J9*$F$2),2) -> 2 | B9: Stk | C9: Frühlingszwiebeln | D9: grob gewürfelt | F9: =SUM(E9*A9) -> 0 | I9: 2 | J9: =I9/$I$2 -> 0.5 | L9: Stk | M9: Stück
A10: =ROUND(SUM(J10*$F$2),2) -> 1 | B10: Stk | C10: Aubergine | D10: grob gewürfelt | F10: =SUM(E10*A10) -> 0 | I10: 1 | J10: =I10/$I$2 -> 0.25 | L10: Pä | M10: Päckli
A11: =ROUND(SUM(J11*$F$2),2) -> 2 | B11: Stk | C11: Knoblauchzehen in Scheiben | F11: =SUM(E11*A11) -> 0 | I11: 2 | J11: =I11/$I$2 -> 0.5 | L11: alles weitere ausschreiben
A12: =ROUND(SUM(J12*$F$2),2) -> 8 | B12: Stk | C12: Cherri Tomaten halbiert | F12: =SUM(E12*A12) -> 0 | I12: 8 | J12: =I12/$I$2 -> 2
A13: =ROUND(SUM(J13*$F$2),2) -> 8 | B13: Stk | C13: Champignons | D13: gviertelt | F13: =SUM(E13*A13) -> 0 | I13: 8 | J13: =I13/$I$2 -> 2
A14: =ROUND(SUM(J14*$F$2),2) -> 0.4 | B14: Kg | C14: Kartoffeln | D14: gviertelt | F14: =SUM(E14*A14) -> 0 | I14: 0.4 | J14: =I14/$I$2 -> 0.1
A15: =ROUND(SUM(J15*$F$2),2) -> 0.5 | B15: Bund | C15: Thymian | F15: =SUM(E15*A15) -> 0 | I15: 0.5 | J15: =I15/$I$2 -> 0.125
A16: =ROUND(SUM(J16*$F$2),2) -> 0.5 | B16: Buind | C16: Rosmarin | F16: =SUM(E16*A16) -> 0 | I16: 0.5 | J16: =I16/$I$2 -> 0.125
A17: =ROUND(SUM(J17*$F$2),2) -> 0 | C17: Gewürze nach belieben | F17: =SUM(E17*A17) -> 0 | J17: =I17/$I$2 -> 0
A18: =ROUND(SUM(J18*$F$2),2) -> 0 | F18: =SUM(E18*A18) -> 0 | J18: =I18/$I$2 -> 0
A19: =ROUND(SUM(J19*$F$2),2) -> 0 | F19: =SUM(E19*A19) -> 0 | J19: =I19/$I$2 -> 0
A20: =ROUND(SUM(J20*$F$2),2) -> 0 | F20: =SUM(E20*A20) -> 0 | J20: =I20/$I$2 -> 0
A21: Zubereitung
A22: Zuerst die Grillschale mit Olivenöl bepinseln (wer keine Grillschale hat, kann das Ganze auch in einer Grillpfanne zubereiten). Anschließend das Gemüse in grobe Stücke schneiden und zusammen mit den Knoblauchzehen und den Zwiebeln in die Pfanne geben. Alles nochmals mit ein wenig Olivenöl bepinseln.

Sheet Dessert
E1: Chochete vom | F1: =SUM(Menu!B3) -> 41802 | I1: Original Rezept
A2: =Menu!B12 -> Glasige Schoggi küchlein mit Olivenöl & Meersalz und Vanille Eis | E2: Rezept für | F2: =SUM(Menu!B20) -> 4 | I2: 4 | J2: Personen | L2: Menu Angaben wie folgt machen:
A3: Menge | B3: Einheit | C3: Artikel (Gewicht alles ca. Angaben) | D3: Bemerkungen | E3: Einkaufspreis | F3: Betrag | I3: Originalrezept | J3: pro Person
A4: =ROUND(SUM(J4*$F$2),2) -> 0 | C4: Teig | F4: =SUM(E4*A4) -> 0 | J4: =I4/$I$2 -> 0 | L4: Kg | M4: 0.25
A5: =ROUND(SUM(J5*$F$2),2) -> 0.18 | B5: Kg | C5: dunkle Schokolade | F5: =SUM(E5*A5) -> 0 | I5: 0.18 | J5: =I5/$I$2 -> 0.045 | L5: Lt | M5: 1.25
A6: =ROUND(SUM(J6*$F$2),2) -> 0.09 | B6: Kg | C6: Butter | F6: =SUM(E6*A6) -> 0 | I6: 0.09 | J6: =I6/$I$2 -> 0.0225 | L6: EL | M6: Esslöffel
A7: =ROUND(SUM(J7*$F$2),2) -> 0.06 | B7: Kg | C7: Zucker | F7: =SUM(E7*A7) -> 0 | I7: 0.06 | J7: =I7/$I$2 -> 0.015 | L7: KL | M7: Kaffeelöffel
A8: =ROUND(SUM(J8*$F$2),2) -> 0.02 | B8: Kg | C8: Mehl | F8: =SUM(E8*A8) -> 0 | I8: 0.021 | J8: =I8/$I$2 -> 0.00525 | L8: Bund | M8: 1
A9: =ROUND(SUM(J9*$F$2),2) -> 3 | B9: Stk | C9: Eier | F9: =SUM(E9*A9) -> 0 | I9: 3 | J9: =I9/$I$2 -> 0.75 | L9: Stk | M9: Stück
A10: =ROUND(SUM(J10*$F$2),2) -> 3 | B10: Stk | C10: Eigelb | F10: =SUM(E10*A10) -> 0 | I10: 3 | J10: =I10/$I$2 -> 0.75 | L10: Pä | M10: Päckli
A11: =ROUND(SUM(J11*$F$2),2) -> 0 | F11: =SUM(E11*A11) -> 0 | J11: =I11/$I$2 -> 0 | L11: alles weitere ausschreiben
A12: =ROUND(SUM(J12*$F$2),2) -> 0.2 | B12: Kg | C12: Himmbeeren Sorbet (oder andere Beeren) | F12: =SUM(E12*A12) -> 0 | I12: 0.2 | J12: =I12/$I$2 -> 0.05
A13: =ROUND(SUM(J13*$F$2),2) -> 0.01 | C13: Oliven Oel zum beträufeln | F13: =SUM(E13*A13) -> 0 | I13: 0.01 | J13: =I13/$I$2 -> 0.0025
A14: =ROUND(SUM(J14*$F$2),2) -> 0.01 | C14: Salz aus der Mühle | F14: =SUM(E14*A14) -> 0 | I14: 0.01 | J14: =I14/$I$2 -> 0.0025
A15: =ROUND(SUM(J15*$F$2),2) -> 1 | C15: Wegwerf Dressier Sack | F15: =SUM(E15*A15) -> 0 | I15: 1 | J15: =I15/$I$2 -> 0.25
F16: =SUM(E16*A16) -> 0 | I16: 1 | J16: =I16/$I$2 -> 0.25
A17: =ROUND(SUM(J17*$F$2),2) -> 0 | F17: =SUM(E17*A17) -> 0 | J17: =I17/$I$2 -> 0
A18: =ROUND(SUM(J18*$F$2),2) -> 0 | F18: =SUM(E18*A18) -> 0 | J18: =I18/$I$2 -> 0
A19: =ROUND(SUM(J19*$F$2),2) -> 0 | F19: =SUM(E19*A19) -> 0 | J19: =I19/$I$2 -> 0
A20: =ROUND(SUM(J20*$F$2),2) -> 0 | F20: =SUM(E20*A20) -> 0 | J20: =I20/$I$2 -> 0
A21: Zubereitung
A22: GRILLMETHODE Grill 5 Minuten auf 300 oC vorheizen. Förmchen mit Butter einfetten und mehlieren. Die gefüllte Form auf den Rost stellen und etwa 6 Minuten (je nach grösse der From und der Themperatur muss mann etwas Testen...) bei 300 "C backen. Die Küchlein sollten innen noch klebrig, jedoch nicht flüssig sein. Vor dem Essen auskühlen lassen. HKZ Masse in einen Spritzbeutel füllen. Förmchen mit Butter einfetten und mehlieren. Backofen auf 220°C vorheizen und die gefüllte Form glasig Backen (ca 5-6 Minuten) Stäbchen Probe

Sheet Diverses Tisch 1
E1: Chochete vom | F1: =SUM(Menu!B3) -> 41802 | I1: Original Rezept
A2: =Menu!B14 -> Roquefort-Butter | E2: Rezept für | F2: 4 | I2: 8 | J2: Personen | L2: Menu Angaben wie folgt machen:
A3: Menge | B3: Einheit | C3: Artikel (Gewicht alles ca. Angaben) | D3: Bemerkungen | E3: Einkaufspreis | F3: Betrag | I3: Originalrezept | J3: pro Person
A4: =ROUND(SUM(J4*$F$2),2) -> 0.25 | B4: Kg | C4: Kochbutter sehr schaumig schlagen | F4: =SUM(E4*A4) -> 0 | I4: 0.5 | J4: =I4/$I$2 -> 0.0625 | L4: Kg | M4: 0.25
A5: =ROUND(SUM(J5*$F$2),2) -> 0.06 | B5: Kg | C5: Roqufort | F5: =SUM(E5*A5) -> 0 | I5: 0.125 | J5: =I5/$I$2 -> 0.015625 | L5: Lt | M5: 1.25
A6: =ROUND(SUM(J6*$F$2),2) -> 0.02 | B6: Kg | C6: Danablu | F6: =SUM(E6*A6) -> 0 | I6: 0.035 | J6: =I6/$I$2 -> 0.004375 | L6: EL | M6: Esslöffel
A7: =ROUND(SUM(J7*$F$2),2) -> 0.01 | B7: Kg | C7: Schnittlauch | F7: =SUM(E7*A7) -> 0 | I7: 0.025 | J7: =I7/$I$2 -> 0.003125 | L7: KL | M7: Kaffeelöffel
A8: =ROUND(SUM(J8*$F$2),2) -> 0.01 | B8: Kg | C8: Peterli | F8: =SUM(E8*A8) -> 0 | I8: 0.025 | J8: =I8/$I$2 -> 0.003125 | L8: Bund | M8: 1
A9: =ROUND(SUM(J9*$F$2),2) -> 0.01 | B9: Kg | C9: Maggikraut | F9: =SUM(E9*A9) -> 0 | I9: 0.025 | J9: =I9/$I$2 -> 0.003125 | L9: Stk | M9: Stück
A10: =ROUND(SUM(J10*$F$2),2) -> 0 | C10: Worcestersauce | F10: =SUM(E10*A10) -> 0 | J10: =I10/$I$2 -> 0 | L10: Pä | M10: Päckli
A11: =ROUND(SUM(J11*$F$2),2) -> 0 | C11: Salz nach belieben | F11: =SUM(E11*A11) -> 0 | J11: =I11/$I$2 -> 0 | L11: alles weitere ausschreiben
A12: =ROUND(SUM(J12*$F$2),2) -> 0 | C12: Pfeffer nach belieben | F12: =SUM(E12*A12) -> 0 | J12: =I12/$I$2 -> 0
A13: =ROUND(SUM(J13*$F$2),2) -> 0 | F13: =SUM(E13*A13) -> 0 | J13: =I13/$I$2 -> 0
A14: =ROUND(SUM(J14*$F$2),2) -> 0 | F14: =SUM(E14*A14) -> 0 | J14: =I14/$I$2 -> 0
A15: =ROUND(SUM(J15*$F$2),2) -> 0 | F15: =SUM(E15*A15) -> 0 | J15: =I15/$I$2 -> 0
A16: =ROUND(SUM(J16*$F$2),2) -> 0 | F16: =SUM(E16*A16) -> 0 | J16: =I16/$I$2 -> 0
A17: =ROUND(SUM(J17*$F$2),2) -> 0 | F17: =SUM(E17*A17) -> 0 | J17: =I17/$I$2 -> 0
A18: =ROUND(SUM(J18*$F$2),2) -> 0 | F18: =SUM(E18*A18) -> 0 | J18: =I18/$I$2 -> 0
A19: =ROUND(SUM(J19*$F$2),2) -> 0 | F19: =SUM(E19*A19) -> 0 | J19: =I19/$I$2 -> 0
A20: =ROUND(SUM(J20*$F$2),2) -> 0 | F20: =SUM(E20*A20) -> 0 | J20: =I20/$I$2 -> 0
A21: Zubereitung

Sheet Diverses Tisch 2
E1: Chochete vom | F1: =SUM(Menu!B3) -> 41802 | I1: Original Rezept
A2: =Menu!B15 -> Mexicaine-Butter | E2: Rezept für | F2: 4 | I2: 8 | J2: Personen | L2: Menu Angaben wie folgt machen:
A3: Menge | B3: Einheit | C3: Artikel (Gewicht alles ca. Angaben) | D3: Bemerkungen | E3: Einkaufspreis | F3: Betrag | I3: Originalrezept | J3: pro Person
A4: =ROUND(SUM(J4*$F$2),2) -> 0.25 | B4: Kg | C4: Kochbutter sehr schaumig schlagen | F4: =SUM(E4*A4) -> 0 | I4: 0.5 | J4: =I4/$I$2 -> 0.0625 | L4: Kg | M4: 0.25
A5: =ROUND(SUM(J5*$F$2),2) -> 0.08 | B5: Kg | C5: Peperoni farbig | F5: =SUM(E5*A5) -> 0 | I5: 0.15 | J5: =I5/$I$2 -> 0.01875 | L5: Lt | M5: 1.25
A6: =ROUND(SUM(J6*$F$2),2) -> 0.5 | B6: Kg | C6: Peperoncini ohne Kernen | F6: =SUM(E6*A6) -> 0 | I6: 1 | J6: =I6/$I$2 -> 0.125 | L6: EL | M6: Esslöffel
A7: =ROUND(SUM(J7*$F$2),2) -> 0.04 | B7: Kg | C7: Zwiebeln | F7: =SUM(E7*A7) -> 0 | I7: 0.08 | J7: =I7/$I$2 -> 0.01 | L7: KL | M7: Kaffeelöffel
A8: =ROUND(SUM(J8*$F$2),2) -> 0.01 | B8: Kg | C8: Peterli | F8: =SUM(E8*A8) -> 0 | I8: 0.025 | J8: =I8/$I$2 -> 0.003125 | L8: Bund | M8: 1
A9: =ROUND(SUM(J9*$F$2),2) -> 1 | B9: El | C9: Tomatenpüree | F9: =SUM(E9*A9) -> 0 | I9: 2 | J9: =I9/$I$2 -> 0.25 | L9: Stk | M9: Stück
A10: =ROUND(SUM(J10*$F$2),2) -> 0 | C10: Sambal Olek | F10: =SUM(E10*A10) -> 0 | J10: =I10/$I$2 -> 0 | L10: Pä | M10: Päckli
A11: =ROUND(SUM(J11*$F$2),2) -> 0 | C11: Paprika nach belieben | F11: =SUM(E11*A11) -> 0 | J11: =I11/$I$2 -> 0 | L11: alles weitere ausschreiben
A12: =ROUND(SUM(J12*$F$2),2) -> 0 | C12: Salz nach belieben | F12: =SUM(E12*A12) -> 0 | J12: =I12/$I$2 -> 0
A13: =ROUND(SUM(J13*$F$2),2) -> 0 | C13: Worcestersauce | F13: =SUM(E13*A13) -> 0 | J13: =I13/$I$2 -> 0
A14: =ROUND(SUM(J14*$F$2),2) -> 0 | C14: Zitronenaroma | F14: =SUM(E14*A14) -> 0 | J14: =I14/$I$2 -> 0
A15: =ROUND(SUM(J15*$F$2),2) -> 0 | C15: Tomaten - Ketchup | F15: =SUM(E15*A15) -> 0 | J15: =I15/$I$2 -> 0
A16: =ROUND(SUM(J16*$F$2),2) -> 0 | C16: Pfeffer nach belieben | F16: =SUM(E16*A16) -> 0 | J16: =I16/$I$2 -> 0
A17: =ROUND(SUM(J17*$F$2),2) -> 0 | F17: =SUM(E17*A17) -> 0 | J17: =I17/$I$2 -> 0
A18: =ROUND(SUM(J18*$F$2),2) -> 0 | F18: =SUM(E18*A18) -> 0 | J18: =I18/$I$2 -> 0
A19: =ROUND(SUM(J19*$F$2),2) -> 0 | F19: =SUM(E19*A19) -> 0 | J19: =I19/$I$2 -> 0
A20: =ROUND(SUM(J20*$F$2),2) -> 0 | F20: =SUM(E20*A20) -> 0 | J20: =I20/$I$2 -> 0
A21: Zubereitung

Sheet Diverses Tisch 3
E1: Chochete vom | F1: =SUM(Menu!B3) -> 41802 | I1: Original Rezept
A2: =Menu!B16 -> Pesto-Butter | E2: Rezept für | F2: 4 | I2: 8 | J2: Personen | L2: Menu Angaben wie folgt machen:
A3: Menge | B3: Einheit | C3: Artikel (Gewicht alles ca. Angaben) | D3: Bemerkungen | E3: Einkaufspreis | F3: Betrag | I3: Originalrezept | J3: pro Person
A4: =ROUND(SUM(J4*$F$2),2) -> 0.25 | B4: Kg | C4: Kochbutter sehr schaumig schlagen | F4: =SUM(E4*A4) -> 0 | I4: 0.5 | J4: =I4/$I$2 -> 0.0625 | L4: Kg | M4: 0.25
A5: =ROUND(SUM(J5*$F$2),2) -> 0.5 | B5: Bund | C5: Basilikum gerüsten | F5: =SUM(E5*A5) -> 0 | I5: 1 | J5: =I5/$I$2 -> 0.125 | L5: Lt | M5: 1.25
A6: =ROUND(SUM(J6*$F$2),2) -> 0.5 | B6: Bund | C6: Salbei gerüstet | F6: =SUM(E6*A6) -> 0 | I6: 1 | J6: =I6/$I$2 -> 0.125 | L6: EL | M6: Esslöffel
A7: =ROUND(SUM(J7*$F$2),2) -> 0.04 | B7: Bund | C7: Oregano gerüstet | F7: =SUM(E7*A7) -> 0 | I7: 0.08 | J7: =I7/$I$2 -> 0.01 | L7: KL | M7: Kaffeelöffel
A8: =ROUND(SUM(J8*$F$2),2) -> 0.25 | B8: Bund | C8: Zitronenmelisse gerüstet | F8: =SUM(E8*A8) -> 0 | I8: 0.5 | J8: =I8/$I$2 -> 0.0625 | L8: Bund | M8: 1
A9: =ROUND(SUM(J9*$F$2),2) -> 0.5 | B9: Bund | C9: Peterli gerüstet | F9: =SUM(E9*A9) -> 0 | I9: 1 | J9: =I9/$I$2 -> 0.125 | L9: Stk | M9: Stück
A10: =ROUND(SUM(J10*$F$2),2) -> 0.03 | B10: Kg | C10: Pinienkerne | F10: =SUM(E10*A10) -> 0 | I10: 0.05 | J10: =I10/$I$2 -> 0.00625 | L10: Pä | M10: Päckli
A11: =ROUND(SUM(J11*$F$2),2) -> 0.5 | B11: Stk | C11: Knoblauch geschält | F11: =SUM(E11*A11) -> 0 | I11: 1 | J11: =I11/$I$2 -> 0.125 | L11: alles weitere ausschreiben
A12: =ROUND(SUM(J12*$F$2),2) -> 0.5 | B12: Stk | C12: Eigelb | F12: =SUM(E12*A12) -> 0 | I12: 1 | J12: =I12/$I$2 -> 0.125
A13: =ROUND(SUM(J13*$F$2),2) -> 0 | C13: Salz nach belieben | F13: =SUM(E13*A13) -> 0 | J13: =I13/$I$2 -> 0
A14: =ROUND(SUM(J14*$F$2),2) -> 0 | C14: Pfeffer nach belieben | F14: =SUM(E14*A14) -> 0 | J14: =I14/$I$2 -> 0
A15: =ROUND(SUM(J15*$F$2),2) -> 0 | F15: =SUM(E15*A15) -> 0 | J15: =I15/$I$2 -> 0
A16: =ROUND(SUM(J16*$F$2),2) -> 0 | F16: =SUM(E16*A16) -> 0 | J16: =I16/$I$2 -> 0
A17: =ROUND(SUM(J17*$F$2),2) -> 0 | F17: =SUM(E17*A17) -> 0 | J17: =I17/$I$2 -> 0
A18: =ROUND(SUM(J18*$F$2),2) -> 0 | F18: =SUM(E18*A18) -> 0 | J18: =I18/$I$2 -> 0
A19: =ROUND(SUM(J19*$F$2),2) -> 0 | F19: =SUM(E19*A19) -> 0 | J19: =I19/$I$2 -> 0
A20: =ROUND(SUM(J20*$F$2),2) -> 0 | F20: =SUM(E20*A20) -> 0 | J20: =I20/$I$2 -> 0
A21: Zubereitung

Sheet Einkaufsliste
A1: Hobby-Küche Zug | C1: Einkaufsliste | D1: =Dessert!F1 -> 41802 | E1: ok
A2: Menge | B2: Einheit | C2: Artikel
A3: =Vorspeise!A2 -> Lachs auf dem Räucherbrett (mit Lime gespickt) mit Rucola & Cherry Tomaten | D3: Bemerkungen
A4: =SUM(Vorspeise!A4) -> 0.4 | B4: =Vorspeise!B4 -> Kg | C4: =Vorspeise!C4 -> Lachsfilet (100gr/ Person) mit Haut | D4: Ernesto
A5: =SUM(Vorspeise!A5) -> 1 | B5: =Vorspeise!B5 -> Stk | C5: =Vorspeise!C5 -> Lime | D5: =SUM(Vorspeise!D5) -> 0
A6: =SUM(Vorspeise!A6) -> 0.4 | B6: =Vorspeise!B6 -> Kg | C6: =Vorspeise!C6 -> Ruccola | D6: =SUM(Vorspeise!D6) -> 0
A7: =SUM(Vorspeise!A7) -> 0.2 | B7: =Vorspeise!B7 -> Kg | C7: =Vorspeise!C7 -> Cherrytomaten | D7: =SUM(Vorspeise!D7) -> 0
A8: =SUM(Vorspeise!A8) -> 0 | B8: =Vorspeise!B8 -> 0 | C8: =Vorspeise!C8 -> 0 | D8: =SUM(Vorspeise!D8) -> 0
A9: =SUM(Vorspeise!A9) -> 0 | B9: =Vorspeise!B9 -> 0 | C9: =Vorspeise!C9 -> 0 | D9: =SUM(Vorspeise!D9) -> 0
B10: =Vorspeise!B10 -> 0 | C10: =Vorspeise!C10 -> Oliven Oel zum Lachs beträufeln | D10: siehe Diverses
A11: =SUM(Vorspeise!A11) -> 0 | B11: =Vorspeise!B11 -> 0 | C11: =Vorspeise!C11 -> Salz & Pfeffer | D11: siehe Diverses
A12: =SUM(Vorspeise!A12) -> 0 | B12: =Vorspeise!B12 -> 0 | C12: =Vorspeise!C12 -> unbehandeltes Zedernholzbrett | D12: siehe Diverses
A13: =SUM(Vorspeise!A13) -> 0 | B13: =Vorspeise!B13 -> 0 | C13: =Vorspeise!C13 -> 0 | D13: =SUM(Vorspeise!D13) -> 0
A14: =SUM(Vorspeise!A14) -> 0 | B14: =Vorspeise!B14 -> 0 | C14: =Vorspeise!C14 -> 0 | D14: =SUM(Vorspeise!D14) -> 0
A15: =SUM(Vorspeise!A15) -> 0 | B15: =Vorspeise!B15 -> 0 | C15: =Vorspeise!C15 -> Salat Sauce | D15: siehe Diverses
C16: =Vorspeise!C16 -> Oliven Oel | D16: siehe Diverses
C17: =Vorspeise!C17 -> Aceto Balsamico | D17: siehe Diverses
A18: =SUM(Vorspeise!A18) -> 0 | B18: =Vorspeise!B18 -> 0 | C18: =Vorspeise!C18 -> Salz & Pfeffer | D18: siehe Diverses
A19: =SUM(Vorspeise!A19) -> 0 | B19: =Vorspeise!B19 -> 0 | C19: =Vorspeise!C19 -> 0 | D19: =SUM(Vorspeise!D19) -> 0
A20: =SUM(Vorspeise!A20) -> 0 | B20: =Vorspeise!B20 -> 0 | C20: =Vorspeise!C20 -> 0 | D20: =SUM(Vorspeise!D20) -> 0
A21: =Apero!A2 -> Flammkuchen | D21: Bemerkungen
A22: =SUM(Apero!A4) -> 1 | B22: =Apero!B4 -> Stk | C22: =Apero!C4 -> Flammkuchenteig (Fertig) | D22: =SUM(Apero!D4) -> 0
A23: =SUM(Apero!A5) -> 0.01 | B23: =Apero!B5 -> Lt | C23: =Apero!C5 -> Creme Fraiche | D23: =SUM(Apero!D5) -> 0
A24: =SUM(Apero!A6) -> 1 | B24: =Apero!B6 -> Stk | C24: =Apero!C6 -> Zwiebel | D24: =SUM(Apero!D6) -> 0
A25: =SUM(Apero!A7) -> 0.1 | B25: =Apero!B7 -> Kg | C25: =Apero!C7 -> Speck | D25: =SUM(Apero!D7) -> 0
A26: =SUM(Apero!A8) -> 0 | B26: =Apero!B8 -> 0 | C26: =Apero!C8 -> 0 | D26: =SUM(Apero!D8) -> 0
A27: =SUM(Apero!A9) -> 0 | B27: =Apero!B9 -> 0 | C27: =Apero!C9 -> 0 | D27: =SUM(Apero!D9) -> 0
A28: =SUM(Apero!A10) -> 0 | B28: =Apero!B10 -> 0 | C28: =Apero!C10 -> Salz | D28: siehe Diverses
A29: =SUM(Apero!A11) -> 0 | B29: =Apero!B11 -> 0 | C29: =Apero!C11 -> Pfeffer aus der Mühle | D29: siehe Diverses
A30: =SUM(Apero!A12) -> 0 | B30: =Apero!B12 -> 0 | C30: =Apero!C12 -> 0 | D30: =SUM(Apero!D12) -> 0
A31: =SUM(Apero!A19) -> 0 | B31: =Apero!B19 -> 0 | C31: =Apero!C19 -> 0 | D31: =SUM(Apero!D19) -> 0
A32: =SUM(Apero!A20) -> 0 | B32: =Apero!B20 -> 0 | C32: =Apero!C20 -> 0 | D32: =SUM(Apero!D20) -> 0
A33: =Hauptgang!A2 -> Entrecote double (ca. 100 gr / Person) Kräuterbutter | D33: Bemerkungen
A34: =SUM(Hauptgang!A4) -> 0.4 | B34: =Hauptgang!B4 -> Kg | C34: =Hauptgang!C4 -> Rindsentrecote | D34: Ernesto
A35: =SUM(Hauptgang!A5) -> 0 | B35: =Hauptgang!B5 -> 0 | C35: =Hauptgang!C5 -> 0 | D35: =SUM(Hauptgang!D5) -> 0
A36: =SUM(Hauptgang!A6) -> 0 | B36: =Hauptgang!B6 -> 0 | C36: =Hauptgang!C6 -> Olivenoel zum Einreiben | D36: siehe Diverses
A37: =SUM(Hauptgang!A7) -> 0 | B37: =Hauptgang!B7 -> 0 | C37: =Hauptgang!C7 -> Meersalz aus der Mühle | D37: siehe Diverses
A38: =SUM(Hauptgang!A8) -> 0 | B38: =Hauptgang!B8 -> 0 | C38: =Hauptgang!C8 -> 0 | D38: =SUM(Hauptgang!D8) -> 0
A39: =SUM(Hauptgang!A20) -> 0 | B39: =Hauptgang!B20 -> 0 | C39: =Hauptgang!C20 -> 0 | D39: =SUM(Hauptgang!D20) -> 0
A40: =Beilage1!A2 -> Ofengemüse (Blechgemüse) mit Kartoffel | D40: Bemerkungen
...

Sheet Kräuterbutter
A1: Rezept Jean-Pierre | D1: Rezept Jean-Pierre | G1: Rezept Jean-Pierre | J1: Rezept Jean-Pierre
A2: Kräuterbutter Alfredo | D2: Roquefort-Butter | G2: Mexicaine-Butter | J2: Curry-Butter
A3: Menge | B3: Einheit | C3: Gewicht alles ca. Angaben | D3: Menge | E3: Einheit | F3: Gewicht alles ca. Angaben | G3: Menge | H3: Einheit | I3: Gewicht alles ca. Angaben | J3: Menge | K3: Einheit | L3: Gewicht alles ca. Angaben
A4: 0.5 | B4: Kg | C4: Kochbutter sehr schaumig schlagen | D4: 0.5 | E4: Kg | F4: Kochbutter sehr schaumig schlagen | G4: 0.5 | H4: Kg | I4: Kochbutter sehr schaumig schlagen | J4: 0.5 | K4: Kg | L4: Kochbutter sehr schaumig schlagen
A5: 0.02 | B5: Lt | C5: Wasser | D5: 0.125 | E5: Kg | F5: Roqufort | G5: 0.15 | H5: Kg | I5: Peperoni farbig | J5: 0.05 | K5: Kg | L5: Ananas gehackt
A6: 1 | B6: St | C6: Eigelb | D6: 0.035 | E6: Kg | F6: Danablu | G6: 1 | H6: St | I6: Peperoncini ohne Kernen | J6: 0.5 | K6: St | L6: Orange
A7: 0.03 | B7: Kg | C7: Zwiebeln gerüstet + gehackt | D7: 0.025 | E7: Kg | F7: Schnittlauch | G7: 0.08 | H7: Kg | I7: Zwiebeln | J7: 0.025 | K7: Kg | L7: Zwiebeln
A8: 2 | B8: St | C8: Knoblauch geschält | D8: 0.025 | E8: Kg | F8: Peterli | G8: 0.025 | H8: Kg | I8: Peterli | J8: 0.025 | K8: Kg | L8: Kokusnuss gemahlen | N8: Achtung alles auf A6 Formatiert (10x15)
A9: 0.01 | B9: Kg | C9: Peterli ohne Steil | D9: 0.025 | E9: Kg | F9: Maggikraut | I9: Tomatenpüree | J9: 0.025 | K9: LT | L9: Ananassaft
A10: 0.01 | B10: Kg | C10: Tymian frisch gerüstet | F10: Worcestersauce | I10: Sambal Olek | L10: Curry - Pulver
A11: 0.01 | B11: Kg | C11: Basilikum frisch gerüstet | F11: Salz nach belieben | I11: Paprika nach belieben | L11: Sambal Olek
A12: 0.01 | B12: Kg | C12: Dill frisch gerüstet | F12: Pfeffer nach belieben | I12: Salz nach belieben | L12: Kristallzucker
A13: 0.01 | B13: Kg | C13: Estragon frisch gerüstet | I13: Worcestersauce | L13: Pfeffer nach belieben
A14: 0.01 | B14: Kg | C14: Münze frisch gerüstet | I14: Zitronenaroma | L14: Salz nach belieben
A15: 0.01 | B15: Kg | C15: Oregano frisch gerüstet | I15: Tomaten - Ketchup
A16: 0.04 | B16: Kg | C16: Senf | I16: Pfeffer nach belieben
C17: Salz nach belieben
C18: Pfeffer nach belieben
C19: Paprika nach belieben
A20: Rezept Jean-Pierre | D20: Rezept Jean-Pierre | G20: Rezept Jean-Pierre | J20: Rezept Jean-Pierre
A21: Rossini-Butter | D21: Pesto-Butter | G21: Capri-Butter | J21: Bärlauchpesto vom 24. April 2013
A22: Menge | B22: Einheit | C22: Gewicht alles ca. Angaben | D22: Menge | E22: Einheit | F22: Gewicht alles ca. Angaben | G22: Menge | H22: Einheit | I22: Gewicht alles ca. Angaben | J22: Menge | K22: Einheit | L22: Gewicht alles ca. Angaben
A23: 0.5 | B23: Kg | C23: Kochbutter sehr schaumig schlagen | D23: 0.5 | E23: Kg | F23: Kochbutter sehr schaumig schlagen | G23: 0.5 | H23: Kg | I23: Kochbutter sehr schaumig schlagen | J23: 0.25 | K23: Kg | L23: Bärlauch
A24: 0.2 | B24: Kg | C24: Leberpain (1 Tube) | D24: 0.025 | E24: Kg | F24: Basilikum gerüsten | G24: 0.08 | H24: Kg | I24: Zwiebeln gerüstet fein gehackt | J24: 0.07 | K24: Kg | L24: Knoblauch
A25: 0.015 | B25: LT | C25: Wasser | D25: 0.005 | E25: Kg | F25: Salbei gerüstet | G25: 0.025 | H25: Kg | I25: Herbsttrompeten fein gehackt | J25: 0.5 | K25: Lt | L25: Olivenöl
A26: 0.015 | B26: LT | C26: Cognac | D26: 0.005 | E26: Kg | F26: Oregano gerüstet | G26: 0.08 | H26: LT | I26: ca. Weisswein | J26: 0.25 | K26: Kg | L26: Parmesan
A27: 0.15 | B27: Kg | C27: Pfefferkörner grün frisch (1 Glas) | D27: 0.005 | E27: Kg | F27: Zitronenmelisse gerüstet | G27: 0.035 | H27: Kg | I27: Sardeffenfilet fein gehackt | J27: 0.1 | K27: Kg | L27: Pinienkerne
C28: Salz nach belieben | D28: 0.025 | E28: Kg | F28: Pinienkerne | I28: Salz nach belieben | J28: =SUM(J23:J27) -> 1.17 | K28: Kg | L28: Total
C29: Pfeffer nach belieben | D29: 0.02 | E29: Kg | F29: Peterli gerüstet | I29: Pfeffer nach belieben
D30: 0.02 | E30: Kg | F30: Knoblauch geschält | I30: Paprika nach belieben
D31: 1 | E31: St | F31: Eigelb | I31: Worcester
F32: Salz nach belieben | I32: Zitronensaft
F33: Pfeffer nach belieben
