Workbook

Sheet Menu
A3: Datum | B3: 43064 | D3: Menu Angaben wie folgt machen: | H3: Kg | I3: 0.25
H4: Lt | I4: 1.25
A5: Vorspeise | B5: Sellerie-Rauchlachs-Terrine mit Nüsslisalat | D5: alle weiteren Angaben ausschreiben | H5: EL | I5: Esslöffel
H6: TL | I6: Teelöffel
A7: Suppe | B7: Sauerrahm-Randensuppe mit Mohn-Krokant | H7: Bund | I7: 1
H8: Stk | I8: Stück
A9: Hauptgang | B9: Kalbsfilet mit Anislack und Avocado-Ananas-Salsa | H9: Pä | I9: Päckli
A10: Vorspeise 2 | B10: Steinbuttfilet auf Tomaten-Basilikum-Risotto
A11: Zwischengang | B11: Radieschenbrot mit Shiso Quark und Himbeersenf
A13: Käse | B13: Käsebuffet
A15: Diverses
A17: Menu von Tisch | B17: Schlussbankett Tisch C
A19: Personenzahl | B19: 48

Sheet Vorspeise
E1: Chochete vom | F1: =SUM(Menu!B3) -> 43064 | I1: Original Rezept
A2: =Menu!B5 -> Sellerie-Rauchlachs-Terrine mit Nüsslisalat | E2: Rezept für | F2: =Menu!B19 -> 48 | I2: 8 | J2: Personen | L2: Menu Angaben wie folgt machen:
A3: Menge | B3: Einheit | C3: Artikel (Gewicht alles ca. Angaben) | D3: Bemerkungen | E3: Einkaufspreis | F3: Betrag | I3: Originalrezept | J3: pro Person
A4: =ROUND(SUM(J4*$F$2),2) -> 3 | B4: Stk | C4: Zitrone | F4: =SUM(E4*A4) -> 0 | I4: 0.5 | J4: =I4/$I$2 -> 0.0625 | L4: Kg | M4: 0.25
A5: =ROUND(SUM(J5*$F$2),2) -> 2.4 | B5: Kg | C5: Knollensellerie | F5: =SUM(E5*A5) -> 0 | I5: 0.4 | J5: =I5/$I$2 -> 0.05 | L5: Lt | M5: 1.25
A6: =ROUND(SUM(J6*$F$2),2) -> 48 | B6: Blatt | C6: Gelatine | F6: =SUM(E6*A6) -> 0 | I6: 8 | J6: =I6/$I$2 -> 1 | L6: EL | M6: Esslöffel
A7: =ROUND(SUM(J7*$F$2),2) -> 24 | B7: Stk | C7: Eigelb | F7: =SUM(E7*A7) -> 0 | I7: 4 | J7: =I7/$I$2 -> 0.5 | L7: TL | M7: Kaffeelöffel
A8: =ROUND(SUM(J8*$F$2),2) -> 0.6 | B8: Lt | C8: Rahm | F8: =SUM(E8*A8) -> 0 | I8: 0.1 | J8: =I8/$I$2 -> 0.0125 | L8: Bund | M8: 1
A9: =ROUND(SUM(J9*$F$2),2) -> 6 | B9: TL | C9: Meerrettichpaste | F9: =SUM(E9*A9) -> 0 | I9: 1 | J9: =I9/$I$2 -> 0.125 | L9: Stk | M9: Stück
A10: =ROUND(SUM(J10*$F$2),2) -> 12 | B10: TL | C10: kalte Butter | F10: =SUM(E10*A10) -> 0 | I10: 2 | J10: =I10/$I$2 -> 0.25 | L10: Pä | M10: Päckli
A11: =ROUND(SUM(J11*$F$2),2) -> 12 | B11: Stk | C11: Eiweiss | F11: =SUM(E11*A11) -> 0 | I11: 2 | J11: =I11/$I$2 -> 0.25 | L11: alles weitere ausschreiben
A12: =ROUND(SUM(J12*$F$2),2) -> 36 | B12: Stk | C12: Rauchlachs-Tranchen | D12: dünn geschnitten | F12: =SUM(E12*A12) -> 0 | I12: 6 | J12: =I12/$I$2 -> 0.75
A13: =ROUND(SUM(J13*$F$2),2) -> 0 | F13: =SUM(E13*A13) -> 0 | J13: =I13/$I$2 -> 0
A14: =ROUND(SUM(J14*$F$2),2) -> 0 | C14: Salz, Pfeffer aus der Mühle | F14: =SUM(E14*A14) -> 0 | J14: =I14/$I$2 -> 0
A15: =ROUND(SUM(J15*$F$2),2) -> 0 | F15: =SUM(E15*A15) -> 0 | J15: =I15/$I$2 -> 0
A16: =ROUND(SUM(J16*$F$2),2) -> 1.2 | B16: Kg | C16: Nüsslisalat | F16: =SUM(E16*A16) -> 0 | I16: 0.2 | J16: =I16/$I$2 -> 0.025
A17: =ROUND(SUM(J17*$F$2),2) -> 6 | B17: Stk | C17: Schalotte | F17: =SUM(E17*A17) -> 0 | I17: 1 | J17: =I17/$I$2 -> 0.125
A18: =ROUND(SUM(J18*$F$2),2) -> 0 | F18: =SUM(E18*A18) -> 0 | J18: =I18/$I$2 -> 0
A19: =ROUND(SUM(J19*$F$2),2) -> 0 | C19: Dressing mit Acetto + Olivenöl | F19: =SUM(E19*A19) -> 0 | J19: =I19/$I$2 -> 0
A20: =ROUND(SUM(J20*$F$2),2) -> 0 | F20: =SUM(E20*A20) -> 0 | J20: =I20/$I$2 -> 0
A21: Zubereitung
A22: Etwa 5 dl Wasser in eine Schüssel geben. Den Zitronensaft auspressen und beifügen. Den Sellerie rüsten und würfeln. Sofort 5 Minuten ins Zitronenwasser legen. Das Zitronenwasser abschütten.
A23: Den Sellerie in eine Pfanne geben, zu drei Vierteln mit Wasser bedecken, salzen und zugedeckt weich kochen. Inzwischen die Gelatine in reichlich kaltem Wasser einweichen.
A24: Den Sellerie abschütten, dabei 0.5dl Kochflüssigkeit beiseitestellen. Den Sellerie mit der Kochflüssigkeit in einen Becher geben und mit dem Stabmixer fein pürieren.
A25: Das Püree durch ein feinmaschiges Sieb streichen und wieder in die Pfanne geben. Das Selleriepüree nochmals leicht erwärmen. Die Gelatine gut ausdrücken und im warmen Selleriepüree auflösen.
A26: Eigelb, Rahm und Meerrettichpaste in eine Metallschüssel geben und über einem heissen Wasserbad cremig aufschlagen. Vom Wasserbad nehmen. Die Butter unterrühren.
A27: Das Selleriepüree unter heben und die Masse kräftig mit Salz und Pfeffer würzen. Kühl stellen, bis sie am Rand entlang leicht zu gelieren beginnt.
A28: Die Eiweiss mit einer grossen Prise Salz steif schlagen. Den Eisschnee unter die Selleriemasse ziehen.
A29: Eine Terrineform von etwa 25 cm länge mit Klarsichtfolie auslegen. Ein Drittel der Selleriecreme einfüllen und mit Lachstranchen belegen. Das zweite Drittel der Creme daraufgeben, mit dem
A30: restlichen Lachs belegen und mit der restlichen Creme abschliessen. Die Terrine im Kühlschrank mindesten 3 Stunden fest werden lassen.
A31: Zum Servieren die Terrine auf eine Platte stürzen. Mit einem scharfen Messermöglichst ohne Druck in Tranchen schneiden.
A32: Nach belieben mit einem Nüsslisalat garnieren. Als Beilage passen frisches Baguette.

Sheet Suppe
E1: Chochete vom | F1: =SUM(Menu!B3) -> 43064 | I1: Original Rezept
A2: =Menu!B7 -> Sauerrahm-Randensuppe mit Mohn-Krokant | E2: Rezept für | F2: =SUM(Menu!B19) -> 48 | I2: 8 | J2: Personen | L2: Menu Angaben wie folgt machen:
A3: Menge | B3: Einheit | C3: Artikel (Gewicht alles ca. Angaben) | D3: Bemerkungen | E3: Einkaufspreis | F3: Betrag | I3: Originalrezept | J3: pro Person
A4: =ROUND(SUM(J4*$F$2),2) -> 4.8 | B4: Kg | C4: rohe Randen | F4: =SUM(E4*A4) -> 0 | I4: 0.8 | J4: =I4/$I$2 -> 0.1 | L4: Kg | M4: 0.25
A5: =ROUND(SUM(J5*$F$2),2) -> 6 | B5: Stk | C5: Limette | F5: =SUM(E5*A5) -> 0 | I5: 1 | J5: =I5/$I$2 -> 0.125 | L5: Lt | M5: 1.25
A6: =ROUND(SUM(J6*$F$2),2) -> 12 | B6: Stk | C6: Schalotten | F6: =SUM(E6*A6) -> 0 | I6: 2 | J6: =I6/$I$2 -> 0.25 | L6: EL | M6: Esslöffel
A7: =ROUND(SUM(J7*$F$2),2) -> 0.12 | B7: Kg | C7: Ingwer | F7: =SUM(E7*A7) -> 0 | I7: 0.02 | J7: =I7/$I$2 -> 0.0025 | L7: TL | M7: Kaffeelöffel
A8: =ROUND(SUM(J8*$F$2),2) -> 12 | B8: EL | C8: Olivenöl | F8: =SUM(E8*A8) -> 0 | I8: 2 | J8: =I8/$I$2 -> 0.25 | L8: Bund | M8: 1
A9: =ROUND(SUM(J9*$F$2),2) -> 9 | B9: Lt | C9: Gemüsebouillon | F9: =SUM(E9*A9) -> 0 | I9: 1.5 | J9: =I9/$I$2 -> 0.1875 | L9: Stk | M9: Stück
A10: =ROUND(SUM(J10*$F$2),2) -> 2.16 | B10: Kg | C10: Saurer Halbrahm | F10: =SUM(E10*A10) -> 0 | I10: 0.36 | J10: =I10/$I$2 -> 0.045 | L10: Pä | M10: Päckli
A11: =ROUND(SUM(J11*$F$2),2) -> 6 | B11: Pä | C11: Randensprossen | D11: oder Alfalfa | F11: =SUM(E11*A11) -> 0 | I11: 1 | J11: =I11/$I$2 -> 0.125 | L11: alles weitere ausschreiben
A12: =ROUND(SUM(J12*$F$2),2) -> 0 | F12: =SUM(E12*A12) -> 0 | J12: =I12/$I$2 -> 0
A13: =ROUND(SUM(J13*$F$2),2) -> 0 | C13: Salz, Cayennepfeffer | F13: =SUM(E13*A13) -> 0 | J13: =I13/$I$2 -> 0
A14: =ROUND(SUM(J14*$F$2),2) -> 0 | F14: =SUM(E14*A14) -> 0 | J14: =I14/$I$2 -> 0
A15: =ROUND(SUM(J15*$F$2),2) -> 1.2 | B15: Kg | C15: Blätterteig | F15: =SUM(E15*A15) -> 0 | I15: 0.2 | J15: =I15/$I$2 -> 0.025
A16: =ROUND(SUM(J16*$F$2),2) -> 12 | B16: EL | C16: Mohnsamen | F16: =SUM(E16*A16) -> 0 | I16: 2 | J16: =I16/$I$2 -> 0.25
A17: =ROUND(SUM(J17*$F$2),2) -> 12 | B17: EL | C17: Puderzucker | F17: =SUM(E17*A17) -> 0 | I17: 2 | J17: =I17/$I$2 -> 0.25
A18: =ROUND(SUM(J18*$F$2),2) -> 0 | F18: =SUM(E18*A18) -> 0 | J18: =I18/$I$2 -> 0
A19: =ROUND(SUM(J19*$F$2),2) -> 0 | C19: Mehl zum Auswallen | F19: =SUM(E19*A19) -> 0 | J19: =I19/$I$2 -> 0
A20: =ROUND(SUM(J20*$F$2),2) -> 0 | F20: =SUM(E20*A20) -> 0 | J20: =I20/$I$2 -> 0
A21: Zubereitung
A22: Backofen auf 170°C vorheizen. Randen rüsten und in Würfel schneiden. Mit den Sparschäler 2 Streifen Limettenschale abziehen. Schalotten und Ingwer schneiden und mit den Limettenstreifen
A23: im Öl andünsten. Mit Bouillon ablöschen. Randen beigeben. Zugedeckt ca. 60 Minuten weich kochen. Limettenschalen entfernen. Rest pürieren.
A24: Blätterteig auf leicht bemehlter Arbeitsfläche 2 mm dünn auswallen. Herzen ausstechen. Auf ein mit Backpapier belegtes Blech legen. In der Ofenmitte ca. 10 Min. hellbraun backen. Herausnehmen.
A25: Ofentemperatur auf 220°C erhöhen. Vorgebackene Herzen mit einem Pinsel befeuchten und sofort mit Mohn und Puderzucker bestreuen, ca. 3 Min. goldbraun backen. Abkühlen lassen.
A26: Vor dem Servieren Randensuppe aufkochen. Sauerrahm verrühren. Bis auf einen kleinen Rest zur Suppe geben. Mit dem Stabmixer gut durchmixen. Mit Salz und Cayennepfeffer abschmecken.
A27: Suppe anrichten. Mit restlichem Sauerrahm und Sprossen garnieren. Mohnkrokant Herzen separat dazuservieren.

Sheet Hauptgang
E1: Chochete vom | F1: =SUM(Menu!B3) -> 43064 | I1: Original Rezept
A2: =Menu!B9 -> Kalbsfilet mit Anislack und Avocado-Ananas-Salsa | E2: Rezept für | F2: =Menu!B19 -> 48 | I2: 4 | J2: Personen | L2: Menu Angaben wie folgt machen:
A3: Menge | B3: Einheit | C3: Artikel (Gewicht alles ca. Angaben) | D3: Bemerkungen | E3: Einkaufspreis | F3: Betrag | I3: Originalrezept | J3: pro Person
A4: =ROUND(SUM(J4*$F$2),2) -> 7.2 | B4: Kg | C4: Kalbsfilet (Mittelstück) | D4: gleichmässig rund | F4: =SUM(E4*A4) -> 0 | I4: 0.6 | J4: =I4/$I$2 -> 0.15 | L4: Kg | M4: 0.25
A5: =ROUND(SUM(J5*$F$2),2) -> 0 | C5: Salz | D5: nach Belieben | F5: =SUM(E5*A5) -> 0 | J5: =I5/$I$2 -> 0 | L5: Lt | M5: 1.25
A6: =ROUND(SUM(J6*$F$2),2) -> 0 | C6: Öl zum Braten | D6: nach Belieben | F6: =SUM(E6*A6) -> 0 | J6: =I6/$I$2 -> 0 | L6: EL | M6: Esslöffel
A7: =ROUND(SUM(J7*$F$2),2) -> 0 | C7: Ananasmarinade: | F7: =SUM(E7*A7) -> 0 | J7: =I7/$I$2 -> 0 | L7: TL | M7: Kaffeelöffel
A8: =ROUND(SUM(J8*$F$2),2) -> 48 | B8: TL | C8: Sherry | F8: =SUM(E8*A8) -> 0 | I8: 4 | J8: =I8/$I$2 -> 1 | L8: Bund | M8: 1
A9: =ROUND(SUM(J9*$F$2),2) -> 48 | B9: EL | C9: Sojasauce | F9: =SUM(E9*A9) -> 0 | I9: 4 | J9: =I9/$I$2 -> 1 | L9: Stk | M9: Stück
A10: =ROUND(SUM(J10*$F$2),2) -> 12 | B10: TL | C10: Salz | F10: =SUM(E10*A10) -> 0 | I10: 1 | J10: =I10/$I$2 -> 0.25 | L10: Pä | M10: Päckli
A11: =ROUND(SUM(J11*$F$2),2) -> 48 | B11: EL | C11: Zucker | F11: =SUM(E11*A11) -> 0 | I11: 4 | J11: =I11/$I$2 -> 1 | L11: alles weitere ausschreiben
A12: =ROUND(SUM(J12*$F$2),2) -> 12 | B12: TL | C12: Anis | D12: frisch und gemahlen | F12: =SUM(E12*A12) -> 0 | I12: 1 | J12: =I12/$I$2 -> 0.25
A13: =ROUND(SUM(J13*$F$2),2) -> 0 | C13: Avocadocrème: | F13: =SUM(E13*A13) -> 0 | J13: =I13/$I$2 -> 0
A14: =ROUND(SUM(J14*$F$2),2) -> 12 | B14: Stk. | C14: reife Avocado | D14: geschält, entkernt | F14: =SUM(E14*A14) -> 0 | I14: 1 | J14: =I14/$I$2 -> 0.25
A15: =ROUND(SUM(J15*$F$2),2) -> 12 | B15: Stk. | C15: grüne Chili | D15: entkernt und fein gewürfelt | F15: =SUM(E15*A15) -> 0 | I15: 1 | J15: =I15/$I$2 -> 0.25
A16: =ROUND(SUM(J16*$F$2),2) -> 6 | B16: Stk. | C16: unbehandelte Zitrone | D16: Saft und abgeriebene Schale | F16: =SUM(E16*A16) -> 0 | I16: 0.5 | J16: =I16/$I$2 -> 0.125
A17: =ROUND(SUM(J17*$F$2),2) -> 24 | B17: EL | C17: Crème fraiche | F17: =SUM(E17*A17) -> 0 | I17: 2 | J17: =I17/$I$2 -> 0.5
A18: =ROUND(SUM(J18*$F$2),2) -> 12 | B18: MSP | C18: Anis | D18: frisch und gemahlen, Messerspitze | F18: =SUM(E18*A18) -> 0 | I18: 1 | J18: =I18/$I$2 -> 0.25
C19: Salz | D19: nach Belieben | J19: =I19/$I$2 -> 0
C20: Avocado-Ananas-Salsa: | J20: =I20/$I$2 -> 0
A21: =ROUND(SUM(J21*$F$2),2) -> 12 | B21: Stk. | C21: Avocado | D21: fein gewürfelt | I21: 1 | J21: =I21/$I$2 -> 0.25
A22: =ROUND(SUM(J22*$F$2),2) -> 3 | B22: Stk. | C22: Ananas | D22: fein gewürfelt | F22: =SUM(E22*A22) -> 0 | I22: 0.25 | J22: =I22/$I$2 -> 0.0625
A23: =ROUND(SUM(J23*$F$2),2) -> 12 | B23: Stk. | C23: grüne Chili | D23: entkernt und fein gewürfelt | F23: =SUM(E23*A23) -> 0 | I23: 1 | J23: =I23/$I$2 -> 0.25
A24: =ROUND(SUM(J24*$F$2),2) -> 24 | B24: Stk. | C24: Frühlingszwiebeln | D24: fein gewürfelt | I24: 2 | J24: =I24/$I$2 -> 0.5
A25: =ROUND(SUM(J25*$F$2),2) -> 24 | B25: Stk. | C25: Limetten | D25: Saft und abgeriebene Schale | F25: =SUM(E25*A25) -> 0 | I25: 2 | J25: =I25/$I$2 -> 0.5
A26: =ROUND(SUM(J26*$F$2),2) -> 0 | C26: Salz | D26: nach Belieben | F26: =SUM(E26*A26) -> 0 | J26: =I26/$I$2 -> 0
A27: =ROUND(SUM(J27*$F$2),2) -> 12 | B27: TL | C27: Zucker | F27: =SUM(E27*A27) -> 0 | I27: 1 | J27: =I27/$I$2 -> 0.25
A28: Zubereitung
A29: Basilikumöl wird vorab zubereitet und dient zum Garnieren.
A30: Die Zutaten für die Anismarinade verrühren, bis Zucker und Salz aufgelöst sind.
A31: Das Kalbsfilet salzen und von allen Seiten kurz anbraten, auf ein Blech legen und mit der Anismarinade übergiessen. Entweder (1) im Ofen zartgaren bis Kerntemperatur von 58 Grad erreicht ist oder (2) im Ofen bei 180 Grad 10 Minuten garen, danach 6 Minuten ruhen lassen und anschliessend im Ofen nochmals 4 Minuten fertig garen. Filet in Scheiben schneiden.
A32: Für die Avocadocrème alle Zutaten mixen. Mit Salzabschmecken und in eien Spritzbeutel füllen. Alle Zutaten für die Avocado-Ananas-Salsa mischen.
A33: Die Avocado-Ananas-Salsa auf Teller geben, je eine Scheibe Kalbsfilet darauf setzen, mit der Avocadocrème und dem Basilikumöl garnieren.

Sheet Vorspeise2
E1: Chochete vom | F1: =SUM(Menu!B3) -> 43064 | I1: Original Rezept
A2: =Menu!B10 -> Steinbuttfilet auf Tomaten-Basilikum-Risotto | E2: Rezept für | F2: =SUM(Menu!B19) -> 48 | I2: 4 | J2: Personen | L2: Menu Angaben wie folgt machen:
A3: Menge | B3: Einheit | C3: Artikel (Gewicht alles ca. Angaben) | D3: Bemerkungen | E3: Einkaufspreis | F3: Betrag | I3: Originalrezept | J3: pro Person
A4: =ROUND(SUM(J4*$F$2),2) -> 18 | B4: EL | C4: Olivenöl | F4: =SUM(E4*A4) -> 0 | I4: 1.5 | J4: =I4/$I$2 -> 0.375 | L4: Kg | M4: 0.25
A5: =ROUND(SUM(J5*$F$2),2) -> 12 | B5: Stk. | C5: Schalotten geschält | D5: fein gehackt | F5: =SUM(E5*A5) -> 0 | I5: 1 | J5: =I5/$I$2 -> 0.25 | L5: Lt | M5: 1.25
A6: =ROUND(SUM(J6*$F$2),2) -> 1.2 | B6: Kg | C6: Risottoreis (Arborio) | F6: =SUM(E6*A6) -> 0 | I6: 0.1 | J6: =I6/$I$2 -> 0.025 | L6: EL | M6: Esslöffel
A7: =ROUND(SUM(J7*$F$2),2) -> 0 | C7: Salz | F7: =SUM(E7*A7) -> 0 | J7: =I7/$I$2 -> 0 | L7: TL | M7: Kaffeelöffel
A8: =ROUND(SUM(J8*$F$2),2) -> 0.78 | B8: Lt | C8: Weisswein | D8: erwärmt | F8: =SUM(E8*A8) -> 0 | I8: 0.065 | J8: =I8/$I$2 -> 0.01625 | L8: Bund | M8: 1
A9: =ROUND(SUM(J9*$F$2),2) -> 3 | B9: Lt | C9: Fischfonds | D9: erwärmt | F9: =SUM(E9*A9) -> 0 | I9: 0.25 | J9: =I9/$I$2 -> 0.0625 | L9: Stk | M9: Stück
A10: =ROUND(SUM(J10*$F$2),2) -> 24 | B10: Stk. | C10: grosse Rispentomaten | F10: =SUM(E10*A10) -> 0 | I10: 2 | J10: =I10/$I$2 -> 0.5 | L10: Pä | M10: Päckli
A11: =ROUND(SUM(J11*$F$2),2) -> 12 | B11: EL | C11: geriebener Parmesan | F11: =SUM(E11*A11) -> 0 | I11: 1 | J11: =I11/$I$2 -> 0.25 | L11: alles weitere ausschreiben
A12: =ROUND(SUM(J12*$F$2),2) -> 6 | B12: Bund | C12: Basilikum | D12: in feine Streifen geschnitten | F12: =SUM(E12*A12) -> 0 | I12: 0.5 | J12: =I12/$I$2 -> 0.125
A13: =ROUND(SUM(J13*$F$2),2) -> 0 | C13: Pfeffer | F13: =SUM(E13*A13) -> 0 | J13: =I13/$I$2 -> 0
A14: =ROUND(SUM(J14*$F$2),2) -> 48 | B14: Stk. | C14: Steinbuttfilets à 75-90g | F14: =SUM(E14*A14) -> 0 | I14: 4 | J14: =I14/$I$2 -> 1
A15: =ROUND(SUM(J15*$F$2),2) -> 6 | B15: EL | C15: Zitronensaft | F15: =SUM(E15*A15) -> 0 | I15: 0.5 | J15: =I15/$I$2 -> 0.125
A16: =ROUND(SUM(J16*$F$2),2) -> 6 | B16: EL | C16: Olivenöl | D16: zum Braten | F16: =SUM(E16*A16) -> 0 | I16: 0.5 | J16: =I16/$I$2 -> 0.125
A17: =ROUND(SUM(J17*$F$2),2) -> 12 | B17: EL | C17: Frühlingskräuter mariniert | F17: =SUM(E17*A17) -> 0 | I17: 1 | J17: =I17/$I$2 -> 0.25
A18: =ROUND(SUM(J18*$F$2),2) -> 0 | F18: =SUM(E18*A18) -> 0 | J18: =I18/$I$2 -> 0
A19: =ROUND(SUM(J19*$F$2),2) -> 0 | F19: =SUM(E19*A19) -> 0 | J19: =I19/$I$2 -> 0
A20: =ROUND(SUM(J20*$F$2),2) -> 0 | F20: =SUM(E20*A20) -> 0 | J20: =I20/$I$2 -> 0
A21: Zubereitung
A22: Risotto:
A23: In einem Topf Olivenöl erhitzen, Schalottenwürfel darin glasig anschwitzen. Reis einrühren und ebenfalls glasig anschwitzen. Leicht salzen, mit warmen Weisswein aufgiessen und einreduzieren lassen.
A24: Anschliessend den Reis mit mit etwas Fischfonds aufgiessen und unter häuffigem Umrühren einkochen lassen. Den Vorgang so lange wiederholen, bis der Reis die gewünschte Bissfestigkeit erreicht hat.
A25: (Dabei den Fond jeweils kellenweise angiessen, bis die Flüssigkeit aufgesogen ist.)
A26: Zuletzt die Tomaten vierteln, häuten, entkernen und kleinwürfelig schneiden und zum Risotto geben. Parmesan und Basilikum hinzufügen und nochmals mit etwas Pfeffer abschmecken.
A27: Fisch:
A28: Die Steinbuttfilets salzen, pfeffern und in Olivenöl auf der Hautseite kross anbraten. Im Ofen bei 160°C in ungefähr 5 Minuten fertig garen, bis sie glasig sind.
A29: Steinbuttfilets auf dem Risotto anrichten und mit marinieren Frühlingskräutern servieren.

Sheet Zwischengang
E1: Chochete vom | F1: =SUM(Menu!B3) -> 43064 | I1: Original Rezept
A2: =Menu!B11 -> Radieschenbrot mit Shiso Quark und Himbeersenf | E2: Rezept für | F2: =SUM(Menu!B19) -> 48 | I2: 4 | J2: Personen | L2: Menu Angaben wie folgt machen:
A3: Menge | B3: Einheit | C3: Artikel (Gewicht alles ca. Angaben) | D3: Bemerkungen | E3: Einkaufspreis | F3: Betrag | I3: Originalrezept | J3: pro Person
A4: =ROUND(SUM(J4*$F$2),2) -> 0.6 | B4: Kg | C4: Senfpulver | D4: (für den Senf reicht eine Menge | F4: =SUM(E4*A4) -> 0 | I4: 0.05 | J4: =I4/$I$2 -> 0.0125 | L4: Kg | M4: 0.25
A5: =ROUND(SUM(J5*$F$2),2) -> 1.5 | B5: Kg | C5: Senf | D5: für 2 Personen vollständig aus) | F5: =SUM(E5*A5) -> 0 | I5: 0.125 | J5: =I5/$I$2 -> 0.03125 | L5: Lt | M5: 1.25
A6: =ROUND(SUM(J6*$F$2),2) -> 1.2 | B6: Lt | C6: Apfelessig | F6: =SUM(E6*A6) -> 0 | I6: 0.1 | J6: =I6/$I$2 -> 0.025 | L6: EL | M6: Esslöffel
A7: =ROUND(SUM(J7*$F$2),2) -> 3 | B7: Kg | C7: Honig | F7: =SUM(E7*A7) -> 0 | I7: 0.25 | J7: =I7/$I$2 -> 0.0625 | L7: TL | M7: Kaffeelöffel
A8: =ROUND(SUM(J8*$F$2),2) -> 4.2 | B8: Kg | C8: Himbeeren | F8: =SUM(E8*A8) -> 0 | I8: 0.35 | J8: =I8/$I$2 -> 0.0875 | L8: Bund | M8: 1
A9: =ROUND(SUM(J9*$F$2),2) -> 0 | C9: 1-2 Prisen Szechuanpfeffer, | D9: gemahlen | F9: =SUM(E9*A9) -> 0 | J9: =I9/$I$2 -> 0 | L9: Stk | M9: Stück
A10: =ROUND(SUM(J10*$F$2),2) -> 0 | C10: Salz | F10: =SUM(E10*A10) -> 0 | J10: =I10/$I$2 -> 0 | L10: Pä | M10: Päckli
A11: =ROUND(SUM(J11*$F$2),2) -> 12 | B11: Bund | C11: Radieschen | F11: =SUM(E11*A11) -> 0 | I11: 1 | J11: =I11/$I$2 -> 0.25 | L11: alles weitere ausschreiben
A12: =ROUND(SUM(J12*$F$2),2) -> 3 | B12: Stk | C12: Quark (20% Fett) | F12: =SUM(E12*A12) -> 0 | I12: 0.25 | J12: =I12/$I$2 -> 0.0625
A13: =ROUND(SUM(J13*$F$2),2) -> 12 | B13: TL | C13: Shisopulver (Asialaden) | F13: =SUM(E13*A13) -> 0 | I13: 1 | J13: =I13/$I$2 -> 0.25
A14: =ROUND(SUM(J14*$F$2),2) -> 12 | B14: Msp. | C14: Salz | F14: =SUM(E14*A14) -> 0 | I14: 1 | J14: =I14/$I$2 -> 0.25
A15: =ROUND(SUM(J15*$F$2),2) -> 12 | B15: Msp. | C15: Szechuanpfeffer, | D15: gemahlen | F15: =SUM(E15*A15) -> 0 | I15: 1 | J15: =I15/$I$2 -> 0.25
A16: =ROUND(SUM(J16*$F$2),2) -> 12 | B16: Stk | C16: Sauerteigbrot, am besten in Stangen | F16: =SUM(E16*A16) -> 0 | I16: 1 | J16: =I16/$I$2 -> 0.25
A17: =ROUND(SUM(J17*$F$2),2) -> 12 | B17: Handvoll | C17: Shisoblätter oder Shisokresse | D17: in Rot | F17: =SUM(E17*A17) -> 0 | I17: 1 | J17: =I17/$I$2 -> 0.25
A18: =ROUND(SUM(J18*$F$2),2) -> 0 | C18: Fleur de Sel | F18: =SUM(E18*A18) -> 0 | J18: =I18/$I$2 -> 0
A19: =ROUND(SUM(J19*$F$2),2) -> 0 | F19: =SUM(E19*A19) -> 0 | J19: =I19/$I$2 -> 0
A20: =ROUND(SUM(J20*$F$2),2) -> 0 | F20: =SUM(E20*A20) -> 0 | J20: =I20/$I$2 -> 0
A21: Zubereitung
A22: Himbeersenf: Für den Himbeersenf Senfpulver, Senf und die Hälfte des Apfelessigs in einer Schüssel verrühren. Den Honig in einem Topf erwärmen, bis er leicht dunkel ist.
A23: Die Himbeeren, den restlichen Apfelessig, Szechuanpfeffer und Salz zugeben und 15 Min. köcheln. Vom Herd nehmen, mit der Senfmischung mixen und durch ein Sieb streichen.
A24: Den Senf in einem Glas im Kühlschrank aufbewahren.
A25: Die Radieschen dünn aufschneiden und kurz ins Eiswasser legen.
A26: Den Quark mit Shisopulver, Salz und Pfeffer sowie 4 Esslöffeln Himbeersenf glatt rühren.
A27: Das Brot in Scheiben schneiden, mit Quark bestreichen und Tupfen vom Himbeersenf daraufgeben. Die Radieschenscheiben und Shisoblätter hineinstecken, etwas Fleur del Sel darüberstreuen.

Sheet Dessert
E1: Chochete vom | F1: =SUM(Menu!B3) -> 43064 | I1: Original Rezept
A2: =Menu!B13 -> Käsebuffet | E2: Rezept für | F2: =SUM(Menu!B19) -> 48 | J2: Personen | L2: Menu Angaben wie folgt machen:
A3: Menge | B3: Einheit | C3: Artikel (Gewicht alles ca. Angaben) | D3: Bemerkungen | E3: Einkaufspreis | F3: Betrag | I3: Originalrezept | J3: pro Person
A4: =ROUND(SUM(J4*$F$2),2) -> #DIV/0! | F4: =SUM(E4*A4) -> #DIV/0! | J4: =I4/$I$2 -> #DIV/0! | L4: Kg | M4: 0.25
A5: =ROUND(SUM(J5*$F$2),2) -> #DIV/0! | F5: =SUM(E5*A5) -> #DIV/0! | J5: =I5/$I$2 -> #DIV/0! | L5: Lt | M5: 1.25
A6: =ROUND(SUM(J6*$F$2),2) -> #DIV/0! | F6: =SUM(E6*A6) -> #DIV/0! | J6: =I6/$I$2 -> #DIV/0! | L6: EL | M6: Esslöffel
A7: =ROUND(SUM(J7*$F$2),2) -> #DIV/0! | F7: =SUM(E7*A7) -> #DIV/0! | J7: =I7/$I$2 -> #DIV/0! | L7: KL | M7: Kaffeelöffel
A8: =ROUND(SUM(J8*$F$2),2) -> #DIV/0! | F8: =SUM(E8*A8) -> #DIV/0! | J8: =I8/$I$2 -> #DIV/0! | L8: Bund | M8: 1
A9: =ROUND(SUM(J9*$F$2),2) -> #DIV/0! | F9: =SUM(E9*A9) -> #DIV/0! | J9: =I9/$I$2 -> #DIV/0! | L9: Stk | M9: Stück
A10: =ROUND(SUM(J10*$F$2),2) -> #DIV/0! | F10: =SUM(E10*A10) -> #DIV/0! | J10: =I10/$I$2 -> #DIV/0! | L10: Pä | M10: Päckli
A11: =ROUND(SUM(J11*$F$2),2) -> #DIV/0! | F11: =SUM(E11*A11) -> #DIV/0! | J11: =I11/$I$2 -> #DIV/0! | L11: alles weitere ausschreiben
A12: =ROUND(SUM(J12*$F$2),2) -> #DIV/0! | F12: =SUM(E12*A12) -> #DIV/0! | J12: =I12/$I$2 -> #DIV/0!
A13: =ROUND(SUM(J13*$F$2),2) -> #DIV/0! | F13: =SUM(E13*A13) -> #DIV/0! | J13: =I13/$I$2 -> #DIV/0!
A14: =ROUND(SUM(J14*$F$2),2) -> #DIV/0! | F14: =SUM(E14*A14) -> #DIV/0! | J14: =I14/$I$2 -> #DIV/0!
A15: =ROUND(SUM(J15*$F$2),2) -> #DIV/0! | F15: =SUM(E15*A15) -> #DIV/0! | J15: =I15/$I$2 -> #DIV/0!
A16: =ROUND(SUM(J16*$F$2),2) -> #DIV/0! | F16: =SUM(E16*A16) -> #DIV/0! | J16: =I16/$I$2 -> #DIV/0!
A17: =ROUND(SUM(J17*$F$2),2) -> #DIV/0! | F17: =SUM(E17*A17) -> #DIV/0! | J17: =I17/$I$2 -> #DIV/0!
A18: =ROUND(SUM(J18*$F$2),2) -> #DIV/0! | F18: =SUM(E18*A18) -> #DIV/0! | J18: =I18/$I$2 -> #DIV/0!
A19: =ROUND(SUM(J19*$F$2),2) -> #DIV/0! | F19: =SUM(E19*A19) -> #DIV/0! | J19: =I19/$I$2 -> #DIV/0!
A20: =ROUND(SUM(J20*$F$2),2) -> #DIV/0! | F20: =SUM(E20*A20) -> #DIV/0! | J20: =I20/$I$2 -> #DIV/0!
A21: Zubereitung

Sheet Diverses
E1: Chochete vom | F1: =SUM(Menu!B3) -> 43064 | I1: Original Rezept
A2: =Menu!B15 -> 0 | E2: Rezept für | F2: =SUM(Menu!B19) -> 48 | J2: Personen | L2: Menu Angaben wie folgt machen:
A3: Menge | B3: Einheit | C3: Artikel (Gewicht alles ca. Angaben) | D3: Bemerkungen | E3: Einkaufspreis | F3: Betrag | I3: Originalrezept | J3: pro Person
A4: =ROUND(SUM(J4*$F$2),2) -> #DIV/0! | F4: =SUM(E4*A4) -> #DIV/0! | J4: =I4/$I$2 -> #DIV/0! | L4: Kg | M4: 0.25
A5: =ROUND(SUM(J5*$F$2),2) -> #DIV/0! | F5: =SUM(E5*A5) -> #DIV/0! | J5: =I5/$I$2 -> #DIV/0! | L5: Lt | M5: 1.25
A6: =ROUND(SUM(J6*$F$2),2) -> #DIV/0! | F6: =SUM(E6*A6) -> #DIV/0! | J6: =I6/$I$2 -> #DIV/0! | L6: EL | M6: Esslöffel
A7: =ROUND(SUM(J7*$F$2),2) -> #DIV/0! | F7: =SUM(E7*A7) -> #DIV/0! | J7: =I7/$I$2 -> #DIV/0! | L7: KL | M7: Kaffeelöffel
A8: =ROUND(SUM(J8*$F$2),2) -> #DIV/0! | F8: =SUM(E8*A8) -> #DIV/0! | J8: =I8/$I$2 -> #DIV/0! | L8: Bund | M8: 1
A9: =ROUND(SUM(J9*$F$2),2) -> #DIV/0! | F9: =SUM(E9*A9) -> #DIV/0! | J9: =I9/$I$2 -> #DIV/0! | L9: Stk | M9: Stück
A10: =ROUND(SUM(J10*$F$2),2) -> #DIV/0! | F10: =SUM(E10*A10) -> #DIV/0! | J10: =I10/$I$2 -> #DIV/0! | L10: Pä | M10: Päckli
A11: =ROUND(SUM(J11*$F$2),2) -> #DIV/0! | F11: =SUM(E11*A11) -> #DIV/0! | J11: =I11/$I$2 -> #DIV/0! | L11: alles weitere ausschreiben
A12: =ROUND(SUM(J12*$F$2),2) -> #DIV/0! | F12: =SUM(E12*A12) -> #DIV/0! | J12: =I12/$I$2 -> #DIV/0!
A13: =ROUND(SUM(J13*$F$2),2) -> #DIV/0! | F13: =SUM(E13*A13) -> #DIV/0! | J13: =I13/$I$2 -> #DIV/0!
A14: =ROUND(SUM(J14*$F$2),2) -> #DIV/0! | F14: =SUM(E14*A14) -> #DIV/0! | J14: =I14/$I$2 -> #DIV/0!
A15: =ROUND(SUM(J15*$F$2),2) -> #DIV/0! | F15: =SUM(E15*A15) -> #DIV/0! | J15: =I15/$I$2 -> #DIV/0!
A16: =ROUND(SUM(J16*$F$2),2) -> #DIV/0! | F16: =SUM(E16*A16) -> #DIV/0! | J16: =I16/$I$2 -> #DIV/0!
A17: =ROUND(SUM(J17*$F$2),2) -> #DIV/0! | F17: =SUM(E17*A17) -> #DIV/0! | J17: =I17/$I$2 -> #DIV/0!
A18: =ROUND(SUM(J18*$F$2),2) -> #DIV/0! | F18: =SUM(E18*A18) -> #DIV/0! | J18: =I18/$I$2 -> #DIV/0!
A19: =ROUND(SUM(J19*$F$2),2) -> #DIV/0! | F19: =SUM(E19*A19) -> #DIV/0! | J19: =I19/$I$2 -> #DIV/0!
A20: =ROUND(SUM(J20*$F$2),2) -> #DIV/0! | F20: =SUM(E20*A20) -> #DIV/0! | J20: =I20/$I$2 -> #DIV/0!
A21: Zubereitung

Sheet Einkaufsliste
A1: Hobby-Küche Zug | C1: Einkaufsliste | D1: =Dessert!F1 -> 43064 | E1: ok
A2: Menge | B2: Einheit | C2: Artikel
A3: =Vorspeise!A2 -> Sellerie-Rauchlachs-Terrine mit Nüsslisalat | D3: Bemerkungen
A4: =SUM(Vorspeise!A4) -> 3 | B4: =Vorspeise!B4 -> Stk | C4: =Vorspeise!C4 -> Zitrone | D4: =Vorspeise!D4 -> 0
A5: =SUM(Vorspeise!A5) -> 2.4 | B5: =Vorspeise!B5 -> Kg | C5: =Vorspeise!C5 -> Knollensellerie | D5: =Vorspeise!D5 -> 0
A6: =SUM(Vorspeise!A6) -> 48 | B6: =Vorspeise!B6 -> Blatt | C6: =Vorspeise!C6 -> Gelatine | D6: =Vorspeise!D6 -> 0
A7: =SUM(Vorspeise!A7) -> 24 | B7: =Vorspeise!B7 -> Stk | C7: =Vorspeise!C7 -> Eigelb | D7: =Vorspeise!D7 -> 0
A8: =SUM(Vorspeise!A8) -> 0.6 | B8: =Vorspeise!B8 -> Lt | C8: =Vorspeise!C8 -> Rahm | D8: =Vorspeise!D8 -> 0
A9: =SUM(Vorspeise!A9) -> 6 | B9: =Vorspeise!B9 -> TL | C9: =Vorspeise!C9 -> Meerrettichpaste | D9: =Vorspeise!D9 -> 0
A10: =SUM(Vorspeise!A10) -> 12 | B10: =Vorspeise!B10 -> TL | C10: =Vorspeise!C10 -> kalte Butter | D10: =Vorspeise!D10 -> 0
A11: =SUM(Vorspeise!A11) -> 12 | B11: =Vorspeise!B11 -> Stk | C11: =Vorspeise!C11 -> Eiweiss | D11: =Vorspeise!D11 -> 0
A12: =SUM(Vorspeise!A12) -> 36 | B12: =Vorspeise!B12 -> Stk | C12: =Vorspeise!C12 -> Rauchlachs-Tranchen | D12: =Vorspeise!D12 -> dünn geschnitten
A13: =SUM(Vorspeise!A13) -> 0 | B13: =Vorspeise!B13 -> 0 | C13: =Vorspeise!C13 -> 0 | D13: =Vorspeise!D13 -> 0
A14: =SUM(Vorspeise!A14) -> 0 | B14: =Vorspeise!B14 -> 0 | C14: =Vorspeise!C14 -> Salz, Pfeffer aus der Mühle | D14: =Vorspeise!D14 -> 0
A15: =SUM(Vorspeise!A15) -> 0 | B15: =Vorspeise!B15 -> 0 | C15: =Vorspeise!C15 -> 0 | D15: =Vorspeise!D15 -> 0
... A20: =SUM(Vorspeise!A20) -> 0 | B20: =Vorspeise!B20 -> 0 | C20: =Vorspeise!C20 -> 0 | D20: =Vorspeise!D20 -> 0
A21: =Suppe!A2 -> Sauerrahm-Randensuppe mit Mohn-Krokant | D21: Bemerkungen
A22: =SUM(Suppe!A4) -> 4.8 | B22: =Suppe!B4 -> Kg | C22: =Suppe!C4 -> rohe Randen | D22: =Suppe!D4 -> 0
A23: =SUM(Suppe!A5) -> 6 | B23: =Suppe!B5 -> Stk | C23: =Suppe!C5 -> Limette | D23: =Suppe!D5 -> 0
A24: =SUM(Suppe!A6) -> 12 | B24: =Suppe!B6 -> Stk | C24: =Suppe!C6 -> Schalotten | D24: =Suppe!D6 -> 0
A25: =SUM(Suppe!A7) -> 0.12 | B25: =Suppe!B7 -> Kg | C25: =Suppe!C7 -> Ingwer | D25: =Suppe!D7 -> 0
A26: =SUM(Suppe!A8) -> 12 | B26: =Suppe!B8 -> EL | C26: =Suppe!C8 -> Olivenöl | D26: =Suppe!D8 -> 0
A27: =SUM(Suppe!A9) -> 9 | B27: =Suppe!B9 -> Lt | C27: =Suppe!C9 -> Gemüsebouillon | D27: =Suppe!D9 -> 0
A28: =SUM(Suppe!A10) -> 2.16 | B28: =Suppe!B10 -> Kg | C28: =Suppe!C10 -> Saurer Halbrahm | D28: =Suppe!D10 -> 0
A29: =SUM(Suppe!A11) -> 6 | B29: =Suppe!B11 -> Pä | C29: =Suppe!C11 -> Randensprossen | D29: =Suppe!D11 -> oder Alfalfa
A30: =SUM(Suppe!A12) -> 0 | B30: =Suppe!B12 -> 0 | C30: =Suppe!C12 -> 0 | D30: =Suppe!D12 -> 0
A31: =SUM(Suppe!A13) -> 0 | B31: =Suppe!B13 -> 0 | C31: =Suppe!C13 -> Salz, Cayennepfeffer | D31: =Suppe!D13 -> 0
A32: =SUM(Suppe!A14) -> 0 | B32: =Suppe!B14 -> 0 | C32: =Suppe!C14 -> 0 | D32: =Suppe!D14 -> 0
A33: =SUM(Suppe!A15) -> 1.2 | B33: =Suppe!B15 -> Kg | C33: =Suppe!C15 -> Blätterteig | D33: =Suppe!D15 -> 0
... A38: =SUM(Suppe!A20) -> 0 | B38: =Suppe!B20 -> 0 | C38: =Suppe!C20 -> 0 | D38: =Suppe!D20 -> 0
A39: =Hauptgang!A2 -> Kalbsfilet mit Anislack und Avocado-Ananas-Salsa | D39: Bemerkungen
A40: =SUM(Hauptgang!A4) -> 7.2 | B40: =Hauptgang!B4 -> Kg | C40: =Hauptgang!C4 -> Kalbsfilet (Mittelstück) | D40: =Hauptgang!D4 -> gleichmässig rund
A41: =SUM(Hauptgang!A7) -> 0 | B41: =Hauptgang!B7 -> 0 | C41: =Hauptgang!C7 -> Ananasmarinade: | D41: =Hauptgang!D7 -> 0
A42: =SUM(Hauptgang!A8) -> 48 | B42: =Hauptgang!B8 -> TL | C42: =Hauptgang!C8 -> Sherry | D42: =Hauptgang!D8 -> 0
A43: =SUM(Hauptgang!A9) -> 48 | B43: =Hauptgang!B9 -> EL | C43: =Hauptgang!C9 -> Sojasauce | D43: =Hauptgang!D9 -> 0
A44: =SUM(Hauptgang!A10) -> 12 | B44: =Hauptgang!B10 -> TL | C44: =Hauptgang!C10 -> Salz | D44: =Hauptgang!D10 -> 0
A45: =SUM(Hauptgang!A11) -> 48 | B45: =Hauptgang!B11 -> EL | C45: =Hauptgang!C11 -> Zucker | D45: =Hauptgang!D11 -> 0
A46: =SUM(Hauptgang!A12) -> 12 | B46: =Hauptgang!B12 -> TL | C46: =Hauptgang!C12 -> Anis | D46: =Hauptgang!D12 -> frisch und gemahlen
A47: =SUM(Hauptgang!A13) -> 0 | B47: =Hauptgang!B13 -> 0 | C47: =Hauptgang!C13 -> Avocadocrème: | D47: =Hauptgang!D13 -> 0
A48: =SUM(Hauptgang!A14) -> 12 | B48: =Hauptgang!B14 -> Stk. | C48: =Hauptgang!C14 -> reife Avocado | D48: =Hauptgang!D14 -> geschält, entkernt
...
