Workbook

Sheet Menu
B1: Vietnamesische Rezepte Guten Appetit! Chúc ăn ngon
A3: Datum | B3: 42873
A5: Vorspeise 1 | B5: Scharfer Rindfleischsalat "bo luc ac"
A7: Vorspeise 2 | B7: Vietnamesische Frühlingsrollen «Nem»
A9: Suppe | B9: Vietnamesische Nudelsuppe "Pho bo"
A11: Hauptgang | B11: Heilbutt mit Tomatensauce "ca sot ca chua"
A13: Beilage | B13: Reis und Nộm - vietnamesischer Salat
A15: Dessert | B15: Vietnamesischer Obstsalat mit Joghurt "Hoa Quua Dam"
A17: Diverses | B17: Fisch-Dip - nuoc mam cham
A19: Menu von Tisch | B19: D
A21: Personenzahl | B21: 4
B22: Die Mengenangaben sind sehr gut gerechnet.

Sheet  Vorspeise 1
E1: Chochete vom | F1: =SUM(Menu!B3) -> 42873 | I1: Original Rezept
A2: =Menu!B5 -> Scharfer Rindfleischsalat "bo luc ac" | E2: Rezept für | F2: =Menu!B21 -> 4 | I2: 6 | J2: Personen | L2: Menu Angaben wie folgt machen:
A3: Menge | B3: Einheit | C3: Artikel (Gewicht alles ca. Angaben) | D3: Bemerkungen | E3: Einkaufspreis | F3: Betrag | I3: Originalrezept | J3: pro Person
A4: =ROUND(SUM(J4*$F$2),2) -> 0.27 | B4: Kg | C4: Rinderrücken ohne Fett und Sehnen | F4: =SUM(E4*A4) -> 0 | I4: 0.4 | J4: =I4/$I$2 -> 0.066666667 | L4: Kg | M4: 0.25
A5: =ROUND(SUM(J5*$F$2),2) -> 0.67 | B5: EL | C5: Austernsauce | F5: =SUM(E5*A5) -> 0 | I5: 1 | J5: =I5/$I$2 -> 0.16666667 | L5: Lt | M5: 1.25
A6: =ROUND(SUM(J6*$F$2),2) -> 1.33 | B6: St | C6: Sojasauce | F6: =SUM(E6*A6) -> 0 | I6: 2 | J6: =I6/$I$2 -> 0.33333333 | L6: EL | M6: Esslöffel
A7: =ROUND(SUM(J7*$F$2),2) -> 0.67 | B7: St | C7: Knoblauchzehe | F7: =SUM(E7*A7) -> 0 | I7: 1 | J7: =I7/$I$2 -> 0.16666667 | L7: TL | M7: Kaffeelöffel
A8: =ROUND(SUM(J8*$F$2),2) -> 1.33 | B8: St | C8: Chilischoten | F8: =SUM(E8*A8) -> 0 | I8: 2 | J8: =I8/$I$2 -> 0.33333333 | L8: Bund | M8: 1
A9: =ROUND(SUM(J9*$F$2),2) -> 0.67 | B9: EL | C9: Zucker | F9: =SUM(E9*A9) -> 0 | I9: 1 | J9: =I9/$I$2 -> 0.16666667 | L9: Stk | M9: Stück
A10: =ROUND(SUM(J10*$F$2),2) -> 1.33 | B10: EL | C10: Limettensaft | F10: =SUM(E10*A10) -> 0 | I10: 2 | J10: =I10/$I$2 -> 0.33333333 | L10: Pä | M10: Päckli
A11: =ROUND(SUM(J11*$F$2),2) -> 0.67 | B11: St | C11: kleine rote Zwiebel | F11: =SUM(E11*A11) -> 0 | I11: 1 | J11: =I11/$I$2 -> 0.16666667 | L11: alles weitere ausschreiben
A12: =ROUND(SUM(J12*$F$2),2) -> 0.27 | B12: Kg | C12: frische Ananas | F12: =SUM(E12*A12) -> 0 | I12: 0.4 | J12: =I12/$I$2 -> 0.066666667
A13: =ROUND(SUM(J13*$F$2),2) -> 0.67 | B13: Bund | C13: Brunnenkresse | F13: =SUM(E13*A13) -> 0 | I13: 1 | J13: =I13/$I$2 -> 0.16666667
A14: =ROUND(SUM(J14*$F$2),2) -> 0.67 | B14: Bund | C14: asiatisches Basilikum | F14: =SUM(E14*A14) -> 0 | I14: 1 | J14: =I14/$I$2 -> 0.16666667
A15: =ROUND(SUM(J15*$F$2),2) -> 2 | B15: EL | C15: Öl | F15: =SUM(E15*A15) -> 0 | I15: 3 | J15: =I15/$I$2 -> 0.5
A16: =ROUND(SUM(J16*$F$2),2) -> 0 | F16: =SUM(E16*A16) -> 0 | J16: =I16/$I$2 -> 0
A17: =ROUND(SUM(J17*$F$2),2) -> 0 | F17: =SUM(E17*A17) -> 0 | J17: =I17/$I$2 -> 0
A18: =ROUND(SUM(J18*$F$2),2) -> 0 | F18: =SUM(E18*A18) -> 0 | J18: =I18/$I$2 -> 0
A19: =ROUND(SUM(J19*$F$2),2) -> 0 | F19: =SUM(E19*A19) -> 0 | J19: =I19/$I$2 -> 0
A20: =ROUND(SUM(J20*$F$2),2) -> 0 | F20: =SUM(E20*A20) -> 0 | J20: =I20/$I$2 -> 0
A21: Zubereitung
A22: Rinderrücken in 1 cm dicke Scheiben, diese in 2 cm große Quadrate schneiden, in einer Schüssel mit Austernsauce und Sojasauce mischen. Knoblauch schälen und in Scheiben schneiden.
A23: Chilis putzen und klein schneiden. Mit Zucker und 1/2 TL Salz im Mörser zerstoßen, in einer großen Schüssel mit 2 EL Limettensaft mischen.
A24: Die Zwiebel schälen, vierteln und fein schneiden. Ananas schälen, vierteln, den Strunk entfernen, Fruchtfleisch in Scheiben schneiden. Kräuter waschen, trockenschütteln, die Blättchen abzupfen.
A26: Im Wok das Öl erhitzen. Knoblauch in die Pfanne geben, nach wenigen Sek. das Fleisch zugeben, unter Rühren 2-3 Min. braten. Fleisch mit allen anderen Zutaten in die Schüssel geben, vorsichtig mit der Sauce mischen. Dazu passt Baguette besonders gut.

Sheet Vorspeise 2
E1: Chochete vom | F1: =SUM(Menu!B3) -> 42873 | I1: Original Rezept
A2: =Menu!B7 -> Vietnamesische Frühlingsrollen «Nem» | E2: Rezept für | F2: =SUM(Menu!B21) -> 4 | I2: 8 | J2: Personen
A3: Menge | B3: Einheit | C3: Artikel (Gewicht alles ca. Angaben) | D3: Bemerkungen | E3: Einkaufspreis | F3: Betrag | I3: Originalrezept | J3: pro Person
A4: =ROUND(SUM(J4*$F$2),2) -> 0.25 | B4: Kg | C4: Hackfleisch vom Schwein | F4: =SUM(E4*A4) -> 0 | I4: 0.5 | J4: =I4/$I$2 -> 0.0625
A5: =ROUND(SUM(J5*$F$2),2) -> 0.1 | B5: Kg | C5: Crevetten | F5: =SUM(E5*A5) -> 0 | I5: 0.2 | J5: =I5/$I$2 -> 0.025
A6: =ROUND(SUM(J6*$F$2),2) -> 0.13 | B6: Stk | C6: Möhre(n) (Rüebli) | F6: =SUM(E6*A6) -> 0 | I6: 0.25 | J6: =I6/$I$2 -> 0.03125
A7: =ROUND(SUM(J7*$F$2),2) -> 0.5 | B7: Stk | C7: Zwiebel(n) | F7: =SUM(E7*A7) -> 0 | I7: 1 | J7: =I7/$I$2 -> 0.125
A8: =ROUND(SUM(J8*$F$2),2) -> 1 | B8: Stk | C8: Knoblauch | F8: =SUM(E8*A8) -> 0 | I8: 2 | J8: =I8/$I$2 -> 0.25
A9: =ROUND(SUM(J9*$F$2),2) -> 1 | B9: cm | C9: Ingwer | F9: =SUM(E9*A9) -> 0 | I9: 2 | J9: =I9/$I$2 -> 0.25
A10: =ROUND(SUM(J10*$F$2),2) -> 0.5 | B10: TL | C10: Fünf-Gewürz-Pulver (kann man auch aus Sternanis, schwarzem Pfeffer, Fenchelsamen, Zimt und Gewürznelken selbst machen) | F10: =SUM(E10*A10) -> 0 | I10: 1 | J10: =I10/$I$2 -> 0.125
A11: =ROUND(SUM(J11*$F$2),2) -> 0 | F11: =SUM(E11*A11) -> 0 | J11: =I11/$I$2 -> 0
A12: =ROUND(SUM(J12*$F$2),2) -> 0.5 | B12: Pack | C12: Reis - Papier für Frühlingsrollen | F12: =SUM(E12*A12) -> 0 | I12: 1 | J12: =I12/$I$2 -> 0.125
A13: =ROUND(SUM(J13*$F$2),2) -> 1.5 | B13: EL | C13: Sojasauce | F13: =SUM(E13*A13) -> 0 | I13: 3 | J13: =I13/$I$2 -> 0.375
A14: =ROUND(SUM(J14*$F$2),2) -> 1.5 | B14: EL | C14: Austernsauce oder Fischsauce | F14: =SUM(E14*A14) -> 0 | I14: 3 | J14: =I14/$I$2 -> 0.375
A15: =ROUND(SUM(J15*$F$2),2) -> 0.5 | B15: TL | C15: Zucker, braun | F15: =SUM(E15*A15) -> 0 | I15: 1 | J15: =I15/$I$2 -> 0.125
A16: =ROUND(SUM(J16*$F$2),2) -> 1.5 | B16: EL | C16: Zitronensaft | F16: =SUM(E16*A16) -> 0 | I16: 3 | J16: =I16/$I$2 -> 0.375
A17: =ROUND(SUM(J17*$F$2),2) -> 1.5 | B17: EL | C17: Wasser | F17: =SUM(E17*A17) -> 0 | I17: 3 | J17: =I17/$I$2 -> 0.375
A18: =ROUND(SUM(J18*$F$2),2) -> 0.5 | B18: Stk | C18: Chilischote(n), rot | F18: =SUM(E18*A18) -> 0 | I18: 1 | J18: =I18/$I$2 -> 0.125
A19: =ROUND(SUM(J19*$F$2),2) -> 1 | B19: TL | C19: Sambal Olek | F19: =SUM(E19*A19) -> 0 | I19: 2 | J19: =I19/$I$2 -> 0.25
A20: =ROUND(SUM(J20*$F$2),2) -> 0.5 | B20: cm | C20: Ingwer | F20: =SUM(E20*A20) -> 0 | I20: 1 | J20: =I20/$I$2 -> 0.125
A21: =ROUND(SUM(J21*$F$2),2) -> 0.5 | B21: Stk | C21: Zehe/n Knoblauch | F21: =SUM(E21*A21) -> 0 | I21: 1 | J21: =I21/$I$2 -> 0.125
A22: =ROUND(SUM(J22*$F$2),2) -> 0.5 | B22: Stk | C22: Eisbergsalat | F22: =SUM(E22*A22) -> 0 | I22: 1 | J22: =I22/$I$2 -> 0.125
A23: =ROUND(SUM(J23*$F$2),2) -> 0.5 | B23: Bund | C23: Minze, frisch | F23: =SUM(E23*A23) -> 0 | I23: 1 | J23: =I23/$I$2 -> 0.125
A24: =ROUND(SUM(J24*$F$2),2) -> 0.5 | C24: Öl (Erdnuss- und Sesamöl) | F24: =SUM(E24*A24) -> 0 | I24: 1 | J24: =I24/$I$2 -> 0.125
C25: evtl. Koriandergrün
A26: Für die Füllung: | C26: Arbeitszeit: ca. 40 Min.
A27: Zwiebeln schälen und würfeln. Knoblauch und Ingwer schälen und fein hacken. Den Eisberg fein hobeln und waschen. Die Möhren schälen und in feine Stifte schneiden.
A28: Erdnussöl (ich mische es gerne mit etwas Sesamöl) in einer großen Pfanne erhitzen. Das Hackfleisch scharf anbraten. Zwiebeln, Knoblauch, Ingwer, Eisberg und Möhren zugeben und kurz mitbraten. Mit Salz und 5-Gewürz-Pulver abschmecken. Die Pfanne vom Herd nehmen, abkühlen lassen. Die gekochten Garnelen hacken und zugeben. Ich gebe gerne noch etwas gehacktes Koriandergrün zu der Mischung.
A30: Frühlingsrollen:
A31: Eine Schüssel mit kaltem Wasser bereitstellen, ein sauberes Geschirrtuch auf die Arbeitsfläche legen, die Reispapierplatten einzeln durch das Wasser ziehen und auf das Tuch legen. Dann 1-2 EL Füllung auf das Reispapier geben und kleine Päckchen formen. Die Päckchen dürfen nicht aufplatzen. Falls nötig, kann man die Reispapierplatten doppelt legen.
A33: Die Sauce zum Dippen:
A34: Sojasauce, Fischsauce, Reisessig, Zucker und Wasser verrühren. Den Knoblauch und Ingwer fein hacken und zugeben. Die rote Chilischote längs aufschlitzen, mit einem Löffel die Kerne entfernen und die Chilischote fein hacken, zur Sauce geben (Vorsicht: anschließend die Hände gut waschen!). Die Sauce abschmecken.
A36: Frühlingsrollen braten:
A37: In einer großen Pfanne oder im Wok fingerbreit Erdnussöl erhitzen und die Frühlingsrollen goldgelb ausbacken. Im Backofen warmhalten. Zum Essen ein einzelnes Eisbergsalatblatt auf den Teller legen, einige Minze-Blätter und eine Frühlingsrolle hineingeben, zusammenwickeln und vor jedem Bissen in die Sauce tippen.

Sheet Suppe
E1: Chochete vom | F1: =SUM(Menu!B3) -> 42873 | I1: Original Rezept
A2: =Menu!B9 -> Vietnamesische Nudelsuppe "Pho bo" | E2: Rezept für | F2: =SUM(Menu!B21) -> 4 | I2: 6 | J2: Personen
A3: Menge | B3: Einheit | C3: Artikel (Gewicht alles ca. Angaben) | D3: Bemerkungen | E3: Einkaufspreis | F3: Betrag | I3: Originalrezept | J3: pro Person
A4: =ROUND(SUM(J4*$F$2),2) -> 1.33 | B4: Lt | C4: fettfreie Fleischbouillon | F4: =SUM(E4*A4) -> 0 | I4: 2 | J4: =I4/$I$2 -> 0.33333333
A5: =ROUND(SUM(J5*$F$2),2) -> 2 | B5: cm | C5: frischer Ingwer, in Scheibchen | F5: =SUM(E5*A5) -> 0 | I5: 3 | J5: =I5/$I$2 -> 0.5
A6: =ROUND(SUM(J6*$F$2),2) -> 2 | B6: St | C6: Sternanis | F6: =SUM(E6*A6) -> 0 | I6: 3 | J6: =I6/$I$2 -> 0.5
A7: =ROUND(SUM(J7*$F$2),2) -> 0.67 | B7: St | C7: kleine Zimtstange | F7: =SUM(E7*A7) -> 0 | I7: 1 | J7: =I7/$I$2 -> 0.16666667
A8: =ROUND(SUM(J8*$F$2),2) -> 0.13 | B8: Kg | C8: Reisnudeln | F8: =SUM(E8*A8) -> 0 | I8: 0.2 | J8: =I8/$I$2 -> 0.033333333
A9: =ROUND(SUM(J9*$F$2),2) -> 0 | C9: Salzwasser | F9: =SUM(E9*A9) -> 0 | J9: =I9/$I$2 -> 0
A10: =ROUND(SUM(J10*$F$2),2) -> 0.07 | B10: Kg | C10: Sojasprossen | F10: =SUM(E10*A10) -> 0 | I10: 0.1 | J10: =I10/$I$2 -> 0.016666667
A11: =ROUND(SUM(J11*$F$2),2) -> 0.67 | B11: St | C11: Frühlingszwiebeln mit dem Grün, schräg in Ringen | F11: =SUM(E11*A11) -> 0 | I11: 1 | J11: =I11/$I$2 -> 0.16666667
A12: =ROUND(SUM(J12*$F$2),2) -> 0.23 | B12: Kg | C12: Rindfleisch für Fondue Chinoise, gerollt, tiefgekühlt | F12: =SUM(E12*A12) -> 0 | I12: 0.35 | J12: =I12/$I$2 -> 0.058333333
A13: =ROUND(SUM(J13*$F$2),2) -> 0.67 | B13: TL | C13: Salzwasser | F13: =SUM(E13*A13) -> 0 | I13: 1 | J13: =I13/$I$2 -> 0.16666667
A14: =ROUND(SUM(J14*$F$2),2) -> 0 | C14: einige Tropfen roter Tabasco | F14: =SUM(E14*A14) -> 0 | J14: =I14/$I$2 -> 0
A15: =ROUND(SUM(J15*$F$2),2) -> 0 | C15: Korianderblättchen | F15: =SUM(E15*A15) -> 0 | J15: =I15/$I$2 -> 0
A16: =ROUND(SUM(J16*$F$2),2) -> 0 | C16: Pfefferminzblätter | F16: =SUM(E16*A16) -> 0 | J16: =I16/$I$2 -> 0
A17: =ROUND(SUM(J17*$F$2),2) -> 1.33 | B17: St | C17: rote Chilis, in Ringen, evtl. entkernt | F17: =SUM(E17*A17) -> 0 | I17: 2 | J17: =I17/$I$2 -> 0.33333333
A18: =ROUND(SUM(J18*$F$2),2) -> 0.67 | B18: St | C18: Limette, in Schnitzen | F18: =SUM(E18*A18) -> 0 | I18: 1 | J18: =I18/$I$2 -> 0.16666667
A19: =ROUND(SUM(J19*$F$2),2) -> 0 | F19: =SUM(E19*A19) -> 0 | J19: =I19/$I$2 -> 0
A20: =ROUND(SUM(J20*$F$2),2) -> 0 | F20: =SUM(E20*A20) -> 0 | J20: =I20/$I$2 -> 0
A21: Zubereitung
A22: Bouillon mit Ingwer, Anis und Zimt ca. 30 Min. köcheln. Nudeln ca. 5 Min. in lauwarmem Wasser einweichen, abgiessen.
A24: Zuerst Nudeln ca. 4 Min. im siedenden Salzwasser blanchieren, dann Sojasprossen und Frühlingszwiebeln ca. 1 Min. blanchieren, alles kurz kalt abspülen, gut abtropfen. Fleisch ca. 10 Min. vor dem Anrichten der Suppe aus dem Tiefkühler nehmen, auf einer Platte auslegen.
A26: Ingwer, Anis und Zimt aus der Suppe nehmen, Suppe würzen. Nudeln, Sojasprossen und Fleisch in vorgewärmte Suppentassen verteilen, mit der siedend heissen Suppe übergiessen.
A28: Frühlingszwiebeln, Kräuter, Chilis und Limetten dazu servieren.
A29: Hinweis:
A30: Suppe vor dem Nachservieren nochmals aufkochen, damit das Fleisch in der Suppentasse gar wird.

Sheet Hauptgang
E1: Chochete vom | F1: =SUM(Menu!B3) -> 42873 | I1: Original Rezept
A2: =Menu!B11 -> Heilbutt mit Tomatensauce "ca sot ca chua" | E2: Rezept für | F2: =Menu!B21 -> 4 | I2: 6 | J2: Personen | L2: Menu Angaben wie folgt machen:
A3: Menge | B3: Einheit | C3: Artikel (Gewicht alles ca. Angaben) | D3: Bemerkungen | E3: Einkaufspreis | F3: Betrag | I3: Originalrezept | J3: pro Person
A4: =ROUND(SUM(J4*$F$2),2) -> 0.4 | B4: Kg | C4: Heilbutt oder Steaks ca. 2 cm. dick | F4: =SUM(E4*A4) -> 0 | I4: 0.6 | J4: =I4/$I$2 -> 0.1 | L4: Kg | M4: 0.25
A5: =ROUND(SUM(J5*$F$2),2) -> 0.17 | B5: Kg | C5: Tomaten, reife | F5: =SUM(E5*A5) -> 0 | I5: 0.25 | J5: =I5/$I$2 -> 0.041666667 | L5: Lt | M5: 1.25
A6: =ROUND(SUM(J6*$F$2),2) -> 0.67 | B6: St | C6: Peperoni, rot | F6: =SUM(E6*A6) -> 0 | I6: 1 | J6: =I6/$I$2 -> 0.16666667 | L6: EL | M6: Esslöffel
A7: =ROUND(SUM(J7*$F$2),2) -> 1.33 | B7: St | C7: Knoblauchzehen | F7: =SUM(E7*A7) -> 0 | I7: 2 | J7: =I7/$I$2 -> 0.33333333 | L7: TL | M7: Kaffeelöffel
A8: =ROUND(SUM(J8*$F$2),2) -> 5.33 | B8: St | C8: Kaffir-Limettenblätter | F8: =SUM(E8*A8) -> 0 | I8: 8 | J8: =I8/$I$2 -> 1.3333333 | L8: Bund | M8: 1
A9: =ROUND(SUM(J9*$F$2),2) -> 0.67 | B9: EL | C9: brauner Zucker | F9: =SUM(E9*A9) -> 0 | I9: 1 | J9: =I9/$I$2 -> 0.16666667 | L9: Stk | M9: Stück
A10: =ROUND(SUM(J10*$F$2),2) -> 1.33 | B10: TL | C10: Asiatischer Basilikum | F10: =SUM(E10*A10) -> 0 | I10: 2 | J10: =I10/$I$2 -> 0.33333333 | L10: Pä | M10: Päckli
A11: =ROUND(SUM(J11*$F$2),2) -> 0 | C11: Salz und Pfeffer | F11: =SUM(E11*A11) -> 0 | J11: =I11/$I$2 -> 0 | L11: alles weitere ausschreiben
A12: =ROUND(SUM(J12*$F$2),2) -> 0 | C12: Öl zum braten | F12: =SUM(E12*A12) -> 0 | J12: =I12/$I$2 -> 0
A13: =ROUND(SUM(J13*$F$2),2) -> 0 | F13: =SUM(E13*A13) -> 0 | J13: =I13/$I$2 -> 0
A14: =ROUND(SUM(J14*$F$2),2) -> 0 | F14: =SUM(E14*A14) -> 0 | J14: =I14/$I$2 -> 0
A15: =ROUND(SUM(J15*$F$2),2) -> 0 | F15: =SUM(E15*A15) -> 0 | J15: =I15/$I$2 -> 0
A16: =ROUND(SUM(J16*$F$2),2) -> 0 | F16: =SUM(E16*A16) -> 0 | J16: =I16/$I$2 -> 0
A17: =ROUND(SUM(J17*$F$2),2) -> 0 | F17: =SUM(E17*A17) -> 0 | J17: =I17/$I$2 -> 0
A18: =ROUND(SUM(J18*$F$2),2) -> 0 | F18: =SUM(E18*A18) -> 0 | J18: =I18/$I$2 -> 0
A19: =ROUND(SUM(J19*$F$2),2) -> 0 | F19: =SUM(E19*A19) -> 0 | J19: =I19/$I$2 -> 0
A20: =ROUND(SUM(J20*$F$2),2) -> 0 | F20: =SUM(E20*A20) -> 0 | J20: =I20/$I$2 -> 0
A21: Zubereitung
A22: Fisch kurz waschen und trockentupfen
A23: Tomaten waschen und klein würfeln, dabei die Stielansätze entfernen. Peperoni fein schneiden. Knoblauch schälen und in Scheiben schneiden. Limettenblätter waschen, in möglichst feine Streifen schneiden. Alles mit Zucker und Öl andünsten, nach 2 Min, 3-4 EL Wasser und Fischsauce zugeben und bei schwacher Hitze 15 Min. kochen lassen.
A25: Das Basilikum waschen, trockenschütteln, abzupfen und grob hacken.
A26: Heilbuttfilets mit Salz und Pfeffer würzen. Öl in einer beschichteten Pfanne stark erhitzen, Fisch darin von beiden Seiten in je 3-4 Min. goldbraun braten. Aus der Pfanne heben und auf Küchenpapier abtropfen lassen. Fisch mit Tomaten anrichten und mit Kräutern bestreut servieren. Dazu passen Reis und ein Salat aus Ruebli, Gurken, Zwiebel und gerösteten Erdnüssen, mariniert mit Fisch-Dip Sauce

Sheet Beilage
E1: Chochete vom | F1: =SUM(Menu!B3) -> 42873 | I1: Original Rezept
A2: =Menu!B13 -> Reis und Nộm - vietnamesischer Salat | E2: Rezept für | F2: =SUM(Menu!B21) -> 4 | I2: 6 | J2: Personen
A3: Menge | B3: Einheit | C3: Artikel (Gewicht alles ca. Angaben) | D3: Bemerkungen | E3: Einkaufspreis | F3: Betrag | I3: Originalrezept | J3: pro Person
A4: =ROUND(SUM(J4*$F$2),2) -> 0.16 | B4: Kg | C4: Parfümreis / Jasmine Reis | D4: Menge kochen nach belieben | F4: =SUM(E4*A4) -> 0 | I4: 0.24 | J4: =I4/$I$2 -> 0.04
A5: =ROUND(SUM(J5*$F$2),2) -> 0 | F5: =SUM(E5*A5) -> 0 | J5: =I5/$I$2 -> 0
A6: =ROUND(SUM(J6*$F$2),2) -> 0 | C6: Karotten-Salat | F6: =SUM(E6*A6) -> 0 | J6: =I6/$I$2 -> 0
A7: =ROUND(SUM(J7*$F$2),2) -> 2.67 | B7: St | C7: Rüebli | F7: =SUM(E7*A7) -> 0 | I7: 4 | J7: =I7/$I$2 -> 0.66666667
A8: =ROUND(SUM(J8*$F$2),2) -> 0.67 | B8: St | C8: Kohlrabi | F8: =SUM(E8*A8) -> 0 | I8: 1 | J8: =I8/$I$2 -> 0.16666667
A9: =ROUND(SUM(J9*$F$2),2) -> 0.33 | B9: St | C9: Zwiebel | F9: =SUM(E9*A9) -> 0 | I9: 0.5 | J9: =I9/$I$2 -> 0.083333333
A10: =ROUND(SUM(J10*$F$2),2) -> 0.33 | B10: St | C10: Zitrone | F10: =SUM(E10*A10) -> 0 | I10: 0.5 | J10: =I10/$I$2 -> 0.083333333
A11: =ROUND(SUM(J11*$F$2),2) -> 0 | C11: Koriander / Minze / getrocknete Erdnüsse | F11: =SUM(E11*A11) -> 0 | J11: =I11/$I$2 -> 0
A12: =ROUND(SUM(J12*$F$2),2) -> 0 | C12: Salz | F12: =SUM(E12*A12) -> 0 | J12: =I12/$I$2 -> 0
A13: =ROUND(SUM(J13*$F$2),2) -> 1.33 | B13: TL | C13: Zucker | F13: =SUM(E13*A13) -> 0 | I13: 2 | J13: =I13/$I$2 -> 0.33333333
A14: =ROUND(SUM(J14*$F$2),2) -> 0 | F14: =SUM(E14*A14) -> 0 | J14: =I14/$I$2 -> 0
A15: =ROUND(SUM(J15*$F$2),2) -> 0 | F15: =SUM(E15*A15) -> 0 | J15: =I15/$I$2 -> 0
A16: =ROUND(SUM(J16*$F$2),2) -> 0 | F16: =SUM(E16*A16) -> 0 | J16: =I16/$I$2 -> 0
A17: =ROUND(SUM(J17*$F$2),2) -> 0 | F17: =SUM(E17*A17) -> 0 | J17: =I17/$I$2 -> 0
A18: =ROUND(SUM(J18*$F$2),2) -> 0 | F18: =SUM(E18*A18) -> 0 | J18: =I18/$I$2 -> 0
A19: =ROUND(SUM(J19*$F$2),2) -> 0 | F19: =SUM(E19*A19) -> 0 | J19: =I19/$I$2 -> 0
A20: =ROUND(SUM(J20*$F$2),2) -> 0 | F20: =SUM(E20*A20) -> 0 | J20: =I20/$I$2 -> 0
A21: Zubereitung
A22: Die Erdnüsse in einer Pfanne (ohne Öl) auf höchster Stufe unter ständigen Rühren rösten (5-7 Minuten) und zum Abkühlen beiseite stellen.
A23: Karotten und Kohlrabi schälen und in feine Streifen schneiden. Die Karotten- und Kohlrabistreifen mit einem TL Salz in einer Schüssel mischen und 3 Minuten ziehen lassen. Anschließend warmes Wasser hinzu geben, umrühren und das Salzwasser abgießen.
A25: Die gerösteten Erdnüsse zerstossen. Dadurch ist der Erdnussgeschmack intensiver. (Für´s Auge / Foto sieht´s schöner aus, wenn auf das Zerstossen verzichtet wird, deswegen habe ich bei der Zubereitung für´s Foto die Erdnüsse nicht zerstossen).
A27: Den Saft der Zitrone, Zucker, Zwiebel und Erdnüsse hinzu geben und mit einer Prise Salz abschmecken.
A28: Minze und Koriander klein hacken und alles gut vermischen.
A29: Den Salat 5 bis 10 Minuten ziehen lassen ...
A30: Wer es gerne scharf mag, kann noch eine kleine Chili fein hacken und dazu geben.
A31: Wer keine getrockneten Erdnüsse bekommen kann oder wem das Rösten zu aufwendig ist, kann auch geröstete Erdnüsse aus der Snack-Abteilung verwenden.

Sheet Dessert
E1: Chochete vom | F1: =SUM(Menu!B3) -> 42873 | I1: Original Rezept
A2: =Menu!B15 -> Vietnamesischer Obstsalat mit Joghurt "Hoa Quua Dam" | E2: Rezept für | F2: =SUM(Menu!B21) -> 4 | I2: 6 | J2: Personen
A3: Menge | B3: Einheit | C3: Artikel | D3: Bemerkungen | E3: Einkaufspreis | F3: Betrag | I3: Originalrezept | J3: pro Person
A4: =ROUND(SUM(J4*$F$2),2) -> 0.67 | B4: St | C4: Kiwi | F4: =SUM(E4*A4) -> 0 | I4: 1 | J4: =I4/$I$2 -> 0.16666667
A5: =ROUND(SUM(J5*$F$2),2) -> 0.67 | B5: St | C5: Mango | F5: =SUM(E5*A5) -> 0 | I5: 1 | J5: =I5/$I$2 -> 0.16666667
A6: =ROUND(SUM(J6*$F$2),2) -> 0.67 | B6: St | C6: Drachenfrucht | F6: =SUM(E6*A6) -> 0 | I6: 1 | J6: =I6/$I$2 -> 0.16666667
A7: =ROUND(SUM(J7*$F$2),2) -> 0.17 | B7: St | C7: Melone | F7: =SUM(E7*A7) -> 0 | I7: 0.25 | J7: =I7/$I$2 -> 0.041666667
A8: =ROUND(SUM(J8*$F$2),2) -> 0.07 | B8: Kg | C8: Erdbeeren | F8: =SUM(E8*A8) -> 0 | I8: 0.1 | J8: =I8/$I$2 -> 0.016666667
A9: =ROUND(SUM(J9*$F$2),2) -> 0.07 | B9: Kg | C9: Weintrauben | F9: =SUM(E9*A9) -> 0 | I9: 0.1 | J9: =I9/$I$2 -> 0.016666667
A10: =ROUND(SUM(J10*$F$2),2) -> 2.67 | B10: EL | C10: Kokosmilch | F10: =SUM(E10*A10) -> 0 | I10: 4 | J10: =I10/$I$2 -> 0.66666667
A11: =ROUND(SUM(J11*$F$2),2) -> 2.67 | B11: El | C11: Joghurt nature | F11: =SUM(E11*A11) -> 0 | I11: 4 | J11: =I11/$I$2 -> 0.66666667
A12: =ROUND(SUM(J12*$F$2),2) -> 0 | C12: (Gewicht alles ca. Angaben) | F12: =SUM(E12*A12) -> 0 | J12: =I12/$I$2 -> 0
A13: =ROUND(SUM(J13*$F$2),2) -> 0 | F13: =SUM(E13*A13) -> 0 | J13: =I13/$I$2 -> 0
A14: =ROUND(SUM(J14*$F$2),2) -> 0 | F14: =SUM(E14*A14) -> 0 | J14: =I14/$I$2 -> 0
A15: =ROUND(SUM(J15*$F$2),2) -> 0 | F15: =SUM(E15*A15) -> 0 | J15: =I15/$I$2 -> 0
A16: =ROUND(SUM(J16*$F$2),2) -> 0 | F16: =SUM(E16*A16) -> 0 | J16: =I16/$I$2 -> 0
A17: =ROUND(SUM(J17*$F$2),2) -> 0 | F17: =SUM(E17*A17) -> 0 | J17: =I17/$I$2 -> 0
A18: =ROUND(SUM(J18*$F$2),2) -> 0 | F18: =SUM(E18*A18) -> 0 | J18: =I18/$I$2 -> 0
A19: =ROUND(SUM(J19*$F$2),2) -> 0 | F19: =SUM(E19*A19) -> 0 | J19: =I19/$I$2 -> 0
A20: =ROUND(SUM(J20*$F$2),2) -> 0 | F20: =SUM(E20*A20) -> 0 | J20: =I20/$I$2 -> 0
A21: Zubereitung
A22: 1) Die Kiwi, die Mango, die Drachenfrucht und die Melone schälen und in Würfel schneiden. Die Erdbeeren und die Weintrauben waschen und halbieren. Das Obst in einer Schüssel vermischen.
A24: 2) Die Früchte auf vier Dessertschüsselchen verteilen und jede Portion mit 1–2 TL von der Kokosmilch beträufeln. Je 1 EL gestoßenes Eis darüber verteilen und den Obsalat zusammen mit dem Joghurt servieren.
A26: Ein leckerer, herrlich erfrischender Obstsalat aus tropischen Früchten. Die gezuckerte Milch geben die nötige Süße und der Joghurt die Frische

Sheet FischSauce
E1: Chochete vom | F1: =SUM(Menu!B3) -> 42873 | I1: Original Rezept
A2: =Menu!B17 -> Fisch-Dip - nuoc mam cham | E2: Rezept für | F2: =SUM(Menu!B21) -> 4 | I2: 4 | J2: Personen
A3: Menge | B3: Einheit | C3: Artikel (Gewicht alles ca. Angaben) | D3: Bemerkungen | E3: Einkaufspreis | F3: Betrag | I3: Originalrezept | J3: pro Person
A4: =ROUND(SUM(J4*$F$2),2) -> 1 | B4: St | C4: Knoblauchzehe | F4: =SUM(E4*A4) -> 0 | I4: 1 | J4: =I4/$I$2 -> 0.25
A5: =ROUND(SUM(J5*$F$2),2) -> 1 | B5: St | C5: Chilischote (nach Geschmack) | F5: =SUM(E5*A5) -> 0 | I5: 1 | J5: =I5/$I$2 -> 0.25
A6: =ROUND(SUM(J6*$F$2),2) -> 2 | B6: EL | C6: Zucker | F6: =SUM(E6*A6) -> 0 | I6: 2 | J6: =I6/$I$2 -> 0.5
A7: =ROUND(SUM(J7*$F$2),2) -> 4 | B7: EL | C7: Fischsauce „nước mắm“ | F7: =SUM(E7*A7) -> 0 | I7: 4 | J7: =I7/$I$2 -> 1
A8: =ROUND(SUM(J8*$F$2),2) -> 8 | B8: EL | C8: Wasser | F8: =SUM(E8*A8) -> 0 | I8: 8 | J8: =I8/$I$2 -> 2
A9: =ROUND(SUM(J9*$F$2),2) -> 1 | B9: St | C9: Limette | F9: =SUM(E9*A9) -> 0 | I9: 1 | J9: =I9/$I$2 -> 0.25
A10: =ROUND(SUM(J10*$F$2),2) -> 0 | C10: Pfeffer gemahlen | F10: =SUM(E10*A10) -> 0 | J10: =I10/$I$2 -> 0
A11: =ROUND(SUM(J11*$F$2),2) -> 0 | F11: =SUM(E11*A11) -> 0 | J11: =I11/$I$2 -> 0
A12: =ROUND(SUM(J12*$F$2),2) -> 0 | F12: =SUM(E12*A12) -> 0 | J12: =I12/$I$2 -> 0
A13: =ROUND(SUM(J13*$F$2),2) -> 0 | C13: Dip zum Hauptgang | F13: =SUM(E13*A13) -> 0 | J13: =I13/$I$2 -> 0
A14: =ROUND(SUM(J14*$F$2),2) -> 0 | F14: =SUM(E14*A14) -> 0 | J14: =I14/$I$2 -> 0
A15: =ROUND(SUM(J15*$F$2),2) -> 0 | F15: =SUM(E15*A15) -> 0 | J15: =I15/$I$2 -> 0
A16: =ROUND(SUM(J16*$F$2),2) -> 0 | F16: =SUM(E16*A16) -> 0 | J16: =I16/$I$2 -> 0
A17: =ROUND(SUM(J17*$F$2),2) -> 0 | F17: =SUM(E17*A17) -> 0 | J17: =I17/$I$2 -> 0
A18: =ROUND(SUM(J18*$F$2),2) -> 0 | F18: =SUM(E18*A18) -> 0 | J18: =I18/$I$2 -> 0
A19: =ROUND(SUM(J19*$F$2),2) -> 0 | F19: =SUM(E19*A19) -> 0 | J19: =I19/$I$2 -> 0
A20: =ROUND(SUM(J20*$F$2),2) -> 0 | F20: =SUM(E20*A20) -> 0 | J20: =I20/$I$2 -> 0
A21: Zubereitung
A22: Nuoc Cham heißt „Geflecktes Wasser“ und ist der Oberbegriff für alle vietnamesischen Dipsaucen.
A24: Den Knoblauch und die Chili fein hacken, in einem Mörser zusammen mit dem Zucker zu einer Paste zerstossen.
A26: Mit Fischsauce und heißem Wasser verrühren, bis der Zucker sich aufgelöst hat.
A27: Die Limette durch ein Sieb auspressen und den Saft dazugeben. 4-5 Drehungen mit der Pfeffermühle und alles gründlich verrühren.
A29: Dies ergibt ca. 200 ml, ideal für die meisten Rezepte.
A30: Alternativ kann man den Knoblauch weglassen oder auch durch die gleiche Menge Ingwer ersetzen.

Sheet Einkaufsliste
A1: Hobby-Küche Zug | C1: Einkaufsliste | D1: =Dessert!F1 -> 42873 | E1: wo Posten | F1: wer | G1: ok
A2: Menge | B2: Einheit | C2: Artikel
A3: =' Vorspeise 1'!A2 -> Scharfer Rindfleischsalat "bo luc ac" | D3: Bemerkungen
A4: =SUM(' Vorspeise 1'!A4) -> 0.27 | B4: =' Vorspeise 1'!B4 -> Kg | C4: =' Vorspeise 1'!C4 -> Rinderrücken ohne Fett und Sehnen | D4: =' Vorspeise 1'!D4 -> 0
A5: =SUM(' Vorspeise 1'!A5) -> 0.67 | B5: =' Vorspeise 1'!B5 -> EL | C5: =' Vorspeise 1'!C5 -> Austernsauce | D5: =' Vorspeise 1'!D5 -> 0
A6: =SUM(' Vorspeise 1'!A6) -> 1.33 | B6: =' Vorspeise 1'!B6 -> St | C6: =' Vorspeise 1'!C6 -> Sojasauce | D6: =' Vorspeise 1'!D6 -> 0
A7: =SUM(' Vorspeise 1'!A7) -> 0.67 | B7: =' Vorspeise 1'!B7 -> St | C7: =' Vorspeise 1'!C7 -> Knoblauchzehe | D7: =' Vorspeise 1'!D7 -> 0
A8: =SUM(' Vorspeise 1'!A8) -> 1.33 | B8: =' Vorspeise 1'!B8 -> St | C8: =' Vorspeise 1'!C8 -> Chilischoten | D8: =' Vorspeise 1'!D8 -> 0
A9: =SUM(' Vorspeise 1'!A9) -> 0.67 | B9: =' Vorspeise 1'!B9 -> EL | C9: =' Vorspeise 1'!C9 -> Zucker | D9: =' Vorspeise 1'!D9 -> 0
A10: =SUM(' Vorspeise 1'!A10) -> 1.33 | B10: =' Vorspeise 1'!B10 -> EL | C10: =' Vorspeise 1'!C10 -> Limettensaft | D10: =' Vorspeise 1'!D10 -> 0
A11: =SUM(' Vorspeise 1'!A11) -> 0.67 | B11: =' Vorspeise 1'!B11 -> St | C11: =' Vorspeise 1'!C11 -> kleine rote Zwiebel | D11: =' Vorspeise 1'!D11 -> 0
A12: =SUM(' Vorspeise 1'!A12) -> 0.27 | B12: =' Vorspeise 1'!B12 -> Kg | C12: =' Vorspeise 1'!C12 -> frische Ananas | D12: =' Vorspeise 1'!D12 -> 0
A13: =SUM(' Vorspeise 1'!A13) -> 0.67 | B13: =' Vorspeise 1'!B13 -> Bund | C13: =' Vorspeise 1'!C13 -> Brunnenkresse | D13: =' Vorspeise 1'!D13 -> 0
A14: =SUM(' Vorspeise 1'!A14) -> 0.67 | B14: =' Vorspeise 1'!B14 -> Bund | C14: =' Vorspeise 1'!C14 -> asiatisches Basilikum | D14: =' Vorspeise 1'!D14 -> 0
A15: =SUM(' Vorspeise 1'!A15) -> 2 | B15: =' Vorspeise 1'!B15 -> EL | C15: =' Vorspeise 1'!C15 -> Öl | D15: =' Vorspeise 1'!D15 -> 0
... A20: =SUM(' Vorspeise 1'!A20) -> 0 | B20: =' Vorspeise 1'!B20 -> 0 | C20: =' Vorspeise 1'!C20 -> 0 | D20: =' Vorspeise 1'!D20 -> 0
A21: =Suppe!A2 -> Vietnamesische Nudelsuppe "Pho bo" | D21: Bemerkungen
A22: =SUM(Suppe!A4) -> 1.33 | B22: =Suppe!B4 -> Lt | C22: =Suppe!C4 -> fettfreie Fleischbouillon | D22: =Suppe!D4 -> 0
A23: =SUM(Suppe!A5) -> 2 | B23: =Suppe!B5 -> cm | C23: =Suppe!C5 -> frischer Ingwer, in Scheibchen | D23: =Suppe!D5 -> 0
A24: =SUM(Suppe!A6) -> 2 | B24: =Suppe!B6 -> St | C24: =Suppe!C6 -> Sternanis | D24: =Suppe!D6 -> 0
A25: =SUM(Suppe!A7) -> 0.67 | B25: =Suppe!B7 -> St | C25: =Suppe!C7 -> kleine Zimtstange | D25: =Suppe!D7 -> 0
A26: =SUM(Suppe!A8) -> 0.13 | B26: =Suppe!B8 -> Kg | C26: =Suppe!C8 -> Reisnudeln | D26: =Suppe!D8 -> 0
A27: =SUM(Suppe!A9) -> 0 | B27: =Suppe!B9 -> 0 | C27: =Suppe!C9 -> Salzwasser | D27: =Suppe!D9 -> 0
A28: =SUM(Suppe!A10) -> 0.07 | B28: =Suppe!B10 -> Kg | C28: =Suppe!C10 -> Sojasprossen | D28: =Suppe!D10 -> 0
A29: =SUM(Suppe!A11) -> 0.67 | B29: =Suppe!B11 -> St | C29: =Suppe!C11 -> Frühlingszwiebeln mit dem Grün, schräg in Ringen | D29: =Suppe!D11 -> 0
A30: =SUM(Suppe!A12) -> 0.23 | B30: =Suppe!B12 -> Kg | C30: =Suppe!C12 -> Rindfleisch für Fondue Chinoise, gerollt, tiefgekühlt | D30: =Suppe!D12 -> 0
A31: =SUM(Suppe!A13) -> 0.67 | B31: =Suppe!B13 -> TL | C31: =Suppe!C13 -> Salzwasser | D31: =Suppe!D13 -> 0
A32: =SUM(Suppe!A14) -> 0 | B32: =Suppe!B14 -> 0 | C32: =Suppe!C14 -> einige Tropfen roter Tabasco | D32: =Suppe!D14 -> 0
A33: =SUM(Suppe!A15) -> 0 | B33: =Suppe!B15 -> 0 | C33: =Suppe!C15 -> Korianderblättchen | D33: =Suppe!D15 -> 0
... A38: =SUM(Suppe!A20) -> 0 | B38: =Suppe!B20 -> 0 | C38: =Suppe!C20 -> 0 | D38: =Suppe!D20 -> 0
A39: =Hauptgang!A2 -> Heilbutt mit Tomatensauce "ca sot ca chua" | D39: Bemerkungen
A40: =SUM(Hauptgang!A4) -> 0.4 | B40: =Hauptgang!B4 -> Kg | C40: =Hauptgang!C4 -> Heilbutt oder Steaks ca. 2 cm. dick | D40: =Hauptgang!D4 -> 0
A41: =SUM(Hauptgang!A5) -> 0.17 | B41: =Hauptgang!B5 -> Kg | C41: =Hauptgang!C5 -> Tomaten, reife | D41: =Hauptgang!D5 -> 0
A42: =SUM(Hauptgang!A6) -> 0.67 | B42: =Hauptgang!B6 -> St | C42: =Hauptgang!C6 -> Peperoni, rot | D42: =Hauptgang!D6 -> 0
A43: =SUM(Hauptgang!A7) -> 1.33 | B43: =Hauptgang!B7 -> St | C43: =Hauptgang!C7 -> Knoblauchzehen | D43: =Hauptgang!D7 -> 0
A44: =SUM(Hauptgang!A8) -> 5.33 | B44: =Hauptgang!B8 -> St | C44: =Hauptgang!C8 -> Kaffir-Limettenblätter | D44: =Hauptgang!D8 -> 0
A45: =SUM(Hauptgang!A9) -> 0.67 | B45: =Hauptgang!B9 -> EL | C45: =Hauptgang!C9 -> brauner Zucker | D45: =Hauptgang!D9 -> 0
A46: =SUM(Hauptgang!A10) -> 1.33 | B46: =Hauptgang!B10 -> TL | C46: =Hauptgang!C10 -> Asiatischer Basilikum | D46: =Hauptgang!D10 -> 0
A47: =SUM(Hauptgang!A11) -> 0 | B47: =Hauptgang!B11 -> 0 | C47: =Hauptgang!C11 -> Salz und Pfeffer | D47: =Hauptgang!D11 -> 0
A48: =SUM(Hauptgang!A12) -> 0 | B48: =Hauptgang!B12 -> 0 | C48: =Hauptgang!C12 -> Öl zum braten | D48: =Hauptgang!D12 -> 0
A49: =SUM(Hauptgang!A13) -> 0 | B49: =Hauptgang!B13 -> 0 | C49: =Hauptgang!C13 -> 0 | D49: =Hauptgang!D13 -> 0
A50: =SUM(Hauptgang!A14) -> 0 | B50: =Hauptgang!B14 -> 0 | C50: =Hauptgang!C14 -> 0 | D50: =Hauptgang!D14 -> 0
A51: =SUM(Hauptgang!A15) -> 0 | B51: =Hauptgang!B15 -> 0 | C51: =Hauptgang!C15 -> 0 | D51: =Hauptgang!D15 -> 0
... A56: =SUM(Hauptgang!A20) -> 0 | B56: =Hauptgang!B20 -> 0 | C56: =Hauptgang!C20 -> 0 | D56: =Hauptgang!D20 -> 0
A57: ='Vorspeise 2'!A2 -> Vietnamesische Frühlingsrollen «Nem» | D57: Bemerkungen
A58: ='Vorspeise 2'!A4 -> 0.25 | B58: ='Vorspeise 2'!B4 -> Kg | C58: ='Vorspeise 2'!C4 -> Hackfleisch vom Schwein | D58: ='Vorspeise 2'!D4 -> 0
A59: ='Vorspeise 2'!A5 -> 0.1 | B59: ='Vorspeise 2'!B5 -> Kg | C59: ='Vorspeise 2'!C5 -> Crevetten | D59: ='Vorspeise 2'!D5 -> 0
A60: ='Vorspeise 2'!A6 -> 0.13 | B60: ='Vorspeise 2'!B6 -> Stk | C60: ='Vorspeise 2'!C6 -> Möhre(n) (Rüebli) | D60: ='Vorspeise 2'!D6 -> 0
A61: ='Vorspeise 2'!A7 -> 0.5 | B61: ='Vorspeise 2'!B7 -> Stk | C61: ='Vorspeise 2'!C7 -> Zwiebel(n) | D61: ='Vorspeise 2'!D7 -> 0
A62: ='Vorspeise 2'!A8 -> 1 | B62: ='Vorspeise 2'!B8 -> Stk | C62: ='Vorspeise 2'!C8 -> Knoblauch | D62: ='Vorspeise 2'!D8 -> 0
A63: ='Vorspeise 2'!A9 -> 1 | B63: ='Vorspeise 2'!B9 -> cm | C63: ='Vorspeise 2'!C9 -> Ingwer | D63: ='Vorspeise 2'!D9 -> 0
A64: ='Vorspeise 2'!A10 -> 0.5 | B64: ='Vorspeise 2'!B10 -> TL | C64: ='Vorspeise 2'!C10 -> Fünf-Gewürz-Pulver (kann man auch aus Sternanis, schwarzem Pfeffer, Fenchelsamen, Zimt und Gewürznelken selbst machen) | D64: ='Vorspeise 2'!D10 -> 0
A65: ='Vorspeise 2'!A11 -> 0 | B65: ='Vorspeise 2'!B11 -> 0 | C65: ='Vorspeise 2'!C11 -> 0 | D65: ='Vorspeise 2'!D11 -> 0
A66: ='Vorspeise 2'!A12 -> 0.5 | B66: ='Vorspeise 2'!B12 -> Pack | C66: ='Vorspeise 2'!C12 -> Reis - Papier für Frühlingsrollen | D66: ='Vorspeise 2'!D12 -> 0
A67: ='Vorspeise 2'!A13 -> 1.5 | B67: ='Vorspeise 2'!B13 -> EL | C67: ='Vorspeise 2'!C13 -> Sojasauce | D67: ='Vorspeise 2'!D13 -> 0
A68: ='Vorspeise 2'!A14 -> 1.5 | B68: ='Vorspeise 2'!B14 -> EL | C68: ='Vorspeise 2'!C14 -> Austernsauce oder Fischsauce | D68: ='Vorspeise 2'!D14 -> 0
A69: ='Vorspeise 2'!A15 -> 0.5 | B69: ='Vorspeise 2'!B15 -> TL | C69: ='Vorspeise 2'!C15 -> Zucker, braun | D69: ='Vorspeise 2'!D15 -> 0
... A79: ='Vorspeise 2'!A25 -> 0 | B79: ='Vorspeise 2'!B25 -> 0 | C79: ='Vorspeise 2'!C25 -> evtl. Koriandergrün | D79: ='Vorspeise 2'!D25 -> 0
A80: =Beilage!A2 -> Reis und Nộm - vietnamesischer Salat
A81: =SUM(Beilage!A4) -> 0.16 | B81: =Beilage!B4 -> Kg | C81: =Beilage!C4 -> Parfümreis / Jasmine Reis
A82: =SUM(Beilage!A5) -> 0 | B82: =Beilage!B5 -> 0 | C82: =Beilage!C5 -> 0 | D82: =Beilage!D5 -> 0
A83: =SUM(Beilage!A6) -> 0 | B83: =Beilage!B6 -> 0 | C83: =Beilage!C6 -> Karotten-Salat | D83: =Beilage!D6 -> 0
A84: =SUM(Beilage!A7) -> 2.67 | B84: =Beilage!B7 -> St | C84: =Beilage!C7 -> Rüebli | D84: =Beilage!D7 -> 0
A85: =SUM(Beilage!A8) -> 0.67 | B85: =Beilage!B8 -> St | C85: =Beilage!C8 -> Kohlrabi | D85: =Beilage!D8 -> 0
A86: =SUM(Beilage!A9) -> 0.33 | B86: =Beilage!B9 -> St | C86: =Beilage!C9 -> Zwiebel | D86: =Beilage!D9 -> 0
A87: =SUM(Beilage!A10) -> 0.33 | B87: =Beilage!B10 -> St | C87: =Beilage!C10 -> Zitrone | D87: =Beilage!D10 -> 0
A88: =SUM(Beilage!A11) -> 0 | B88: =Beilage!B11 -> 0 | C88: =Beilage!C11 -> Koriander / Minze / getrocknete Erdnüsse | D88: =Beilage!D11 -> 0
A89: =SUM(Beilage!A12) -> 0 | B89: =Beilage!B12 -> 0 | C89: =Beilage!C12 -> Salz | D89: =Beilage!D12 -> 0
A90: =SUM(Beilage!A13) -> 1.33 | B90: =Beilage!B13 -> TL | C90: =Beilage!C13 -> Zucker | D90: =Beilage!D13 -> 0
A91: =SUM(Beilage!A14) -> 0 | B91: =Beilage!B14 -> 0 | C91: =Beilage!C14 -> 0 | D91: =Beilage!D14 -> 0
A92: =SUM(Beilage!A15) -> 0 | B92: =Beilage!B15 -> 0 | C92: =Beilage!C14 -> 0 | D92: =Beilage!D15 -> 0
A93: =SUM(Beilage!A16) -> 0 | B93: =Beilage!B16 -> 0 | C93: =Beilage!C16 -> 0 | D93: =Beilage!D16 -> 0
A94: =SUM(Beilage!A17) -> 0 | B94: =Beilage!B17 -> 0 | C94: =Beilage!C17 -> 0 | D94: =Beilage!D17 -> 0
A95: =SUM(Beilage!A18) -> 0 | B95: =Beilage!B18 -> 0 | C95: =Beilage!C18 -> 0 | D95: =Beilage!D18 -> 0
A96: =SUM(Beilage!A19) -> 0 | B96: =Beilage!B19 -> 0 | C96: =Beilage!C19 -> 0 | D96: =Beilage!D19 -> 0
A97: =SUM(Beilage!A20) -> 0 | B97: =Beilage!B20 -> 0 | C97: =Beilage!C20 -> 0 | D97: =Beilage!D20 -> 0
A98: =Dessert!A2 -> Vietnamesischer Obstsalat mit Joghurt "Hoa Quua Dam" | D98: Bemerkungen
A99: =SUM(Dessert!A4) -> 0.67 | B99: =Dessert!B4 -> St | C99: =Dessert!C4 -> Kiwi | D99: =Dessert!D4 -> 0
A100: =SUM(Dessert!A5) -> 0.67 | B100: =Dessert!B5 -> St | C100: =Dessert!C5 -> Mango | D100: =Dessert!D5 -> 0
A101: =SUM(Dessert!A6) -> 0.67 | B101: =Dessert!B6 -> St | C101: =Dessert!C6 -> Drachenfrucht | D101: =Dessert!D6 -> 0
A102: =SUM(Dessert!A7) -> 0.17 | B102: =Dessert!B7 -> St | C102: =Dessert!C7 -> Melone | D102: =Dessert!D7 -> 0
A103: =SUM(Dessert!A8) -> 0.07 | B103: =Dessert!B8 -> Kg | C103: =Dessert!C8 -> Erdbeeren | D103: =Dessert!D8 -> 0
A104: =SUM(Dessert!A9) -> 0.07 | B104: =Dessert!B9 -> Kg | C104: =Dessert!C9 -> Weintrauben | D104: =Dessert!D9 -> 0
A105: =SUM(Dessert!A10) -> 2.67 | B105: =Dessert!B10 -> EL | C105: =Dessert!C10 -> Kokosmilch | D105: =Dessert!D10 -> 0
A106: =SUM(Dessert!A11) -> 2.67 | B106: =Dessert!B11 -> El | C106: =Dessert!C11 -> Joghurt nature | D106: =Dessert!D11 -> 0
A107: =SUM(Dessert!A12) -> 0 | B107: =Dessert!B12 -> 0 | C107: =Dessert!C12 -> (Gewicht alles ca. Angaben) | D107: =Dessert!D12 -> 0
A108: =SUM(Dessert!A13) -> 0 | B108: =Dessert!B13 -> 0 | C108: =Dessert!C13 -> 0 | D108: =Dessert!D13 -> 0
A109: =SUM(Dessert!A14) -> 0 | B109: =Dessert!B14 -> 0 | C109: =Dessert!C14 -> 0 | D109: =Dessert!D14 -> 0
A110: =SUM(Dessert!A15) -> 0 | B110: =Dessert!B15 -> 0 | C110: =Dessert!C15 -> 0 | D110: =Dessert!D15 -> 0
... A115: =SUM(Dessert!A20) -> 0 | B115: =Dessert!B20 -> 0 | C115: =Dessert!C20 -> 0 | D115: =Dessert!D20 -> 0
A117: =FischSauce!A2 -> Fisch-Dip - nuoc mam cham
A118: =SUM(FischSauce!A4) -> 1 | B118: =FischSauce!B4 -> St | C118: =FischSauce!C4 -> Knoblauchzehe | D118: =FischSauce!D4 -> 0
A119: =SUM(FischSauce!A5) -> 1 | B119: =FischSauce!B5 -> St | C119: =FischSauce!C5 -> Chilischote (nach Geschmack) | D119: =FischSauce!D5 -> 0
A120: =SUM(FischSauce!A6) -> 2 | B120: =FischSauce!B6 -> EL | C120: =FischSauce!C6 -> Zucker | D120: =FischSauce!D6 -> 0
A121: =SUM(FischSauce!A7) -> 4 | B121: =FischSauce!B7 -> EL | C121: =FischSauce!C7 -> Fischsauce „nước mắm“ | D121: =FischSauce!D7 -> 0
A122: =SUM(FischSauce!A8) -> 8 | B122: =FischSauce!B8 -> EL | C122: =FischSauce!C8 -> Wasser | D122: =FischSauce!D8 -> 0
A123: =SUM(FischSauce!A9) -> 1 | B123: =FischSauce!B9 -> St | C123: =FischSauce!C9 -> Limette | D123: =FischSauce!D9 -> 0
A124: =SUM(FischSauce!A10) -> 0 | B124: =FischSauce!B10 -> 0 | C124: =FischSauce!C10 -> Pfeffer gemahlen | D124: =FischSauce!D10 -> 0
A125: =SUM(FischSauce!A11) -> 0 | B125: =FischSauce!B11 -> 0 | C125: =FischSauce!C11 -> 0 | D125: =FischSauce!D11 -> 0
A126: =SUM(FischSauce!A12) -> 0 | B126: =FischSauce!B12 -> 0 | C126: =FischSauce!C12 -> 0 | D126: =FischSauce!D12 -> 0
...
