Workbook

Sheet Menu
B1: Wallis - Valais
A3: Datum | B3: 42670
A5: Apéro | B5: Brisolée
A7: Vorspeise | B7: Cholera mit Salat
A9: Hauptgang | B9: Hirsch Involtini
A10: Beilage1 | B10: Spätzli mit Safran von Mund
A11: Beilage2 | B11: Rosenkohl
A13: Dessert | B13: Aprikosen-Kompott mit Mandel-Mascarpone
A15: Diverses
A17: Menu von Tisch | B17: D
A19: Personenzahl | B19: 4

Sheet Apéro
E1: Chochete vom | F1: =SUM(Menu!B3) -> 42670 | I1: Original Rezept
A2: =Menu!B5 -> Brisolée | E2: Rezept für | F2: =Menu!B19 -> 4 | I2: 4 | J2: Personen
A3: Menge | B3: Einheit | C3: Artikel (Gewicht alles ca. Angaben) | D3: Bemerkungen | E3: Einkaufspreis | F3: Betrag | I3: Originalrezept | J3: pro Person
A4: =ROUND(SUM(J4*$F$2),2) -> 0.4 | B4: Kg | C4: Kastanien | I4: 0.4 | J4: =I4/$I$2 -> 0.1
A5: =ROUND(SUM(J5*$F$2),2) -> 0.3 | B5: Kg | C5: Walliser Alpkäse | F5: =SUM(E5*A5) -> 0 | I5: 0.3 | J5: =I5/$I$2 -> 0.075
A6: =ROUND(SUM(J6*$F$2),2) -> 0.2 | B6: Kg | C6: Walliser Trockenfleisch IGP | F6: =SUM(E6*A6) -> 0 | I6: 0.2 | J6: =I6/$I$2 -> 0.05
A7: =ROUND(SUM(J7*$F$2),2) -> 0.2 | B7: Kg | C7: Walliser Roggenbrot AOC | F7: =SUM(E7*A7) -> 0 | I7: 0.2 | J7: =I7/$I$2 -> 0.05
A8: =ROUND(SUM(J8*$F$2),2) -> 0 | J8: =I8/$I$2 -> 0
A9: =ROUND(SUM(J9*$F$2),2) -> 0.3 | B9: Kg | C9: Trauben | F9: =SUM(E9*A9) -> 0 | I9: 0.3 | J9: =I9/$I$2 -> 0.075
A10: =ROUND(SUM(J10*$F$2),2) -> 2 | B10: Stk | C10: Walliser Äpfel | F10: =SUM(E10*A10) -> 0 | I10: 2 | J10: =I10/$I$2 -> 0.5
A11: =ROUND(SUM(J11*$F$2),2) -> 2 | B11: Stk | C11: Walliser Birnen | F11: =SUM(E11*A11) -> 0 | I11: 2 | J11: =I11/$I$2 -> 0.5
A12: 2 | B12: Flaschen | C12: Johannesberg | I12: 0 | J12: =I12/$I$2 -> 0
A13: =ROUND(SUM(J13*$F$2),2) -> 1 | B13: Lt | C13: Apfelsaft | F13: =SUM(E13*A13) -> 0 | I13: 1 | J13: =I13/$I$2 -> 0.25
A14: =ROUND(SUM(J14*$F$2),2) -> 0 | F14: =SUM(E14*A14) -> 0 | J14: =I14/$I$2 -> 0
A15: =ROUND(SUM(J15*$F$2),2) -> 0 | F15: =SUM(E15*A15) -> 0 | J15: =I15/$I$2 -> 0
A16: =ROUND(SUM(J16*$F$2),2) -> 0 | F16: =SUM(E16*A16) -> 0 | J16: =I16/$I$2 -> 0
A17: =ROUND(SUM(J17*$F$2),2) -> 0 | F17: =SUM(E17*A17) -> 0 | J17: =I17/$I$2 -> 0
A18: =ROUND(SUM(J18*$F$2),2) -> 0 | F18: =SUM(E18*A18) -> 0 | J18: =I18/$I$2 -> 0
A19: =ROUND(SUM(J19*$F$2),2) -> 0 | F19: =SUM(E19*A19) -> 0 | J19: =I19/$I$2 -> 0
A20: =ROUND(SUM(J20*$F$2),2) -> 0 | F20: =SUM(E20*A20) -> 0 | J20: =I20/$I$2 -> 0
A21: Zubereitung
A22: Kastanien ins mit Wasser gefüllte Spülbecken legen. Kastanien, die obenauf schwimmen, ausscheiden (sind faul oder wurmstichig).
A23: Kastanien mit dem Messer einschneiden, damit sie anschliessend leichter geöffnet werden können.
A24: In einer gelochten Gusseisenpfanne je nach Grösse während 20 bis 30 Minuten rösten (am besten über dem Holzfeuer).
A25: Sofort mit folgenden Beilagen servieren: Käse, Trockenfleisch, Roggenbrot mit Butter und Früchten.
A26: Getränk: Junger Wein oder Most

Sheet Vorspeise
E1: Chochete vom | F1: =SUM(Menu!B3) -> 42670 | I1: Original Rezept
A2: =Menu!B7 -> Cholera mit Salat | E2: Rezept für | F2: =Menu!B19 -> 4 | I2: 4 | J2: Personen
A3: Menge | B3: Einheit | C3: Artikel (Gewicht alles ca. Angaben) | D3: Bemerkungen | E3: Einkaufspreis | F3: Betrag | I3: Originalrezept | J3: pro Person
A4: =ROUND(SUM(J4*$F$2),2) -> 0.11 | B4: Kg | C4: Butter kalt | D4: Teig, und so wirds gemacht: | F4: =SUM(E4*A4) -> 0 | I4: 0.11 | J4: =I4/$I$2 -> 0.0275
A5: =ROUND(SUM(J5*$F$2),2) -> 0.3 | B5: Kg | C5: Mehl | D5: Mehl und Salz in einer Schüssel mischen. Butter beigeben, von Hand zu einer gleichmässig krümeligen Masse verreiben. Wasser dazugiessen, rasch zu einem weichen Teig zusammenfügen, nicht kneten. Teig flach drücken, zugedeckt ca. 30 Min. kühl stellen | I5: 0.3 | J5: =I5/$I$2 -> 0.075
A6: =ROUND(SUM(J6*$F$2),2) -> 1 | B6: TL | C6: Salz | I6: 1 | J6: =I6/$I$2 -> 0.25
A7: =ROUND(SUM(J7*$F$2),2) -> 0.15 | B7: LT | C7: Wasser | I7: 0.15 | J7: =I7/$I$2 -> 0.0375
A8: =ROUND(SUM(J8*$F$2),2) -> 0 | J8: =I8/$I$2 -> 0
A9: =ROUND(SUM(J9*$F$2),2) -> 0 | C9: Füllung | F9: =SUM(E9*A9) -> 0 | J9: =I9/$I$2 -> 0
A10: =ROUND(SUM(J10*$F$2),2) -> 1 | B10: EL | C10: Butter | F10: =SUM(E10*A10) -> 0 | I10: 1 | J10: =I10/$I$2 -> 0.25
A11: =ROUND(SUM(J11*$F$2),2) -> 0.4 | B11: Kg | C11: Lauch in feine Streifen | F11: =SUM(E11*A11) -> 0 | I11: 0.4 | J11: =I11/$I$2 -> 0.1
A12: =ROUND(SUM(J12*$F$2),2) -> 2 | B12: Stk | C12: Aepfel(z. B. Braeburn), geviertelt, in Scheibchen | F12: =SUM(E12*A12) -> 0 | I12: 2 | J12: =I12/$I$2 -> 0.5
A13: =ROUND(SUM(J13*$F$2),2) -> 0.25 | B13: Kg | C13: Gschwellti (fest kochende Sorte) vom Vortag, geschält, in ca. 4 mm dicken Scheiben | F13: =SUM(E13*A13) -> 0 | I13: 0.25 | J13: =I13/$I$2 -> 0.0625
A14: =ROUND(SUM(J14*$F$2),2) -> 0 | F14: =SUM(E14*A14) -> 0 | J14: =I14/$I$2 -> 0
A15: =ROUND(SUM(J15*$F$2),2) -> 0.3 | B15: Kg | C15: Walliser Bergkäse (z. B. von Pro Montagna von Coop), grob gerieben | F15: =SUM(E15*A15) -> 0 | I15: 0.3 | J15: =I15/$I$2 -> 0.075
A16: =ROUND(SUM(J16*$F$2),2) -> 1 | B16: Stk | C16: Ei, verklopft, zum Bestreichen | F16: =SUM(E16*A16) -> 0 | I16: 1 | J16: =I16/$I$2 -> 0.25
A17: =ROUND(SUM(J17*$F$2),2) -> 0.1 | B17: Lt | C17: Wasser | F17: =SUM(E17*A17) -> 0 | I17: 0.1 | J17: =I17/$I$2 -> 0.025
A18: =ROUND(SUM(J18*$F$2),2) -> 1.5 | B18: TL | C18: Muskat | F18: =SUM(E18*A18) -> 0 | I18: 1.5 | J18: =I18/$I$2 -> 0.375 | O18: §
A19: =ROUND(SUM(J19*$F$2),2) -> 0 | F19: =SUM(E19*A19) -> 0 | J19: =I19/$I$2 -> 0
A20: =ROUND(SUM(J20*$F$2),2) -> 4 | B20: Pr | C20: Portionen Salat mit Sauce | F20: =SUM(E20*A20) -> 0 | I20: 4 | J20: =I20/$I$2 -> 1
A21: Zubereitung
A22: 1. Butter in einer Pfanne warm werden lassen. Lauch andämpfen, Wasser dazugiessen, zugedeckt ca. 8 Min. köcheln. Offen fertig köcheln, bis die Flüssigkeit verdampft ist, auskühlen. Äpfel und Kartoffeln beigeben, mischen, würzen.
A24: 2. 2/3 des Teiges zwischen Klarsichtfolie ca. 3 mm dick, rund auswallen. So in die vorbereitete Form legen, dass ein Rand von ca. 5 cm entsteht, gut andrücken. Boden mit einer Gabel dicht einstechen. Für den Deckel den restlichen Teig zwischen Klarsichtfolie ca. 3 mm dick, rund auswallen, beiseite legen.
A26: 3. Die Hälfte der Füllung auf dem Teigboden verteilen, die Hälfte des Käses darüberstreuen, restliche Füllung darauf verteilen, mit restlichem Käse bestreuen. Teigrand mit Ei bestreichen. Teigdeckel auf die Füllung legen, Ränder leicht andrücken. Teig mit einer Gabel einstechen, mit Ei bestreichen.
A29: Für eine Springform von ca. 24 cm, gefettet
A30: ca. 45 Min. in der unteren Hälfte des auf 200 Grad vorgeheizten Ofens. Herausnehmen, auf einem Gitter etwas abkühlen, lauwarm oder kalt servieren.

Sheet Hauptgang 
E1: Chochete vom | F1: =SUM(Menu!B3) -> 42670 | I1: Original Rezept
A2: =Menu!B9 -> Hirsch Involtini | E2: Rezept für | F2: =Menu!B19 -> 4 | I2: 4 | J2: Personen
A3: Menge | B3: Einheit | C3: Artikel (Gewicht alles ca. Angaben) | D3: Bemerkungen | E3: Einkaufspreis | F3: Betrag | I3: Originalrezept | J3: pro Person
A4: =ROUND(SUM(J4*$F$2),2) -> 8 | B4: Stk | C4: Hirschschnitzel (je ca. 60 - 80g) | D4: 2/Pers. | F4: =SUM(E4*A4) -> 0 | I4: 8 | J4: =I4/$I$2 -> 2
A5: =ROUND(SUM(J5*$F$2),2) -> 0.5 | B5: TL | C5: Salz | F5: =SUM(E5*A5) -> 0 | I5: 0.5 | J5: =I5/$I$2 -> 0.125
A6: =ROUND(SUM(J6*$F$2),2) -> 1 | B6: EL | C6: Senf | F6: =SUM(E6*A6) -> 0 | I6: 1 | J6: =I6/$I$2 -> 0.25
A7: =ROUND(SUM(J7*$F$2),2) -> 1 | B7: Stk | C7: Birne, in Schnitzchen | F7: =SUM(E7*A7) -> 0 | I7: 1 | J7: =I7/$I$2 -> 0.25
A8: =ROUND(SUM(J8*$F$2),2) -> 0.06 | B8: Kg | C8: Bergkäse, in Stängeln | F8: =SUM(E8*A8) -> 0 | I8: 0.06 | J8: =I8/$I$2 -> 0.015
A9: =ROUND(SUM(J9*$F$2),2) -> 0 | C9: Öl zum Braten | F9: =SUM(E9*A9) -> 0 | J9: =I9/$I$2 -> 0
A10: =ROUND(SUM(J10*$F$2),2) -> 0.1 | B10: LT | C10: Rotwein | F10: =SUM(E10*A10) -> 0 | I10: 0.1 | J10: =I10/$I$2 -> 0.025
A11: =ROUND(SUM(J11*$F$2),2) -> 0.05 | B11: Kg | C11: Johannisbeergelee | F11: =SUM(E11*A11) -> 0 | I11: 0.05 | J11: =I11/$I$2 -> 0.0125
A12: =ROUND(SUM(J12*$F$2),2) -> 0.1 | B12: LT | C12: Rahm | F12: =SUM(E12*A12) -> 0 | I12: 0.1 | J12: =I12/$I$2 -> 0.025
A13: =ROUND(SUM(J13*$F$2),2) -> 0.1 | B13: Lt | C13: Bouillon | F13: =SUM(E13*A13) -> 0 | I13: 0.1 | J13: =I13/$I$2 -> 0.025
A14: =ROUND(SUM(J14*$F$2),2) -> 0 | C14: Salz wenig | F14: =SUM(E14*A14) -> 0 | J14: =I14/$I$2 -> 0
A15: =ROUND(SUM(J15*$F$2),2) -> 0 | F15: =SUM(E15*A15) -> 0 | J15: =I15/$I$2 -> 0
A16: =ROUND(SUM(J16*$F$2),2) -> 0 | F16: =SUM(E16*A16) -> 0 | J16: =I16/$I$2 -> 0
A17: =ROUND(SUM(J17*$F$2),2) -> 0 | F17: =SUM(E17*A17) -> 0 | J17: =I17/$I$2 -> 0
A18: =ROUND(SUM(J18*$F$2),2) -> 0 | F18: =SUM(E18*A18) -> 0 | J18: =I18/$I$2 -> 0
A19: =ROUND(SUM(J19*$F$2),2) -> 0 | F19: =SUM(E19*A19) -> 0 | J19: =I19/$I$2 -> 0
A20: =ROUND(SUM(J20*$F$2),2) -> 0 | F20: =SUM(E20*A20) -> 0 | J20: =I20/$I$2 -> 0
A21: Zubereitung
A22: Schnitzel salzen, eine Seite davon mit Senf bestreichen, Birne und Käse darauflegen. Schnitzel satt aufrollen, mit je einem Zahnstocher fixieren. Öl in einer Bratpfanne heiss werden lassen. Involtini portionenweise rundum ca. 4 Min. anbraten. Herausnehmen. Wein in dieselbe Pfanne giessen, Bratsatz lösen. Gelee beigeben, Bouillon und Rahm dazugiessen, aufkochen. Hitze reduzieren, ca. 2 Min. köcheln. Involtini beigeben, nur noch heiss werden lassen

Sheet Beilage1
E1: Chochete vom | F1: =SUM(Menu!B3) -> 42670 | I1: Original Rezept
A2: =Menu!B10 -> Spätzli mit Safran von Mund | E2: Rezept für | F2: =Menu!B19 -> 4 | I2: 4 | J2: Personen
A3: Menge | B3: Einheit | C3: Artikel (Gewicht alles ca. Angaben) | D3: Bemerkungen | E3: Einkaufspreis | F3: Betrag | I3: Originalrezept | J3: pro Person
A4: =ROUND(SUM(J4*$F$2),2) -> 0.15 | B4: LT | C4: Wasser oder Milch | F4: =SUM(E4*A4) -> 0 | I4: 0.15 | J4: =I4/$I$2 -> 0.0375
A5: =ROUND(SUM(J5*$F$2),2) -> 0.3 | B5: Kg | C5: Knöpflimehl | F5: =SUM(E5*A5) -> 0 | I5: 0.3 | J5: =I5/$I$2 -> 0.075
A6: =ROUND(SUM(J6*$F$2),2) -> 3 | B6: Stk | C6: Eier | F6: =SUM(E6*A6) -> 0 | I6: 3 | J6: =I6/$I$2 -> 0.75
A7: =ROUND(SUM(J7*$F$2),2) -> 1 | B7: Briefli | C7: Safran | F7: =SUM(E7*A7) -> 0 | I7: 1 | J7: =I7/$I$2 -> 0.25
C8: Butter zum Braten. | F8: =SUM(E8*A8) -> 0 | I8: 0.05 | J8: =I8/$I$2 -> 0.0125
A9: =ROUND(SUM(J9*$F$2),2) -> 0 | F9: =SUM(E9*A9) -> 0 | J9: =I9/$I$2 -> 0
A10: =ROUND(SUM(J10*$F$2),2) -> 0 | F10: =SUM(E10*A10) -> 0 | J10: =I10/$I$2 -> 0
A11: =ROUND(SUM(J11*$F$2),2) -> 0 | F11: =SUM(E11*A11) -> 0 | J11: =I11/$I$2 -> 0
A12: =ROUND(SUM(J12*$F$2),2) -> 0 | F12: =SUM(E12*A12) -> 0 | J12: =I12/$I$2 -> 0
A13: =ROUND(SUM(J13*$F$2),2) -> 0 | F13: =SUM(E13*A13) -> 0 | J13: =I13/$I$2 -> 0
A14: =ROUND(SUM(J14*$F$2),2) -> 0 | F14: =SUM(E14*A14) -> 0 | J14: =I14/$I$2 -> 0
A15: =ROUND(SUM(J15*$F$2),2) -> 0 | F15: =SUM(E15*A15) -> 0 | J15: =I15/$I$2 -> 0
A16: =ROUND(SUM(J16*$F$2),2) -> 0 | F16: =SUM(E16*A16) -> 0 | J16: =I16/$I$2 -> 0
A17: =ROUND(SUM(J17*$F$2),2) -> 0 | F17: =SUM(E17*A17) -> 0 | J17: =I17/$I$2 -> 0
A18: =ROUND(SUM(J18*$F$2),2) -> 0 | F18: =SUM(E18*A18) -> 0 | J18: =I18/$I$2 -> 0
A19: =ROUND(SUM(J19*$F$2),2) -> 0 | F19: =SUM(E19*A19) -> 0 | J19: =I19/$I$2 -> 0
A20: =ROUND(SUM(J20*$F$2),2) -> 0 | F20: =SUM(E20*A20) -> 0 | J20: =I20/$I$2 -> 0
A21: Zubereitung
A22: Die Eier und Milch/Wasser sehr gut schlagen, Safran beigeben.
A23: verklopfen, auf einmal dazugiessen, mit einer Kelle mischen und so lange klopfen, bis der Teig glänzt und Blasen wirft. Zugedeckt bei Raumtemperatur ca. 30 Min. stehen lassen. Teig portionenweise auf nassem Stielbrettchen ausstreichen. Mit langem, glattem Messer schmale Teigstreifen vom Brettchen direkt ins leicht siedende Wasser schneiden oder durchs Spätzlisieb streichen. Sobald eine Portion verarbeitet ist und die Spätzli an die Oberfläche steigen, mit einer Schaumkelle herausnehmen, abtropfen und im kalten Wasser abschrecken. Zum Servieren in wenig Butter anbraten.

Sheet Beilage2
E1: Chochete vom | F1: =SUM(Menu!B3) -> 42670 | I1: Original Rezept
A2: =Menu!B11 -> Rosenkohl | E2: Rezept für | F2: 4 | I2: 4 | J2: Personen
A3: Menge | B3: Einheit | C3: Artikel (Gewicht alles ca. Angaben) | D3: Bemerkungen | E3: Einkaufspreis | F3: Betrag | I3: Originalrezept | J3: pro Person
A4: =ROUND(SUM(J4*$F$2),2) -> 0.4 | C4: Rosenkohl | F4: =SUM(E4*A4) -> 0 | I4: 0.4 | J4: =I4/$I$2 -> 0.1
A5: =ROUND(SUM(J5*$F$2),2) -> 1 | C5: Zwiebel | F5: =SUM(E5*A5) -> 0 | I5: 1 | J5: =I5/$I$2 -> 0.25
A6: =ROUND(SUM(J6*$F$2),2) -> 1 | C6: Knoblauchzehen | F6: =SUM(E6*A6) -> 0 | I6: 1 | J6: =I6/$I$2 -> 0.25
A7: =ROUND(SUM(J7*$F$2),2) -> 0 | F7: =SUM(E7*A7) -> 0 | J7: =I7/$I$2 -> 0
A8: =ROUND(SUM(J8*$F$2),2) -> 0 | F8: =SUM(E8*A8) -> 0 | J8: =I8/$I$2 -> 0
A9: =ROUND(SUM(J9*$F$2),2) -> 0 | F9: =SUM(E9*A9) -> 0 | J9: =I9/$I$2 -> 0
A10: =ROUND(SUM(J10*$F$2),2) -> 0 | F10: =SUM(E10*A10) -> 0 | J10: =I10/$I$2 -> 0
A11: =ROUND(SUM(J11*$F$2),2) -> 0 | F11: =SUM(E11*A11) -> 0 | J11: =I11/$I$2 -> 0
A12: =ROUND(SUM(J12*$F$2),2) -> 0 | F12: =SUM(E12*A12) -> 0 | J12: =I12/$I$2 -> 0
A13: =ROUND(SUM(J13*$F$2),2) -> 0 | F13: =SUM(E13*A13) -> 0 | J13: =I13/$I$2 -> 0
A14: =ROUND(SUM(J14*$F$2),2) -> 0 | F14: =SUM(E14*A14) -> 0 | J14: =I14/$I$2 -> 0
A15: =ROUND(SUM(J15*$F$2),2) -> 0 | F15: =SUM(E15*A15) -> 0 | J15: =I15/$I$2 -> 0
A16: =ROUND(SUM(J16*$F$2),2) -> 0 | F16: =SUM(E16*A16) -> 0 | J16: =I16/$I$2 -> 0
A17: =ROUND(SUM(J17*$F$2),2) -> 0 | F17: =SUM(E17*A17) -> 0 | J17: =I17/$I$2 -> 0
A18: =ROUND(SUM(J18*$F$2),2) -> 0 | F18: =SUM(E18*A18) -> 0 | J18: =I18/$I$2 -> 0
... A20: =ROUND(SUM(J20*$F$2),2) -> 0 | F20: =SUM(E20*A20) -> 0 | J20: =I20/$I$2 -> 0
A21: Zubereitung
A22: Rosenkohl nach eigenem "Gusto" zubereiten und als Beilage servieren.

Sheet Dessert
E1: Chochete vom | F1: =SUM(Menu!B3) -> 42670 | I1: Original Rezept
A2: =Menu!B13 -> Aprikosen-Kompott mit Mandel-Mascarpone | E2: Rezept für | F2: =Menu!B19 -> 4 | I2: 4 | J2: Personen
A3: Menge | B3: Einheit | C3: Artikel (Gewicht alles ca. Angaben) | D3: Bemerkungen | E3: Einkaufspreis | F3: Betrag | I3: Originalrezept | J3: pro Person
A4: =ROUND(SUM(J4*$F$2),2) -> 0.25 | B4: Kg | C4: Aprikosen | F4: =SUM(E4*A4) -> 0 | I4: 0.25 | J4: =I4/$I$2 -> 0.0625
A5: =ROUND(SUM(J5*$F$2),2) -> 0.04 | B5: Kg | C5: Honig | F5: =SUM(E5*A5) -> 0 | I5: 0.04 | J5: =I5/$I$2 -> 0.01
A6: =ROUND(SUM(J6*$F$2),2) -> 1 | B6: Stk | C6: Zimstange | F6: =SUM(E6*A6) -> 0 | I6: 1 | J6: =I6/$I$2 -> 0.25
A7: =ROUND(SUM(J7*$F$2),2) -> 0.15 | B7: Lt | C7: Orangensaft | F7: =SUM(E7*A7) -> 0 | I7: 0.15 | J7: =I7/$I$2 -> 0.0375
A8: =ROUND(SUM(J8*$F$2),2) -> 0 | C8: Mandel-Mascarpone | F8: =SUM(E8*A8) -> 0 | J8: =I8/$I$2 -> 0
A9: =ROUND(SUM(J9*$F$2),2) -> 0.04 | B9: Kg | C9: Mandeln gemahlen / geschält | F9: =SUM(E9*A9) -> 0 | I9: 0.04 | J9: =I9/$I$2 -> 0.01
A10: =ROUND(SUM(J10*$F$2),2) -> 0.1 | B10: Lt | C10: Milch | F10: =SUM(E10*A10) -> 0 | I10: 0.1 | J10: =I10/$I$2 -> 0.025
A11: =ROUND(SUM(J11*$F$2),2) -> 0.15 | B11: Kg | C11: Mascarpone | F11: =SUM(E11*A11) -> 0 | I11: 0.15 | J11: =I11/$I$2 -> 0.0375
A12: =ROUND(SUM(J12*$F$2),2) -> 1 | B12: EL | C12: Grand-Marnier | F12: =SUM(E12*A12) -> 0 | I12: 1 | J12: =I12/$I$2 -> 0.25
A13: =ROUND(SUM(J13*$F$2),2) -> 2 | B13: Stk | C13: Eiweiss | F13: =SUM(E13*A13) -> 0 | I13: 2 | J13: =I13/$I$2 -> 0.5
A14: =ROUND(SUM(J14*$F$2),2) -> 1 | B14: Prise | C14: Salz | F14: =SUM(E14*A14) -> 0 | I14: 1 | J14: =I14/$I$2 -> 0.25
A15: =ROUND(SUM(J15*$F$2),2) -> 0.04 | B15: Kg | C15: Zucker | F15: =SUM(E15*A15) -> 0 | I15: 0.04 | J15: =I15/$I$2 -> 0.01
A16: =ROUND(SUM(J16*$F$2),2) -> 4 | B16: EL | C16: Mandelblättchen | F16: =SUM(E16*A16) -> 0 | I16: 4 | J16: =I16/$I$2 -> 1
A17: =ROUND(SUM(J17*$F$2),2) -> 2 | B17: El | C17: Kakaopulver zum Bestreuen | F17: =SUM(E17*A17) -> 0 | I17: 2 | J17: =I17/$I$2 -> 0.5
A18: =ROUND(SUM(J18*$F$2),2) -> 0 | F18: =SUM(E18*A18) -> 0 | J18: =I18/$I$2 -> 0
A19: =ROUND(SUM(J19*$F$2),2) -> 0 | F19: =SUM(E19*A19) -> 0 | J19: =I19/$I$2 -> 0
A20: =ROUND(SUM(J20*$F$2),2) -> 0 | F20: =SUM(E20*A20) -> 0 | J20: =I20/$I$2 -> 0
A21: Zubereitung
A22: 1.Die Aprikosen in Viertel schneiden, dabei den Stein entfernen. Mit dem Honig, der Zimtstange und dem Orangensaft in eine Pfanne geben. Alles aufkochen und zugedeckt auf kleinstem Feuer nur gerade knapp weich kochen. Auskühlen lassen. 2.Für den Mandel-Mascarpone die Mandeln mit der Milch aufkochen und auskühlen lassen. 3.Die Milchmandeln mit dem Mascarpone und dem Grand Marnier verrühren. Achtung: Nicht zu lange rühren, sonst flockt der Mascarpone aus. 4.Die Eiweiss mit einer Prise Salz steif schlagen. Nach und nach den Zucker beifügen und so lange weiterschlagen, bis ein fester glänzender Eischnee entstanden ist. 5.Die Zimtstange aus dem Kompott entfernen und dieses in Dessertgläser füllen. Den Eischnee unter die Mascarponecreme heben. Die Creme auf das Kompott in den Gläsern geben. Bis zum Servieren im Kühlschrank kalt stellen. 6.In einer Pfanne ohne Fettzugabe die Mandelblättchen goldbraun rösten. Auskühlen lassen. 7.Zum Servieren die Desserts mit Kakaopulver und den Mandelplättchen bestreuen.

Sheet Diverses
E1: Chochete vom | F1: =SUM(Menu!B3) -> 42670 | I1: Original Rezept
A2: =Menu!B15 -> 0 | E2: Rezept für | F2: =Menu!B19 -> 4 | I2: 4 | J2: Personen
A3: Menge | B3: Einheit | C3: Artikel (Gewicht alles ca. Angaben) | D3: Bemerkungen | E3: Einkaufspreis | F3: Betrag | I3: Originalrezept | J3: pro Person
A4: =ROUND(SUM(J4*$F$2),2) -> 1 | B4: Stk. | C4: Brot | F4: =SUM(E4*A4) -> 0 | I4: 1 | J4: =I4/$I$2 -> 0.25
A5: =ROUND(SUM(J5*$F$2),2) -> 0 | F5: =SUM(E5*A5) -> 0 | J5: =I5/$I$2 -> 0
A6: =ROUND(SUM(J6*$F$2),2) -> 0 | F6: =SUM(E6*A6) -> 0 | J6: =I6/$I$2 -> 0
A7: =ROUND(SUM(J7*$F$2),2) -> 0 | F7: =SUM(E7*A7) -> 0 | J7: =I7/$I$2 -> 0
A8: =ROUND(SUM(J8*$F$2),2) -> 0 | F8: =SUM(E8*A8) -> 0 | J8: =I8/$I$2 -> 0
A9: =ROUND(SUM(J9*$F$2),2) -> 0 | F9: =SUM(E9*A9) -> 0 | J9: =I9/$I$2 -> 0
A10: =ROUND(SUM(J10*$F$2),2) -> 0 | F10: =SUM(E10*A10) -> 0 | J10: =I10/$I$2 -> 0
A11: =ROUND(SUM(J11*$F$2),2) -> 0 | F11: =SUM(E11*A11) -> 0 | J11: =I11/$I$2 -> 0
A12: =ROUND(SUM(J12*$F$2),2) -> 0 | F12: =SUM(E12*A12) -> 0 | J12: =I12/$I$2 -> 0
A13: =ROUND(SUM(J13*$F$2),2) -> 0 | F13: =SUM(E13*A13) -> 0 | J13: =I13/$I$2 -> 0
A14: =ROUND(SUM(J14*$F$2),2) -> 0 | F14: =SUM(E14*A14) -> 0 | J14: =I14/$I$2 -> 0
A15: =ROUND(SUM(J15*$F$2),2) -> 0 | F15: =SUM(E15*A15) -> 0 | J15: =I15/$I$2 -> 0
A16: =ROUND(SUM(J16*$F$2),2) -> 0 | F16: =SUM(E16*A16) -> 0 | J16: =I16/$I$2 -> 0
... A20: =ROUND(SUM(J20*$F$2),2) -> 0 | F20: =SUM(E20*A20) -> 0 | J20: =I20/$I$2 -> 0
A21: Zubereitung

Sheet Einkaufsliste
A1: Hobby-Küche Zug | C1: Einkaufsliste | D1: =Dessert!F1 -> 42670 | E1: ok
A2: Menge | B2: Einheit | C2: Artikel
A3: =Apéro!A2 -> Brisolée | D3: Bemerkungen
A4: =SUM(Apéro!A4) -> 0.4 | B4: =Apéro!B4 -> Kg | C4: =Apéro!C4 -> Kastanien
A5: =SUM(Apéro!A5) -> 0.3 | B5: =Apéro!B5 -> Kg | C5: =Apéro!C5 -> Walliser Alpkäse
A6: =SUM(Apéro!A6) -> 0.2 | B6: =Apéro!B6 -> Kg | C6: =Apéro!C6 -> Walliser Trockenfleisch IGP
A7: =SUM(Apéro!A7) -> 0.2 | B7: =Apéro!B7 -> Kg | C7: =Apéro!C7 -> Walliser Roggenbrot AOC
A8: =SUM(Apéro!A8) -> 0 | B8: =Apéro!B8 -> 0 | C8: =Apéro!C8 -> 0
A9: =SUM(Apéro!A9) -> 0.3 | B9: =Apéro!B9 -> Kg | C9: =Apéro!C9 -> Trauben
A10: =SUM(Apéro!A10) -> 2 | B10: =Apéro!B10 -> Stk | C10: =Apéro!C10 -> Walliser Äpfel
A11: =SUM(Apéro!A11) -> 2 | B11: =Apéro!B11 -> Stk | C11: =Apéro!C11 -> Walliser Birnen
A12: =SUM(Apéro!A12) -> 2 | B12: =Apéro!B12 -> Flaschen | C12: =Apéro!C12 -> Johannesberg
A13: =SUM(Apéro!A13) -> 1 | B13: =Apéro!B13 -> Lt | C13: =Apéro!C13 -> Apfelsaft
A14: =SUM(Apéro!A14) -> 0 | B14: =Apéro!B14 -> 0 | C14: =Apéro!C14 -> 0 | D14: =Apéro!D14 -> 0
A15: =SUM(Apéro!A15) -> 0 | B15: =Apéro!B15 -> 0 | C15: =Apéro!C15 -> 0 | D15: =Apéro!D15 -> 0
A16: =SUM(Apéro!A16) -> 0 | B16: =Apéro!B16 -> 0 | C16: =Apéro!C16 -> 0 | D16: =Apéro!D16 -> 0
A17: =SUM(Apéro!A17) -> 0 | B17: =Apéro!B17 -> 0 | C17: =Apéro!C17 -> 0 | D17: =Apéro!D17 -> 0
A18: =SUM(Apéro!A18) -> 0 | B18: =Apéro!B18 -> 0 | C18: =Apéro!C18 -> 0 | D18: =Apéro!D18 -> 0
A19: =SUM(Apéro!A19) -> 0 | B19: =Apéro!B19 -> 0 | C19: =Apéro!C19 -> 0 | D19: =Apéro!D19 -> 0
A20: =SUM(Apéro!A20) -> 0 | B20: =Apéro!B20 -> 0 | C20: =Apéro!C20 -> 0 | D20: =Apéro!D20 -> 0
A21: =Vorspeise!A2 -> Cholera mit Salat | D21: Bemerkungen
A22: =SUM(Vorspeise!A4) -> 0.11 | B22: =Vorspeise!B4 -> Kg | C22: =Vorspeise!C4 -> Butter kalt
A23: =SUM(Vorspeise!A5) -> 0.3 | B23: =Vorspeise!B5 -> Kg | C23: =Vorspeise!C5 -> Mehl
A24: =SUM(Vorspeise!A6) -> 1 | B24: =Vorspeise!B6 -> TL | C24: =Vorspeise!C6 -> Salz | D24: =Vorspeise!D6 -> 0
A25: =SUM(Vorspeise!A7) -> 0.15 | B25: =Vorspeise!B7 -> LT | C25: =Vorspeise!C7 -> Wasser | D25: =Vorspeise!D7 -> 0
A26: =SUM(Vorspeise!A8) -> 0 | B26: =Vorspeise!B8 -> 0 | C26: =Vorspeise!C8 -> 0 | D26: =Vorspeise!D8 -> 0
A27: =SUM(Vorspeise!A9) -> 0 | B27: =Vorspeise!B9 -> 0 | C27: =Vorspeise!C9 -> Füllung | D27: =Vorspeise!D9 -> 0
A28: =SUM(Vorspeise!A10) -> 1 | B28: =Vorspeise!B10 -> EL | C28: =Vorspeise!C10 -> Butter | D28: =Vorspeise!D10 -> 0
A29: =SUM(Vorspeise!A11) -> 0.4 | B29: =Vorspeise!B11 -> Kg | C29: =Vorspeise!C11 -> Lauch in feine Streifen | D29: =Vorspeise!D11 -> 0
A30: =SUM(Vorspeise!A12) -> 2 | B30: =Vorspeise!B12 -> Stk | C30: =Vorspeise!C12 -> Aepfel(z. B. Braeburn), geviertelt, in Scheibchen
A31: =SUM(Vorspeise!A13) -> 0.25 | B31: =Vorspeise!B13 -> Kg | C31: =Vorspeise!C13 -> Gschwellti (fest kochende Sorte) vom Vortag, geschält, in ca. 4 mm dicken Scheiben
A32: =SUM(Vorspeise!A14) -> 0 | B32: =Vorspeise!B14 -> 0 | C32: =Vorspeise!C14 -> 0
A33: =SUM(Vorspeise!A15) -> 0.3 | B33: =Vorspeise!B15 -> Kg | C33: =Vorspeise!C15 -> Walliser Bergkäse (z. B. von Pro Montagna von Coop), grob gerieben
A34: =SUM(Vorspeise!A16) -> 1 | B34: =Vorspeise!B16 -> Stk | C34: =Vorspeise!C16 -> Ei, verklopft, zum Bestreichen
A35: =SUM(Vorspeise!A17) -> 0.1 | B35: =Vorspeise!B17 -> Lt | C35: =Vorspeise!C17 -> Wasser
A36: =SUM(Vorspeise!A18) -> 1.5 | B36: =Vorspeise!B18 -> TL | C36: =Vorspeise!C18 -> Muskat
A37: =SUM(Vorspeise!A19) -> 0 | B37: =Vorspeise!B19 -> 0
A38: =SUM(Vorspeise!A20) -> 4 | B38: =Vorspeise!B20 -> Pr | D38: =Vorspeise!D20 -> 0
A39: ='Hauptgang '!A2 -> Hirsch Involtini | D39: Bemerkungen
A40: =SUM('Hauptgang '!A4) -> 8 | B40: ='Hauptgang '!B4 -> Stk | C40: ='Hauptgang '!C4 -> Hirschschnitzel (je ca. 60 - 80g)
A41: =SUM('Hauptgang '!A5) -> 0.5 | B41: ='Hauptgang '!B5 -> TL | C41: ='Hauptgang '!C5 -> Salz | D41: ='Hauptgang '!D5 -> 0
A42: =SUM('Hauptgang '!A6) -> 1 | B42: ='Hauptgang '!B6 -> EL | C42: ='Hauptgang '!C6 -> Senf | D42: ='Hauptgang '!D6 -> 0
A43: =SUM('Hauptgang '!A7) -> 1 | B43: ='Hauptgang '!B7 -> Stk | C43: ='Hauptgang '!C7 -> Birne, in Schnitzchen | D43: ='Hauptgang '!D7 -> 0
A44: =SUM('Hauptgang '!A8) -> 0.06 | B44: ='Hauptgang '!B8 -> Kg | C44: ='Hauptgang '!C8 -> Bergkäse, in Stängeln | D44: ='Hauptgang '!D8 -> 0
A45: =SUM('Hauptgang '!A9) -> 0 | B45: ='Hauptgang '!B9 -> 0 | C45: ='Hauptgang '!C9 -> Öl zum Braten | D45: ='Hauptgang '!D9 -> 0
A46: =SUM('Hauptgang '!A10) -> 0.1 | B46: ='Hauptgang '!B10 -> LT | C46: ='Hauptgang '!C10 -> Rotwein | D46: ='Hauptgang '!D10 -> 0
A47: =SUM('Hauptgang '!A11) -> 0.05 | B47: ='Hauptgang '!B11 -> Kg | C47: ='Hauptgang '!C11 -> Johannisbeergelee | D47: ='Hauptgang '!D11 -> 0
A48: =SUM('Hauptgang '!A12) -> 0.1 | B48: ='Hauptgang '!B12 -> LT | C48: ='Hauptgang '!C12 -> Rahm | D48: ='Hauptgang '!D12 -> 0
A49: =SUM('Hauptgang '!A13) -> 0.1 | B49: ='Hauptgang '!B13 -> Lt | C49: ='Hauptgang '!C13 -> Bouillon | D49: ='Hauptgang '!D13 -> 0
A50: =SUM('Hauptgang '!A14) -> 0 | B50: ='Hauptgang '!B14 -> 0 | C50: ='Hauptgang '!C14 -> Salz wenig | D50: ='Hauptgang '!D14 -> 0
A51: =SUM('Hauptgang '!A15) -> 0 | B51: ='Hauptgang '!B15 -> 0 | C51: ='Hauptgang '!C15 -> 0 | D51: ='Hauptgang '!D15 -> 0
A52: =SUM('Hauptgang '!A16) -> 0 | B52: ='Hauptgang '!B16 -> 0 | C52: ='Hauptgang '!C16 -> 0 | D52: ='Hauptgang '!D16 -> 0
... A56: =SUM('Hauptgang '!A20) -> 0 | B56: ='Hauptgang '!B20 -> 0 | C56: ='Hauptgang '!C20 -> 0 | D56: ='Hauptgang '!D20 -> 0
A57: =Beilage1!A2 -> Spätzli mit Safran von Mund | D57: Bemerkungen
A58: =Beilage1!A4 -> 0.15 | B58: =Beilage1!B4 -> LT | C58: =Beilage1!C4 -> Wasser oder Milch | D58: =Beilage1!D4 -> 0
A59: =Beilage1!A5 -> 0.3 | B59: =Beilage1!B5 -> Kg | C59: =Beilage1!C5 -> Knöpflimehl | D59: =Beilage1!D5 -> 0
A60: =Beilage1!A6 -> 3 | B60: =Beilage1!B6 -> Stk | C60: =Beilage1!C6 -> Eier | D60: =Beilage1!D6 -> 0
A61: =Beilage1!A7 -> 1 | B61: =Beilage1!B7 -> Briefli | C61: =Beilage1!C7 -> Safran | D61: =Beilage1!D7 -> 0
A62: =Beilage1!A8 -> 0 | B62: =Beilage1!B8 -> 0 | C62: =Beilage1!C8 -> Butter zum Braten. | D62: =Beilage1!D8 -> 0
A63: =Beilage1!A9 -> 0 | B63: =Beilage1!B9 -> 0 | C63: =Beilage1!C9 -> 0 | D63: =Beilage1!D9 -> 0
A64: 0.6 | B64: Kg | C64: Butter | D64: je 200 gr pro Tisch
A65: =Beilage1!A11 -> 0 | B65: =Beilage1!B11 -> 0 | C65: =Beilage1!C11 -> 0 | D65: =Beilage1!D11 -> 0
A66: =Beilage1!A12 -> 0 | B66: =Beilage1!B12 -> 0 | C66: =Beilage1!C12 -> 0 | D66: =Beilage1!D12 -> 0
A67: =Beilage1!A13 -> 0 | B67: =Beilage1!B13 -> 0 | C67: =Beilage1!C13 -> 0 | D67: =Beilage1!D13 -> 0
A68: =Beilage1!A14 -> 0 | B68: =Beilage1!B14 -> 0 | C68: =Beilage1!C14 -> 0 | D68: =Beilage1!D14 -> 0
A69: =Beilage1!A15 -> 0 | B69: =Beilage1!B15 -> 0 | C69: =Beilage1!C15 -> 0 | D69: =Beilage1!D15 -> 0
A70: =Beilage1!A16 -> 0 | B70: =Beilage1!B16 -> 0 | C70: =Beilage1!C16 -> 0 | D70: =Beilage1!D16 -> 0
A71: =Beilage1!A17 -> 0 | B71: =Beilage1!B17 -> 0 | C71: =Beilage1!C17 -> 0 | D71: =Beilage1!D17 -> 0
A72: =Beilage1!A18 -> 0 | B72: =Beilage1!B18 -> 0 | C72: =Beilage1!C18 -> 0 | D72: =Beilage1!D18 -> 0
A73: =Beilage1!A19 -> 0 | B73: =Beilage1!B19 -> 0 | C73: =Beilage1!C19 -> 0 | D73: =Beilage1!D19 -> 0
A74: =Beilage1!A20 -> 0 | B74: =Beilage1!B20 -> 0 | C74: =Beilage1!C20 -> 0 | D74: =Beilage1!D20 -> 0
A75: =Beilage2!A2 -> Rosenkohl
A76: =SUM(Beilage2!A4) -> 0.4 | B76: =Beilage2!B4 -> 0 | C76: =Beilage2!C4 -> Rosenkohl | D76: =Beilage2!D4 -> 0
A77: =SUM(Beilage2!A5) -> 1 | B77: =Beilage2!B5 -> 0 | C77: =Beilage2!C5 -> Zwiebel | D77: =Beilage2!D5 -> 0
A78: =SUM(Beilage2!A6) -> 1 | B78: =Beilage2!B6 -> 0 | C78: =Beilage2!C6 -> Knoblauchzehen | D78: =Beilage2!D6 -> 0
A79: =SUM(Beilage2!A7) -> 0 | B79: =Beilage2!B7 -> 0 | C79: =Beilage2!C7 -> 0 | D79: =Beilage2!D7 -> 0
A80: =SUM(Beilage2!A8) -> 0 | B80: =Beilage2!B8 -> 0 | C80: =Beilage2!C8 -> 0 | D80: =Beilage2!D8 -> 0
A81: =SUM(Beilage2!A9) -> 0 | B81: =Beilage2!B9 -> 0 | C81: =Beilage2!C9 -> 0 | D81: =Beilage2!D9 -> 0
A82: =SUM(Beilage2!A10) -> 0 | B82: =Beilage2!B10 -> 0 | C82: =Beilage2!C10 -> 0 | D82: =Beilage2!D10 -> 0
A83: =SUM(Beilage2!A11) -> 0 | B83: =Beilage2!B11 -> 0 | C83: =Beilage2!C11 -> 0 | D83: =Beilage2!D11 -> 0
A84: =SUM(Beilage2!A12) -> 0 | B84: =Beilage2!B12 -> 0 | C84: =Beilage2!C12 -> 0 | D84: =Beilage2!D12 -> 0
A85: =SUM(Beilage2!A13) -> 0 | B85: =Beilage2!B13 -> 0 | C85: =Beilage2!C13 -> 0 | D85: =Beilage2!D13 -> 0
A86: =SUM(Beilage2!A14) -> 0 | B86: =Beilage2!B14 -> 0 | C86: =Beilage2!C14 -> 0 | D86: =Beilage2!D14 -> 0
A87: =SUM(Beilage2!A15) -> 0 | B87: =Beilage2!B15 -> 0 | C87: =Beilage2!C15 -> 0 | D87: =Beilage2!D15 -> 0
... A92: =SUM(Beilage2!A20) -> 0 | B92: =Beilage2!B20 -> 0 | C92: =Beilage2!C20 -> 0 | D92: =Beilage2!D20 -> 0
A93: =Dessert!A2 -> Aprikosen-Kompott mit Mandel-Mascarpone | D93: Bemerkungen
A94: =SUM(Dessert!A4) -> 0.25 | B94: =Dessert!B4 -> Kg | C94: =Dessert!C4 -> Aprikosen | D94: =Dessert!D4 -> 0
A95: =SUM(Dessert!A5) -> 0.04 | B95: =Dessert!B5 -> Kg | C95: =Dessert!C5 -> Honig | D95: =Dessert!D5 -> 0
A96: =SUM(Dessert!A6) -> 1 | B96: =Dessert!B6 -> Stk | C96: =Dessert!C6 -> Zimstange | D96: =Dessert!D6 -> 0
A97: =SUM(Dessert!A7) -> 0.15 | B97: =Dessert!B7 -> Lt | C97: =Dessert!C7 -> Orangensaft | D97: =Dessert!D7 -> 0
A98: =SUM(Dessert!A8) -> 0 | B98: =Dessert!B8 -> 0 | C98: =Dessert!C8 -> Mandel-Mascarpone | D98: =Dessert!D8 -> 0
A99: =SUM(Dessert!A9) -> 0.04 | B99: =Dessert!B9 -> Kg | C99: =Dessert!C9 -> Mandeln gemahlen / geschält | D99: =Dessert!D9 -> 0
A100: =SUM(Dessert!A10) -> 0.1 | B100: =Dessert!B10 -> Lt | C100: =Dessert!C10 -> Milch | D100: =Dessert!D10 -> 0
A101: =SUM(Dessert!A11) -> 0.15 | B101: =Dessert!B11 -> Kg | C101: =Dessert!C11 -> Mascarpone | D101: =Dessert!D11 -> 0
A102: =SUM(Dessert!A12) -> 1 | B102: =Dessert!B12 -> EL | C102: =Dessert!C12 -> Grand-Marnier
A103: =SUM(Dessert!A13) -> 2 | B103: =Dessert!B13 -> Stk | C103: =Dessert!C13 -> Eiweiss | D103: =Dessert!D13 -> 0
A104: =SUM(Dessert!A14) -> 1 | B104: =Dessert!B14 -> Prise | C104: =Dessert!C14 -> Salz | D104: =Dessert!D14 -> 0
A105: =SUM(Dessert!A15) -> 0.04 | B105: =Dessert!B15 -> Kg | C105: =Dessert!C15 -> Zucker | D105: =Dessert!D15 -> 0
A106: =SUM(Dessert!A16) -> 4 | B106: =Dessert!B16 -> EL | C106: =Dessert!C16 -> Mandelblättchen | D106: =Dessert!D16 -> 0
A107: =SUM(Dessert!A17) -> 2 | B107: =Dessert!B17 -> El | C107: =Dessert!C17 -> Kakaopulver zum Bestreuen | D107: =Dessert!D17 -> 0
...
