Workbook

Sheet Menu
B1: Kanton Zug
A3: Datum | B3: 42509
A5: Vorspeise 1 | B5: Apfel-Gemüsesalat
A7: Vorspeise 2 | B7: Saibling an Kräutersauce
A8: Beilage 1 | B8: Trockenreis
A10: Hauptgang | B10: Raffinierte Pouletplätzli
A11: Beilage 2 | B11: Rüebli und Broccoli
A13: Dessert | B13: Zitronencrème
A15: Menu von Tisch | B15: D
A17: Personenzahl | B17: 15

Sheet Vorspeise 1
E1: Chochete vom | F1: =SUM(Menu!B3) -> 42509 | I1: Original Rezept
A2: =Menu!B5 -> Apfel-Gemüsesalat | E2: Rezept für | F2: =Menu!B17 -> 15 | I2: 4 | J2: Personen | L2: Menu Angaben wie folgt machen:
A3: Menge | B3: Einheit | C3: Artikel (Gewicht alles ca. Angaben) | D3: Bemerkungen | E3: Einkaufspreis | F3: Betrag | I3: Originalrezept | J3: pro Person
A4: =ROUND(SUM(J4*$F$2),2) -> 0 | C4: Zutaten: | F4: =SUM(E4*A4) -> 0 | J4: =I4/$I$2 -> 0 | L4: Kg | M4: 0.25
A5: =ROUND(SUM(J5*$F$2),2) -> 0.56 | B5: Kg | C5: Rüebli | D5: 600 g | F5: =SUM(E5*A5) -> 0 | I5: 0.15 | J5: =I5/$I$2 -> 0.0375 | L5: Lt | M5: 1.25
A6: =ROUND(SUM(J6*$F$2),2) -> 0.56 | B6: Kg | C6: Knollensellerie | D6: 600 g | F6: =SUM(E6*A6) -> 0 | I6: 0.15 | J6: =I6/$I$2 -> 0.0375 | L6: TL | M6: Kaffeelöffel | P6: 4 | Q6: 6 | R6: =P6*Q6 -> 24
A7: =ROUND(SUM(J7*$F$2),2) -> 0.94 | B7: Kg | C7: Äpfel | D7: 1 Kg | F7: =SUM(E7*A7) -> 0 | I7: 0.25 | J7: =I7/$I$2 -> 0.0625 | L7: Bund | M7: 1
A8: =ROUND(SUM(J8*$F$2),2) -> 3.75 | B8: Stk | C8: Zitronen, Saft nach Belieben | D8: 3 Stk | F8: =SUM(E8*A8) -> 0 | I8: 1 | J8: =I8/$I$2 -> 0.25 | L8: Stk | M8: Stück
A9: =ROUND(SUM(J9*$F$2),2) -> 93.75 | B9: gr. | C9: Rosinen nach Belieben | D9: 100 g | F9: =SUM(E9*A9) -> 0 | I9: 25 | J9: =I9/$I$2 -> 6.25 | L9: Pä | M9: Päckli
A10: =ROUND(SUM(J10*$F$2),2) -> 0 | C10: Sauce: | J10: =I10/$I$2 -> 0
A11: =ROUND(SUM(J11*$F$2),2) -> 375 | B11: gr. | C11: Jogurt nature | D11: 3 x 180g | F11: =SUM(E11*A11) -> 0 | I11: 100 | J11: =I11/$I$2 -> 25 | L11: alles weitere ausschreiben
A12: =ROUND(SUM(J12*$F$2),2) -> 300 | B12: gr. | C12: Magerquark | I12: 80 | J12: =I12/$I$2 -> 20
A13: =ROUND(SUM(J13*$F$2),2) -> 3.75 | B13: EL | C13: Zitronensaft | F13: =SUM(E13*A13) -> 0 | I13: 1 | J13: =I13/$I$2 -> 0.25
A14: =ROUND(SUM(J14*$F$2),2) -> 3.75 | B14: EL | C14: Zucker | F14: =SUM(E14*A14) -> 0 | I14: 1 | J14: =I14/$I$2 -> 0.25
A15: =ROUND(SUM(J15*$F$2),2) -> 0 | C15: Salz | J15: =I15/$I$2 -> 0
A16: =ROUND(SUM(J16*$F$2),2) -> 0 | C16: Streuwürze | F16: =SUM(E16*A16) -> 0 | J16: =I16/$I$2 -> 0
A17: =ROUND(SUM(J17*$F$2),2) -> 0 | J17: =I17/$I$2 -> 0
A18: =ROUND(SUM(J18*$F$2),2) -> 0 | F18: =SUM(E18*A18) -> 0 | J18: =I18/$I$2 -> 0
A19: =ROUND(SUM(J19*$F$2),2) -> 0 | F19: =SUM(E19*A19) -> 0 | J19: =I19/$I$2 -> 0
A20: =ROUND(SUM(J20*$F$2),2) -> 0 | F20: =SUM(E20*A20) -> 0 | J20: =I20/$I$2 -> 0
J21: =I21/$I$2 -> 0
A22: Zubereitung Apfel-Gemüsesalat
A23: - Rüebli und Sellerie in feine Stifte schneiden
A24: - Äpfel halbieren, Kerngehäuse entfernen und in Stifte schneiden, mit etwas Zitronensaft beträufeln
A25: - Für die Sauce Jogurt, Quark, Zitronensaft, Zucker, Salz und Streuwürze verrühren
A26: - Äpfel und Gemüse unter die Sauce mischen, nach Belieben Rosinen zugeben
A27: - Zugedeckt im Kühlschrank einige Zeit ziehen lassen
A30: Sr. Prisca Hüppin, Menzingen

Sheet Vorspeise 2
E1: Chochete vom | F1: =SUM(Menu!B3) -> 42509 | I1: Original Rezept
A2: =Menu!B7 -> Saibling an Kräutersauce | E2: Rezept für | F2: =Menu!B17 -> 15 | I2: 4 | J2: Personen | L2: Menu Angaben wie folgt machen:
A3: Menge | B3: Einheit | C3: Artikel (Gewicht alles ca. Angaben) | D3: Bemerkungen | E3: Einkaufspreis | F3: Betrag | I3: Originalrezept | J3: pro Person
A4: =ROUND(SUM(J4*$F$2),2) -> 0 | C4: Zutaten: | F4: =SUM(E4*A4) -> 0 | J4: =I4/$I$2 -> 0 | L4: Kg | M4: 0.25
A5: =ROUND(SUM(J5*$F$2),2) -> 15 | B5: Stk. | C5: Saiblingfilets (ohne Haut) | F5: =SUM(E5*A5) -> 0 | I5: 4 | J5: =I5/$I$2 -> 1 | L5: Lt | M5: 1.25
A6: =ROUND(SUM(J6*$F$2),2) -> 0 | C6: Zitronensaft | F6: =SUM(E6*A6) -> 0 | J6: =I6/$I$2 -> 0 | L6: EL | M6: Esslöffel
A7: =ROUND(SUM(J7*$F$2),2) -> 0 | C7: Salz, Pfeffer aus der Mühle | F7: =SUM(E7*A7) -> 0 | J7: =I7/$I$2 -> 0 | L7: TL | M7: Kaffeelöffel
A8: =ROUND(SUM(J8*$F$2),2) -> 3.75 | B8: Stk. | C8: Zwiebel | D8: 3 Stk gr | F8: =SUM(E8*A8) -> 0 | I8: 1 | J8: =I8/$I$2 -> 0.25 | L8: Bund | M8: 1
A9: =ROUND(SUM(J9*$F$2),2) -> 3.75 | B9: EL | C9: Olivenöl | F9: =SUM(E9*A9) -> 0 | I9: 1 | J9: =I9/$I$2 -> 0.25 | L9: Stk | M9: Stück
A10: =ROUND(SUM(J10*$F$2),2) -> 0.75 | B10: Lt | C10: trockener Weisswein | D10: 1 Fl | I10: 0.2 | J10: =I10/$I$2 -> 0.05
A11: =ROUND(SUM(J11*$F$2),2) -> 375 | B11: gr. | C11: Butter | D11: 3 x 250 g | F11: =SUM(E11*A11) -> 0 | I11: 100 | J11: =I11/$I$2 -> 25 | L11: Pä | M11: Päckli
A12: =ROUND(SUM(J12*$F$2),2) -> 11.25 | B12: EL | C12: gehackte Kräuter, (Basilikum, glatte Petersilie, Dill usw.) | D12: 3 x je 1 Bund | F12: =SUM(E12*A12) -> 0 | I12: 3 | J12: =I12/$I$2 -> 0.75 | L12: alles weitere ausschreiben
A13: =ROUND(SUM(J13*$F$2),2) -> 0 | F13: =SUM(E13*A13) -> 0 | J13: =I13/$I$2 -> 0
A14: =ROUND(SUM(J14*$F$2),2) -> 7.5 | B14: Stk. | C14: Zucchetti | D14: 8 Stk | F14: =SUM(E14*A14) -> 0 | I14: 2 | J14: =I14/$I$2 -> 0.5
A15: =ROUND(SUM(J15*$F$2),2) -> 7.5 | B15: EL | C15: Olivenöl | F15: =SUM(E15*A15) -> 0 | I15: 2 | J15: =I15/$I$2 -> 0.5
A17: =ROUND(SUM(J17*$F$2),2) -> 0.75 | B17: Kg | C17: Beilage 1: Trockenreis | I17: 0.2 | J17: =I17/$I$2 -> 0.05
A18: =ROUND(SUM(J18*$F$2),2) -> 0 | F18: =SUM(E18*A18) -> 0
A19: Zubereitung Saibling an Kräutersauce
A20: - Fischfilets mit Zitronensaft beträufeln und mit Salz und Pfeffer würzen
A21: - Zwiebel fein hacken und in eine gefettete Gratinform füllen, Fischfilets drauflegen und mit Wein übergiessen
A22: - Mit Alufolie bedeckt im vorgeheizten Ofen bei 200 Grad etwa 10 Minuten garen
A23: - Fischfilets herausnehmen, warm stellen, Garsud durch ein Sieb streichen, erhitzen und etwas einkochen lassen
A24: - Kalte Butter stückweise einrühren, Kräuter dazugeben und mit Salz und Pfeffer abschmecken
A25: - Zucchetti in kleine Würfel schneiden und im heissen Öl dünsten, mit Salz und Pfeffer würzen
A26: - Zucchetti auf einer Platte anrichten, Fischfilets darauflegen, mit der Sauce übergiessen und servieren
A30: Hedy Cerminara-Nussbaumer, Steinhausen

Sheet Hauptgang
E1: Chochete vom | F1: =SUM(Menu!B3) -> 42509 | I1: Original Rezept
A2: =Menu!B10 -> Raffinierte Pouletplätzli | E2: Rezept für | F2: =Menu!B17 -> 15 | I2: 4 | J2: Personen | L2: Menu Angaben wie folgt machen:
A3: Menge | B3: Einheit | C3: Artikel (Gewicht alles ca. Angaben) | D3: Bemerkungen | E3: Einkaufspreis | F3: Betrag | I3: Originalrezept | J3: pro Person
A4: =J4*$F$2 -> 0 | C4: Zutaten | F4: =SUM(E4*A4) -> 0 | J4: =I4/$I$2 -> 0 | L4: Kg | M4: 0.25
A5: =J5*$F$2 -> 15 | B5: Stk | C5: Pouletbrüstchen | I5: 4 | J5: =I5/$I$2 -> 1 | L5: Lt | M5: 1.25
A6: =J6*$F$2 -> 0 | C6: Salz, Pfeffer | F6: =SUM(E6*A6) -> 0 | J6: =I6/$I$2 -> 0 | L6: EL | M6: Esslöffel
A7: =J7*$F$2 -> 375 | B7: gr. | C7: Kräuterfrischkäse | D7: 3 x 180 g | I7: 100 | J7: =I7/$I$2 -> 25
A8: =J8*$F$2 -> 30 | B8: Tranchen | C8: Landrauch- oder Rohschinken | F8: =SUM(E8*A8) -> 0 | I8: 8 | J8: =I8/$I$2 -> 2
A9: =J9*$F$2 -> 375 | B9: gr. | C9: Butter | I9: 100 | J9: =I9/$I$2 -> 25
A10: =J10*$F$2 -> 937.5 | B10: gr. | C10: saurer Halbrahm | I10: 250 | J10: =I10/$I$2 -> 62.5
A11: =J11*$F$2 -> 3.75 | B11: EL | C11: Mehl | F11: =SUM(E11*A11) -> 0 | I11: 1 | J11: =I11/$I$2 -> 0.25
A12: =J12*$F$2 -> 3.75 | B12: Stk | C12: Eigelb | D12: 4 Stk | F12: =SUM(E12*A12) -> 0 | I12: 1 | J12: =I12/$I$2 -> 0.25
A13: =J13*$F$2 -> 3.75 | B13: TL | C13: Gemüsebouillonpulver | F13: =SUM(E13*A13) -> 0 | I13: 1 | J13: =I13/$I$2 -> 0.25
A14: =J14*$F$2 -> 300 | B14: gr. | C14: geriebener Emmentalerkäse oder Sprinz | D14: 3 x 100 g | I14: 80 | J14: =I14/$I$2 -> 20
A15: =J15*$F$2 -> 0 | J15: =I15/$I$2 -> 0
A16: =J16*$F$2 -> 1.5 | B16: Kg | C16: Beilage 2: Broccoli und Rüebli | I16: 0.4 | J16: =I16/$I$2 -> 0.1
A17: =J17*$F$2 -> 0
A18: =J18*$F$2 -> 0
A19: =J19*$F$2 -> 0
A20: =J20*$F$2 -> 0 | F20: =SUM(E20*A20) -> 0 | J20: =I20/$I$2 -> 0
A21: Zubereitung Raffinierte Pouletplätzli | J21: =I21/$I$2 -> 0
A22: - Pouletbrüstchen der Länge nach einschneiden, mit Salz und Pfeffer würzen und die Taschen mit
A23: drei Viertel des Frischkäses füllen, mit je 2 Schinkentranchen umwickeln & mit Zahnstochern feststecken
A24: - In der heissen Butter beidseitig gut anbraten und in eine gefettete Gratinform legen
A25: - Rahm, Mehl und verklopftes Eigelb verrühren, restlichen Kräuterfrischkäse dazugeben,Bouillonpulver
A26: und Käse untermischen und die Masse auf den Pouletbrüstchen verteilen
A27: - In der Mitte des vorgeheizten Ofens bei 220 Grad (Umluftofen 200 Grad) etwa 25 Minuten überbacken
A30: Manuela Moser-Kottmann, Steinhausen

Sheet Beilage1+2
E1: Chochete vom | F1: =SUM(Menu!B3) -> 42509 | I1: Original Rezept
A2: =Menu!B11 -> Rüebli und Broccoli | E2: Rezept für | F2: =Menu!$B$17 -> 15 | I2: 4 | J2: Personen | L2: Menu Angaben wie folgt machen:
A3: Menge | B3: Einheit | C3: Artikel (Gewicht alles ca. Angaben) | D3: Bemerkungen | E3: Einkaufspreis | F3: Betrag | I3: Originalrezept | J3: pro Person
A4: =ROUND(SUM(J4*$F$2),2) -> 0 | C4: Beilage 1 | J4: =I4/$I$2 -> 0 | L4: Kg | M4: 0.25
A5: =ROUND(SUM(J5*$F$2),2) -> 750 | B5: gr. | C5: Trockenreis | I5: 200 | J5: =I5/$I$2 -> 50 | L5: Lt | M5: 1.25
A6: =ROUND(SUM(J6*$F$2),2) -> 0 | J6: =I6/$I$2 -> 0 | L6: EL | M6: Esslöffel
A7: =ROUND(SUM(J7*$F$2),2) -> 0 | C7: Beilage 2 | J7: =I7/$I$2 -> 0 | L7: TL | M7: Kaffeelöffel
A8: =ROUND(SUM(J8*$F$2),2) -> 3.75 | B8: Bund | C8: Frühlingszwiebeln | D8: 3 Bund | I8: 1 | J8: =I8/$I$2 -> 0.25 | L8: Bund | M8: 1
A9: =ROUND(SUM(J9*$F$2),2) -> 750 | B9: gr. | C9: Rüebli | I9: 200 | J9: =I9/$I$2 -> 50 | L9: Stk | M9: Stück
A10: =ROUND(SUM(J10*$F$2),2) -> 750 | B10: gr. | C10: Broccoli | I10: 200 | J10: =I10/$I$2 -> 50
A11: =ROUND(SUM(J11*$F$2),2) -> 0 | J11: =I11/$I$2 -> 0 | L11: Pä | M11: Päckli
A12: =ROUND(SUM(J12*$F$2),2) -> 0 | J12: =I12/$I$2 -> 0 | L12: alles weitere ausschreiben
A13: =ROUND(SUM(J13*$F$2),2) -> 0 | J13: =I13/$I$2 -> 0
A14: =ROUND(SUM(J14*$F$2),2) -> 0 | J14: =I14/$I$2 -> 0
A15: =ROUND(SUM(J15*$F$2),2) -> 0 | J15: =I15/$I$2 -> 0
A16: =ROUND(SUM(J16*$F$2),2) -> 0 | J16: =I16/$I$2 -> 0
A17: =ROUND(SUM(J17*$F$2),2) -> 0 | J17: =I17/$I$2 -> 0
A18: Zubereitung
A20: - Wie es Euch gefällt!!

Sheet Dessert
E1: Chochete vom | F1: =SUM(Menu!B3) -> 42509 | I1: Original Rezept
A2: =Menu!B13 -> Zitronencrème | E2: Rezept für | F2: =Menu!B17 -> 15 | I2: 4 | J2: Personen | L2: Menu Angaben wie folgt machen:
A3: Menge | B3: Einheit | C3: Artikel (Gewicht alles ca. Angaben) | D3: Bemerkungen | E3: Einkaufspreis | F3: Betrag | I3: Originalrezept | J3: pro Person
C4: Zutaten: | F4: =SUM(E4*A4) -> 0 | J4: =I4/$I$2 -> 0 | L4: Kg | M4: 0.25
A5: =ROUND(SUM(J5*$F$2),2) -> 1.88 | B5: Kg | C5: Jogurt nature | D5: 3 x 180 + 3 x 400g | I5: 0.5 | J5: =I5/$I$2 -> 0.125 | L5: Lt | M5: 1.25
A6: =ROUND(SUM(J6*$F$2),2) -> 3.75 | B6: Tube | C6: gezuckerte Kondensmilch | D6: 3 Tuben | I6: 1 | J6: =I6/$I$2 -> 0.25 | L6: EL | M6: Esslöffel
A7: =ROUND(SUM(J7*$F$2),2) -> 9.38 | B7: Stk | C7: Zitronen, Saft und Schale | D7: 9 Stk. | I7: 2.5 | J7: =I7/$I$2 -> 0.625 | L7: KL | M7: Kaffeelöffel
A8: =ROUND(SUM(J8*$F$2),2) -> 1.5 | B8: Lt | C8: Rahm | D8: 3 x 0.5 Lt | I8: 0.4 | J8: =I8/$I$2 -> 0.1 | L8: Bund | M8: 1
A9: =ROUND(SUM(J9*$F$2),2) -> 0 | J9: =I9/$I$2 -> 0 | L9: Stk | M9: Stück
A10: =ROUND(SUM(J10*$F$2),2) -> 0 | J10: =I10/$I$2 -> 0
A11: =ROUND(SUM(J11*$F$2),2) -> 0 | J11: =I11/$I$2 -> 0 | L11: Pä | M11: Päckli
A12: =ROUND(SUM(J12*$F$2),2) -> 0 | J12: =I12/$I$2 -> 0 | L12: alles weitere ausschreiben
A13: =ROUND(SUM(J13*$F$2),2) -> 0 | J13: =I13/$I$2 -> 0
A14: =ROUND(SUM(J14*$F$2),2) -> 0 | J14: =I14/$I$2 -> 0
A15: =ROUND(SUM(J15*$F$2),2) -> 0 | J15: =I15/$I$2 -> 0
A16: =ROUND(SUM(J16*$F$2),2) -> 0 | J16: =I16/$I$2 -> 0
A17: =ROUND(SUM(J17*$F$2),2) -> 0 | J17: =I17/$I$2 -> 0
A18: =ROUND(SUM(J18*$F$2),2) -> 0 | J18: =I18/$I$2 -> 0
A19: =ROUND(SUM(J19*$F$2),2) -> 0 | J19: =I19/$I$2 -> 0
A20: =ROUND(SUM(J20*$F$2),2) -> 0 | J20: =I20/$I$2 -> 0
A21: =ROUND(SUM(J21*$F$2),2) -> 0 | J21: =I21/$I$2 -> 0
A22: Zubereitung
A23: - Jogurt, Kondensmilch, Zitronensaft und abgeriebene Zitronenschale gut verrühren
A24: - Rahm steif schlagen und vorsichtig untermischen
A25: - Etwa 2 Stunden in den Kühlschrank stellen
A30: Ruth Moos, Finstersee

Sheet Einkaufsliste
A1: Hobby-Küche Zug | C1: Einkaufsliste | D1: =Dessert!F1 -> 42509 | E1: ok
A2: Menge | B2: Einheit | C2: Artikel
A3: ='Vorspeise 1'!A2 -> Apfel-Gemüsesalat | D3: Bemerkungen
A4: =SUM('Vorspeise 1'!A4) -> 0 | B4: ='Vorspeise 1'!B4 -> 0 | C4: ='Vorspeise 1'!C4 -> Zutaten: | D4: =SUM('Vorspeise 1'!D4) -> 0
A5: =SUM('Vorspeise 1'!A5) -> 0.56 | B5: ='Vorspeise 1'!B5 -> Kg | C5: ='Vorspeise 1'!C5 -> Rüebli | D5: =('Vorspeise 1'!D6) -> 600 g
A6: =SUM('Vorspeise 1'!A6) -> 0.56 | B6: ='Vorspeise 1'!B6 -> Kg | C6: ='Vorspeise 1'!C6 -> Knollensellerie | D6: =('Vorspeise 1'!D7) -> 1 Kg
A7: =SUM('Vorspeise 1'!A7) -> 0.94 | B7: ='Vorspeise 1'!B7 -> Kg | C7: ='Vorspeise 1'!C7 -> Äpfel | D7: =('Vorspeise 1'!D8) -> 3 Stk
A8: =SUM('Vorspeise 1'!A8) -> 3.75 | B8: ='Vorspeise 1'!B8 -> Stk | C8: ='Vorspeise 1'!C8 -> Zitronen, Saft nach Belieben | D8: =('Vorspeise 1'!D9) -> 100 g
A9: =SUM('Vorspeise 1'!A9) -> 93.75 | B9: ='Vorspeise 1'!B9 -> gr. | C9: ='Vorspeise 1'!C9 -> Rosinen nach Belieben | D9: =('Vorspeise 1'!D10) -> 0
A10: =SUM('Vorspeise 1'!A11) -> 375 | B10: ='Vorspeise 1'!B11 -> gr. | C10: ='Vorspeise 1'!C11 -> Jogurt nature | D10: =('Vorspeise 1'!D11) -> 3 x 180g
A11: =SUM('Vorspeise 1'!A12) -> 300 | B11: ='Vorspeise 1'!B12 -> gr. | C11: ='Vorspeise 1'!C12 -> Magerquark | D11: =('Vorspeise 1'!D12) -> 0
A12: =SUM('Vorspeise 1'!A13) -> 3.75 | B12: ='Vorspeise 1'!B13 -> EL | C12: ='Vorspeise 1'!C13 -> Zitronensaft | D12: =('Vorspeise 1'!D13) -> 0
A13: =SUM('Vorspeise 1'!A14) -> 3.75 | B13: ='Vorspeise 1'!B14 -> EL | C13: ='Vorspeise 1'!C14 -> Zucker | D13: =('Vorspeise 1'!D14) -> 0
A14: =SUM('Vorspeise 1'!A15) -> 0 | B14: ='Vorspeise 1'!B15 -> 0 | C14: ='Vorspeise 1'!C15 -> Salz | D14: =('Vorspeise 1'!D15) -> 0
A15: =SUM('Vorspeise 1'!A16) -> 0 | B15: ='Vorspeise 1'!B16 -> 0 | C15: ='Vorspeise 1'!C16 -> Streuwürze | D15: =('Vorspeise 1'!D16) -> 0
A16: =SUM('Vorspeise 1'!A17) -> 0 | B16: ='Vorspeise 1'!B17 -> 0 | C16: ='Vorspeise 1'!C17 -> 0 | D16: =('Vorspeise 1'!D17) -> 0
A17: =SUM('Vorspeise 1'!A18) -> 0 | B17: ='Vorspeise 1'!B18 -> 0 | C17: ='Vorspeise 1'!C18 -> 0 | D17: =SUM('Vorspeise 1'!D18) -> 0
A18: =SUM('Vorspeise 1'!A19) -> 0 | B18: ='Vorspeise 1'!B19 -> 0 | C18: ='Vorspeise 1'!C19 -> 0 | D18: =SUM('Vorspeise 1'!D19) -> 0
A19: =SUM('Vorspeise 1'!A20) -> 0 | B19: ='Vorspeise 1'!B20 -> 0 | C19: ='Vorspeise 1'!C20 -> 0 | D19: =SUM('Vorspeise 1'!D20) -> 0
A20: =SUM('Vorspeise 1'!A21) -> 0 | B20: ='Vorspeise 1'!B21 -> 0 | C20: ='Vorspeise 1'!C21 -> 0 | D20: =SUM('Vorspeise 1'!D21) -> 0
A21: =SUM('Vorspeise 1'!A24) -> 0 | B21: ='Vorspeise 1'!B24 -> 0 | C21: ='Vorspeise 1'!C24 -> 0 | D21: =SUM('Vorspeise 1'!D24) -> 0
A22: =SUM('Vorspeise 1'!A25) -> 0 | B22: ='Vorspeise 1'!B25 -> 0 | C22: ='Vorspeise 1'!C25 -> 0 | D22: =SUM('Vorspeise 1'!D25) -> 0
A23: ='Vorspeise 2'!A2 -> Saibling an Kräutersauce | D23: Bemerkungen
A24: =SUM('Vorspeise 2'!A4) -> 0 | B24: ='Vorspeise 2'!B4 -> 0 | C24: ='Vorspeise 2'!C4 -> Zutaten: | D24: =SUM('Vorspeise 2'!D4) -> 0
A25: =SUM('Vorspeise 2'!A5) -> 15 | B25: ='Vorspeise 2'!B5 -> Stk. | C25: ='Vorspeise 2'!C5 -> Saiblingfilets (ohne Haut) | D25: =('Vorspeise 2'!D5) -> 0
A26: =SUM('Vorspeise 2'!A6) -> 0 | B26: ='Vorspeise 2'!B6 -> 0 | C26: ='Vorspeise 2'!C6 -> Zitronensaft | D26: =('Vorspeise 2'!D6) -> 0
A27: =SUM('Vorspeise 2'!A7) -> 0 | B27: ='Vorspeise 2'!B7 -> 0 | C27: ='Vorspeise 2'!C7 -> Salz, Pfeffer aus der Mühle | D27: =('Vorspeise 2'!D7) -> 0
A28: =SUM('Vorspeise 2'!A8) -> 3.75 | B28: ='Vorspeise 2'!B8 -> Stk. | C28: ='Vorspeise 2'!C8 -> Zwiebel | D28: =('Vorspeise 2'!D8) -> 3 Stk gr
A29: =SUM('Vorspeise 2'!A9) -> 3.75 | B29: ='Vorspeise 2'!B9 -> EL | C29: ='Vorspeise 2'!C9 -> Olivenöl | D29: =('Vorspeise 2'!D9) -> 0
A30: =SUM('Vorspeise 2'!A11) -> 375 | B30: ='Vorspeise 2'!B11 -> gr. | C30: ='Vorspeise 2'!C10 -> trockener Weisswein | D30: =('Vorspeise 2'!D10) -> 1 Fl
A31: =SUM('Vorspeise 2'!A12) -> 11.25 | B31: ='Vorspeise 2'!B12 -> EL | C31: ='Vorspeise 2'!C11 -> Butter | D31: =('Vorspeise 2'!D11) -> 3 x 250 g
A32: =SUM('Vorspeise 2'!A13) -> 0 | B32: ='Vorspeise 2'!B13 -> 0 | C32: ='Vorspeise 2'!C12 -> gehackte Kräuter, (Basilikum, glatte Petersilie, Dill usw.) | D32: =('Vorspeise 2'!D12) -> 3 x je 1 Bund
A33: =SUM('Vorspeise 2'!A14) -> 7.5 | B33: ='Vorspeise 2'!B14 -> Stk. | C33: ='Vorspeise 2'!C13 -> 0 | D33: =('Vorspeise 2'!D13) -> 0
A34: =SUM('Vorspeise 2'!A15) -> 7.5 | B34: ='Vorspeise 2'!B15 -> EL | C34: ='Vorspeise 2'!C14 -> Zucchetti | D34: =('Vorspeise 2'!D14) -> 8 Stk
A35: =SUM('Vorspeise 2'!A16) -> 0 | B35: ='Vorspeise 2'!B16 -> 0 | C35: ='Vorspeise 2'!C15 -> Olivenöl | D35: =('Vorspeise 2'!D15) -> 0
A36: =SUM('Vorspeise 2'!A17) -> 0.75 | B36: ='Vorspeise 2'!B17 -> Kg | C36: ='Vorspeise 2'!C16 -> 0 | D36: =('Vorspeise 2'!D16) -> 0
A37: =SUM('Vorspeise 2'!A18) -> 0 | B37: ='Vorspeise 2'!B18 -> 0 | C37: ='Vorspeise 2'!C17 -> Beilage 1: Trockenreis | D37: =('Vorspeise 2'!D17) -> 0
A38: =SUM('Vorspeise 2'!A19) -> 0 | B38: ='Vorspeise 2'!B19 -> 0 | C38: ='Vorspeise 2'!C18 -> 0 | D38: =('Vorspeise 2'!D18) -> 0
A39: =SUM('Vorspeise 2'!A20) -> 0 | B39: ='Vorspeise 2'!B20 -> 0 | C39: ='Vorspeise 2'!C19 -> 0 | D39: =('Vorspeise 2'!D19) -> 0
A40: =SUM('Vorspeise 2'!A18) -> 0 | B40: ='Vorspeise 2'!B18 -> 0 | C40: ='Vorspeise 2'!C13 -> 0 | D40: =('Vorspeise 2'!D13) -> 0
...
