{"text_format":"2","workbook":"xlsx","n_sheets":9,"sheets":["Menu","Vorspeise 1","Vorspeise 2","Hauptgang","Beilage1","Beilage2","Dessert","Diverses","Einkaufsliste"],"not_rendered":{"charts":0,"images":7,"macros":0,"external_links":0,"defined_names":9,"comments":0,"pivot_tables":0},"unopened":[],"bounds":{"document_bytes":16777216,"sheet_cells":100000,"run_cost":"one","rows_first":2000,"rows_last":500,"rows_between":2000,"halvings":0,"cell_chars":16384,"cell_head_chars":4096},"cells_cut":0,"cells_raw":0,"read":"whole","date_system":"1900"}

{"sheet":"Menu","index":0,"n_rows":19,"n_cols":9,"rows_kept":19,"cut":false,"hidden":false,"merged":[[18,3,18,10]]}
[null," "]
[]
["Datum","2023-02-23",null,"Menu Angaben wie folgt machen:",null,null,null,"Kg",0.25]
[{"$nulls":7},"Lt",1.25]
["Vorspeise 1","Leberknödelsuppe",null,"alle weiteren Angaben  ausschreiben",null,null,null,"EL","Esslöffel"]
[{"$nulls":7},"TL","Teelöffel"]
["Vorspeise 2","Blutwurst-Ravioli mit Zwiebelschmelze",{"$nulls":5},"Bund",1]
[{"$nulls":7},"Stk","Stück"]
["Hauptgang","Flank Steak",{"$nulls":5},"Pä","Päckli"]
[]
["Beilage","Ofengemüse"]
[]
["Dessert","Quarkkeulchen"]
[]
["Diverses"]
[]
["Menu von Tisch","B"]
[]
["Personenzahl",16]

{"sheet":"Vorspeise 1","index":1,"n_rows":31,"n_cols":13,"rows_kept":31,"cut":false,"hidden":false,"merged":[[26,0,26,5],[30,0,30,5],[24,0,24,5],[25,0,25,5],[27,0,27,5],[28,0,28,5],[29,0,29,3],[0,8,0,9],[1,11,2,12],[21,0,21,5],[22,0,22,5],[23,0,23,5]]}
[{"$nulls":4},"Chochete vom",{"$f":"SUM(Menu!B3)","v":"2023-02-23"},null,null,"Original Rezept"]
[{"$f":"Menu!B5","v":"Leberknödelsuppe"},null,null,null,"Rezept für",5,null,null,6,"Personen",null,"Menu Angaben wie folgt machen:"]
["Menge","Einheit","Artikel (Gewicht alles ca. Angaben)","Bemerkungen","Einkaufspreis","Betrag",null,null,"Originalrezept","pro Person"]
[{"$f":"ROUND(SUM(J4*$F$2),2)","v":0.21},"kg","Kalbsleber (gewolft)",null,null,{"$f":"SUM(E4*A4)","v":0},null,null,0.25,{"$f":"I4/$I$2","v":4.1666666666666664E-2},null,"Kg",0.25]
[0.83,"Stk","Brötchen vom Vortag","in heisser Milch einweichen",null,{"$f":"SUM(E5*A5)","v":0},null,null,1,0.16666666666666666,null,"Lt",1.25]
[0.02,"kg","Butter",null,null,0,null,null,0.02,3.3333333333333335E-3,null,"EL","Esslöffel"]
[0.83,"Stk","Zwiebel",null,null,0,null,null,1,0.16666666666666666,null,"TL","Kaffeelöffel"]
[0.83,"Stk","Knoblauchzehen",null,null,0,null,null,1,0.16666666666666666,null,"Bund",1]
[1.67,"Stk","Eier",null,null,0,null,null,2,0.33333333333333331,null,"Stk","Stück"]
[0.42,"Bund","Petersilie",null,null,0,null,null,0.5,8.3333333333333329E-2,null,"Pä","Päckli"]
[0,{"$nulls":4},0,null,null,null,0,null,"alles weitere ausschreiben"]
[{"$f":"ROUND(SUM(J12*$F$2),2)","v":0},null,"Möhre, Lauch grob geschnitten",null,null,0,null,null,null,0]
[0,{"$nulls":4},0,null,null,null,0]
[0,null,"Salz, Pfeffer, Muskat",null,null,0,null,null,null,0]
[0,null,"Majoran",null,null,0,null,null,null,0]
[0,null,"Zitronenschale (Bio)",null,null,0,null,null,null,0]
[0,null,"Semmelbrösel",null,null,0,null,null,null,0]
[1.67,"Ltr","Fleischbrühe mit Rinderfond",null,null,0,null,null,2,0.33333333333333331]
[0.83,"Bund","Schnittlauch",null,null,0,null,null,1,{"$f":"I19/$I$2","v":0.16666666666666666}]
[0,{"$nulls":4},0,null,null,null,0]
["Zubereitung",null,null,"      "]
["Zwiebel und Knoblauch in der Butter hellgelb rösten und Petersilie kurz mit unterrühren"]
["Eingeweichtes Brötchen ausdrücken"]
["Leber mit dem Zwiebel-Knoblauchgemisch, dem Brötchen, den Eiern und der Zitronenschale vermengen",{"$nulls":7}," "]
["kräftig mit Gewürzen abschmecken"]
["Teigmasse mit Semmelbröseln andicken (Vorsicht, der Teig sollte nicht zu fest sein)"]
["Teig ca. eine halbe Stunde ruhen lassen"]
["In der Zwischenzeit die Fleischbrühe zum kochen bringen"]
["Suppengemüse weichgaren. Leberknödel mit Esslöffel"]
["abstechen und etwa 10 Minunten ziehen lassen"]
["Schnittlauch in feine Röllchen schneiden zum garnieren"]

{"sheet":"Vorspeise 2","index":2,"n_rows":26,"n_cols":13,"rows_kept":26,"cut":false,"hidden":false,"merged":[[0,8,0,9],[1,11,2,12],[21,0,21,5],[22,0,22,5],[23,0,23,5],[29,0,29,5],[30,0,30,5],[31,0,31,5],[24,0,24,5],[25,0,25,5],[26,0,26,5],[27,0,27,5],[28,0,28,5]]}
[{"$nulls":4},"Chochete vom",{"$f":"SUM(Menu!B3)","v":"2023-02-23"},null,null,"Original Rezept"]
[{"$f":"Menu!B7","v":"Blutwurst-Ravioli mit Zwiebelschmelze"},null,null,null,"Rezept für",5,null,null,10,"Personen",null,"Menu Angaben wie folgt machen:"]
["Menge","Einheit","Artikel (Gewicht alles ca. Angaben)","Bemerkungen","Einkaufspreis","Betrag",null,null,"Originalrezept","pro Person"]
[{"$f":"ROUND(SUM(J4*$F$2),2)","v":0.15},"kg","Mehl",null,null,{"$f":"SUM(E4*A4)","v":0},null,null,0.3,{"$f":"I4/$I$2","v":0.03},null,"Kg",0.25]
[0.15,"kg","Gries",null,null,0,null,null,0.3,0.03,null,"Lt",1.25]
[3,"Stk","Eier",null,null,{"$f":"SUM(E6*A6)","v":0},null,null,6,0.6,null,"EL","Esslöffel"]
[1,"El","Olivenöl",null,null,{"$f":"SUM(E7*A7)","v":0},null,null,2,0.2,null,"TL","Kaffeelöffel"]
[0.5,"Tl","Salz",null,null,{"$f":"SUM(E8*A8)","v":0},null,null,1,0.1,null,"Bund",1]
[0,{"$nulls":4},0,null,null,null,0,null,"Stk","Stück"]
[0.3,"kg","Blutwurst",null,null,0,null,null,0.6,0.06,null,"Pä","Päckli"]
[2,"Stk","Schalotten",null,null,0,null,null,4,0.4,null,"alles weitere ausschreiben"]
[1,"Stk","Knoblauchzehen",null,null,0,null,null,2,0.2]
[0,null,"Olivenöl",null,null,0,null,null,null,0]
[0,null,"Majoran, Kümmel, Salz",null,null,0,null,null,null,0]
[0.02,"kg","Butter",null,null,0,null,null,0.03,3.0000000000000001E-3]
[{"$f":"ROUND(SUM(J16*$F$2),2)","v":0},{"$nulls":4},0,null,null,null,0]
[{"$f":"ROUND(SUM(J17*$F$2),2)","v":3},"Stk","Zwiebeln","nach belieben",null,0,null,null,6,0.6]
[{"$f":"ROUND(SUM(J18*$F$2),2)","v":0.08},"Ltr","Kalbsfond",null,null,0,null,null,0.15,1.4999999999999999E-2]
[{"$f":"ROUND(SUM(J19*$F$2),2)","v":0},null,"Majoran",null,null,0,null,null,null,0]
[{"$f":"ROUND(SUM(J20*$F$2),2)","v":0},null,"weisser Pfeffer",null,null,0,null,null,null,0]
["Zubereitung",null,null,"      "]
["       "]
["Blutwurst pellen, Zwiebeln und Knoblauch anschwitzen und mit den Gewürzen durchmischen"]
["ausgestochenen Teig rundrum anfeuchten, mit Blutwurstmasse füllen und Ravioli herstellen"]
["Zwiebeln anschwitzen, mit Kalbsfond ablöschen und einkochen lassen"]
["Ravioli entweder in Salzwasser oder Fleischbrühe garziehen lassen und auf Zwiebelschmeze anrichten"]

{"sheet":"Hauptgang","index":3,"n_rows":22,"n_cols":13,"rows_kept":22,"cut":false,"hidden":false,"merged":[[0,8,0,9],[1,11,2,12],[21,0,21,5],[26,0,26,5],[27,0,27,5],[28,0,28,5],[22,0,22,5],[24,0,24,5],[23,0,23,5],[25,0,25,5]]}
[{"$nulls":4},"Chochete vom",{"$f":"SUM(Menu!B3)","v":"2023-02-23"},null,null,"Original Rezept"]
[{"$f":"Menu!B9","v":"Flank Steak"},null,null,null,"Rezept für",4,null,null,4,"Personen",null,"Menu Angaben wie folgt machen:"]
["Menge","Einheit","Artikel (Gewicht alles ca. Angaben)","Bemerkungen","Einkaufspreis","Betrag",null,null,"Originalrezept","pro Person"]
[{"$f":"ROUND(SUM(J4*$F$2),2)","v":0.7},"kg","Flank Steak","pro Person hier ca.150gr.",null,{"$f":"SUM(E4*A4)","v":0},null,null,0.7,{"$f":"I4/$I$2","v":0.17499999999999999},null,"Kg",0.25]
[{"$f":"ROUND(SUM(J5*$F$2),2)","v":0},{"$nulls":4},0,null,null,null,0,null,"Lt",1.25]
[{"$f":"ROUND(SUM(J6*$F$2),2)","v":4},"EL","Senf",null,null,0,null,null,4,1,null,"EL","Esslöffel"]
[2,"Stk","Knoblauchzehen",null,null,0,null,null,2,0.5,null,"TL","Kaffeelöffel"]
[1,"EL","Rosmarin, fein gehackt",null,null,0,null,null,1,0.25,null,"Bund",1]
[0,null,"Salz, Pfeffer",null,null,0,null,null,null,0,null,"Stk","Stück"]
[{"$f":"ROUND(SUM(J10*$F$2),2)","v":0.1},null,"Rapsöl",null,null,0,null,null,0.1,2.5000000000000001E-2,null,"Pä","Päckli"]
[{"$f":"ROUND(SUM(J11*$F$2),2)","v":0},{"$nulls":4},0,null,null,null,0,null,"alles weitere ausschreiben"]
[0,{"$nulls":4},0,null,null,null,0]
[{"$f":"ROUND(SUM(J13*$F$2),2)","v":0},{"$nulls":4},0,null,null,null,0]
[0,{"$nulls":4},0,null,null,null,0]
[0,{"$nulls":4},0,null,null,null,0]
[0,{"$nulls":4},0,null,null,null,{"$f":"I16/$I$2","v":0}]
[0,{"$nulls":4},0,null,null,null,0]
[0,{"$nulls":4},0,null,null,null,0]
[0,{"$nulls":4},0,null,null,null,0]
[0,{"$nulls":4},{"$f":"SUM(E20*A20)","v":0},null,null,null,0]
["Zubereitung",null,null," "]
["Flank-Steak eine Stunde vor dem Zubereiten aus dem Kühlschrank nehmen.\nIn der Bratpfanne auf beiden Seiten 2 bis 3 Minuten anbraten.\nHitze reduzieren und das Steak auf beiden Seiten nochmals etwa 7 Minuten fertig garen.\nHat das Steak eine Kerntemperatur von 56 °C, ist es perfekt und schön rosa.\nDas Fleisch aus der Pfanne nehmen, in Alufolie wickeln und 4 Minuten nachziehen lassen.\nAus der Alufolie nehmen und in etwa 2 cm breite Streifen, quer zur Faser, schneiden."]

{"sheet":"Beilage1","index":4,"n_rows":21,"n_cols":13,"rows_kept":21,"cut":false,"hidden":false,"merged":[[0,8,0,9],[1,11,2,12],[29,0,29,5],[30,0,30,5],[31,0,31,5],[25,0,25,5],[26,0,26,5],[27,0,27,5],[28,0,28,5]]}
[{"$nulls":4},"Chochete vom",{"$f":"SUM(Menu!B3)","v":"2023-02-23"},null,null,"Original Rezept"]
[{"$f":"Menu!B10","v":0},null,null,null,"Rezept für",4,null,null,4,"Personen",null,"Menu Angaben wie folgt machen:"]
["Menge","Einheit","Artikel (Gewicht alles ca. Angaben)","Bemerkungen","Einkaufspreis","Betrag",null,null,"Originalrezept","pro Person"]
[{"$f":"ROUND(SUM(J4*$F$2),2)","v":0},{"$nulls":4},{"$f":"SUM(E4*A4)","v":0},null,null,null,{"$f":"I4/$I$2","v":0},null,"Kg",0.25]
[0,{"$nulls":4},0,null,null,null,0,null,"Lt",1.25]
[0,{"$nulls":4},0,null,null,null,0,null,"EL","Esslöffel"]
[0,{"$nulls":4},0,null,null,null,0,null,"TL","Kaffeelöffel"]
[0,{"$nulls":4},0,null,null,null,0,null,"Bund",1]
[0,{"$nulls":4},0,null,null,null,0,null,"Stk","Stück"]
[0,{"$nulls":4},0,null,null,null,0,null,"Pä","Päckli"]
[0,{"$nulls":4},0,null,null,null,0,null,"alles weitere ausschreiben"]
[0,{"$nulls":4},0,null,null,null,0]
[0,{"$nulls":4},0,null,null,null,0]
[0,{"$nulls":4},0,null,null,null,0]
[0,{"$nulls":4},0,null,null,null,0]
[0,{"$nulls":4},0,null,null,null,0]
[0,{"$nulls":4},0,null,null,null,0]
[0,{"$nulls":4},0,null,null,null,0]
[0,{"$nulls":4},0,null,null,null,0]
[0,{"$nulls":4},0,null,null,null,0]
["Zubereitung",null,null,"      "]

{"sheet":"Beilage2","index":5,"n_rows":25,"n_cols":13,"rows_kept":25,"cut":false,"hidden":false,"merged":[[0,8,0,9],[1,11,2,12],[25,0,25,5],[26,0,26,5],[27,0,27,5],[21,0,21,5],[22,0,22,5],[23,0,23,5],[24,0,24,5]]}
[{"$nulls":4},"Chochete vom",{"$f":"SUM(Menu!B3)","v":"2023-02-23"},null,null,"Original Rezept"]
[{"$f":"Menu!B11","v":"Ofengemüse"},null,null,null,"Rezept für",4,null,null,4,"Personen",null,"Menu Angaben wie folgt machen:"]
["Menge","Einheit","Artikel (Gewicht alles ca. Angaben)","Bemerkungen","Einkaufspreis","Betrag",null,null,"Originalrezept","pro Person"]
[{"$f":"ROUND(SUM(J4*$F$2),2)","v":2},"Stk","grosse Rüebli",null,null,{"$f":"SUM(E4*A4)","v":0},null,null,2,{"$f":"I4/$I$2","v":0.5},null,"Kg",0.25]
[1,"Stk","mittelgrosse Zucchetti",null,null,0,null,null,1,0.25,null,"Lt",1.25]
[1,"Stk","kleiner Blumenkohl",null,null,0,null,null,1,0.25,null,"EL","Esslöffel"]
[1,"Stk","Peperoni",null,null,0,null,null,1,0.25,null,"TL","Kaffeelöffel"]
[2,"Stk","mittelgrosse Zwiebeln",null,null,0,null,null,2,0.5,null,"Bund",1]
[4,"Stk","festkochende Kartoffeln",null,null,0,null,null,4,1,null,"Stk","Stück"]
[2,"Stk","Knoblauchzehen",null,null,0,null,null,2,0.5,null,"Pä","Päckli"]
[0,{"$nulls":4},0,null,null,null,0,null,"alles weitere ausschreiben"]
[0,{"$nulls":4},0,null,null,null,0]
[0,{"$nulls":4},0,null,null,null,0]
[0,{"$nulls":4},0,null,null,null,0]
[0,{"$nulls":4},0,null,null,null,0]
[0,{"$nulls":4},0,null,null,null,0]
[0,{"$nulls":4},0,null,null,null,0]
[0,{"$nulls":4},0,null,null,null,0]
[0,{"$nulls":4},0,null,null,null,0]
[0,{"$nulls":4},0,null,null,null,0]
["Zubereitung",null,null,"      "]
["Gemüse in mundgerechte Stücke teilen und die Knoblauchzehen fein hacken"]
["das ganze mit zwei, drei Esslöffel Rapsöl und feingehacktem Rosmarin vermischen "]
["Gemüse auf dem Backblech verteilen und mit grobem Salz und Peffer bestreuen"]
["20 Minuten im auf 180°C vorgeheizten Backofen braten"]

{"sheet":"Dessert","index":6,"n_rows":28,"n_cols":13,"rows_kept":28,"cut":false,"hidden":false,"merged":[[0,8,0,9],[1,11,2,12],[21,0,21,5],[22,0,22,5],[23,0,23,5],[29,0,29,5],[30,0,30,5],[31,0,31,5],[24,0,24,5],[25,0,25,5],[26,0,26,5],[27,0,27,5],[28,0,28,5]]}
[{"$nulls":4},"Chochete vom",{"$f":"SUM(Menu!B3)","v":"2023-02-23"},null,null,"Original Rezept"]
[{"$f":"Menu!B13","v":"Quarkkeulchen"},null,null,null,"Rezept für",4,null,null,16,"Personen",null,"Menu Angaben wie folgt machen:"]
["Menge","Einheit","Artikel (Gewicht alles ca. Angaben)","Bemerkungen","Einkaufspreis","Betrag",null,null,"Originalrezept","pro Person"]
[{"$f":"ROUND(SUM(J4*$F$2),2)","v":0.25},"kg","Kartoffeln",null,null,{"$f":"SUM(E4*A4)","v":0},null,null,1,{"$f":"I4/$I$2","v":6.25E-2},null,"Kg",0.25]
[{"$f":"ROUND(SUM(J5*$F$2),2)","v":0.19},"kg","Magerquark","nach Belieben auch mehr",null,{"$f":"SUM(E5*A5)","v":0},null,null,0.75,4.6875E-2,null,"Lt",1.25]
[{"$f":"ROUND(SUM(J6*$F$2),2)","v":0.08},"kg","Weizenmehl",null,null,0,null,null,0.3,1.8749999999999999E-2,null,"EL","Esslöffel"]
[0.03,"kg","Zucker (wahlweise Zuckerfrei)",null,null,0,null,null,0.13,8.1250000000000003E-3,null,"KL","Kaffeelöffel"]
[1,"Stk","Eier (klein)","eher nur ein Ei",null,0,null,null,4,0.25,null,"Bund",1]
[0.13,"TL","Salz",null,null,0,null,null,0.5,3.125E-2,null,"Stk","Stück"]
[0,null,"geriebene Zitronenschale",null,null,0,null,null,null,0,null,"Pä","Päckli"]
[0,null,"Rosinen (nach belieben)",null,null,0,null,null,null,0,null,"alles weitere ausschreiben"]
[0,null," ",null,null,0,null,null,null,0]
[0,{"$nulls":4},0,null,null,null,0]
[0,{"$nulls":4},0,null,null,null,0]
[0,{"$nulls":4},0,null,null,null,0]
[0,{"$nulls":4},0,null,null,null,0]
[0,{"$nulls":4},0,null,null,null,0]
[0,{"$nulls":4},0,null,null,null,0]
[0,{"$nulls":4},0,null,null,null,0]
[0,{"$nulls":4},0,null,null,null,0]
["Zubereitung",null,null,"      "]
["Kartoffeln am Vortag kochen"]
["Kartoffeln noch warm reiben oder durch die Presse drücken"]
["alles, bis auf die Rosinen, vermengen"]
["Ist der Teig zu feucht, noch Gries oder Mehl zugeben"]
["mit angefeuchteten Händen Kugeln formen und zu einem Fladen flach drücken"]
["in Öl von beiden Seiten goldbraun braten"]
["Serviern mit Zucker, Zucker & Zimt oder/und Apfelmus"]

{"sheet":"Diverses","index":7,"n_rows":21,"n_cols":13,"rows_kept":21,"cut":false,"hidden":false,"merged":[[0,8,0,9],[1,11,2,12],[21,0,21,5],[22,0,22,5],[23,0,23,5],[29,0,29,5],[30,0,30,5],[31,0,31,5],[24,0,24,5],[25,0,25,5],[26,0,26,5],[27,0,27,5],[28,0,28,5]]}
[{"$nulls":4},"Chochete vom",{"$f":"SUM(Menu!B3)","v":"2023-02-23"},null,null,"Original Rezept"]
[{"$f":"Menu!B15","v":0},null,null,null,"Rezept für",{"$f":"SUM(Menu!B19)","v":16},null,null,null,"Personen",null,"Menu Angaben wie folgt machen:"]
["Menge","Einheit","Artikel (Gewicht alles ca. Angaben)","Bemerkungen","Einkaufspreis","Betrag",null,null,"Originalrezept","pro Person"]
[{"$f":"ROUND(SUM(J4*$F$2),2)","v":{"$error":"#DIV/0!"}},{"$nulls":4},{"$f":"SUM(E4*A4)","v":{"$error":"#DIV/0!"}},null,null,null,{"$f":"I4/$I$2","v":{"$error":"#DIV/0!"}},null,"Kg",0.25]
[{"$f":"ROUND(SUM(J5*$F$2),2)","v":{"$error":"#DIV/0!"}},{"$nulls":4},{"$f":"SUM(E5*A5)","v":{"$error":"#DIV/0!"}},null,null,null,{"$error":"#DIV/0!"},null,"Lt",1.25]
[{"$f":"ROUND(SUM(J6*$F$2),2)","v":{"$error":"#DIV/0!"}},{"$nulls":4},{"$error":"#DIV/0!"},null,null,null,{"$error":"#DIV/0!"},null,"EL","Esslöffel"]
[{"$error":"#DIV/0!"},{"$nulls":4},{"$error":"#DIV/0!"},null,null,null,{"$error":"#DIV/0!"},null,"KL","Kaffeelöffel"]
[{"$error":"#DIV/0!"},{"$nulls":4},{"$error":"#DIV/0!"},null,null,null,{"$error":"#DIV/0!"},null,"Bund",1]
[{"$error":"#DIV/0!"},{"$nulls":4},{"$error":"#DIV/0!"},null,null,null,{"$error":"#DIV/0!"},null,"Stk","Stück"]
[{"$error":"#DIV/0!"},{"$nulls":4},{"$error":"#DIV/0!"},null,null,null,{"$error":"#DIV/0!"},null,"Pä","Päckli"]
[{"$error":"#DIV/0!"},{"$nulls":4},{"$error":"#DIV/0!"},null,null,null,{"$error":"#DIV/0!"},null,"alles weitere ausschreiben"]
[{"$error":"#DIV/0!"},{"$nulls":4},{"$error":"#DIV/0!"},null,null,null,{"$error":"#DIV/0!"}]
[{"$error":"#DIV/0!"},{"$nulls":4},{"$error":"#DIV/0!"},null,null,null,{"$error":"#DIV/0!"}]
[{"$error":"#DIV/0!"},{"$nulls":4},{"$error":"#DIV/0!"},null,null,null,{"$error":"#DIV/0!"}]
[{"$error":"#DIV/0!"},{"$nulls":4},{"$error":"#DIV/0!"},null,null,null,{"$error":"#DIV/0!"}]
[{"$error":"#DIV/0!"},{"$nulls":4},{"$error":"#DIV/0!"},null,null,null,{"$error":"#DIV/0!"}]
[{"$error":"#DIV/0!"},{"$nulls":4},{"$error":"#DIV/0!"},null,null,null,{"$error":"#DIV/0!"}]
[{"$error":"#DIV/0!"},{"$nulls":4},{"$error":"#DIV/0!"},null,null,null,{"$error":"#DIV/0!"}]
[{"$error":"#DIV/0!"},{"$nulls":4},{"$error":"#DIV/0!"},null,null,null,{"$error":"#DIV/0!"}]
[{"$error":"#DIV/0!"},{"$nulls":4},{"$error":"#DIV/0!"},null,null,null,{"$error":"#DIV/0!"}]
["Zubereitung",null,null,"      "]

{"sheet":"Einkaufsliste","index":8,"n_rows":150,"n_cols":5,"rows_kept":150,"cut":false,"hidden":false,"merged":[]}
["Hobby-Küche Zug",null,"Einkaufsliste",{"$f":"Dessert!F1","v":"2023-02-23"},"ok"]
["Menge","Einheit","Artikel"]
[{"$f":"'Vorspeise 1'!A2","v":"Leberknödelsuppe"},null,null,"Bemerkungen"]
[{"$f":"SUM('Vorspeise 1'!A4)","v":0.21},{"$f":"'Vorspeise 1'!B4","v":"kg"},{"$f":"'Vorspeise 1'!C4","v":"Kalbsleber (gewolft)"},{"$f":"'Vorspeise 1'!D4","v":0}]
[{"$f":"SUM('Vorspeise 1'!A5)","v":0.83},{"$f":"'Vorspeise 1'!B5","v":"Stk"},{"$f":"'Vorspeise 1'!C5","v":"Brötchen vom Vortag"},{"$f":"'Vorspeise 1'!D5","v":"in heisser Milch einweichen"}]
[{"$f":"SUM('Vorspeise 1'!A6)","v":0.02},{"$f":"'Vorspeise 1'!B6","v":"kg"},{"$f":"'Vorspeise 1'!C6","v":"Butter"},{"$f":"'Vorspeise 1'!D6","v":0}]
[{"$f":"SUM('Vorspeise 1'!A7)","v":0.83},{"$f":"'Vorspeise 1'!B7","v":"Stk"},{"$f":"'Vorspeise 1'!C7","v":"Zwiebel"},{"$f":"'Vorspeise 1'!D7","v":0}]
[{"$f":"SUM('Vorspeise 1'!A8)","v":0.83},{"$f":"'Vorspeise 1'!B8","v":"Stk"},{"$f":"'Vorspeise 1'!C8","v":"Knoblauchzehen"},{"$f":"'Vorspeise 1'!D8","v":0}]
[{"$f":"SUM('Vorspeise 1'!A9)","v":1.67},{"$f":"'Vorspeise 1'!B9","v":"Stk"},{"$f":"'Vorspeise 1'!C9","v":"Eier"},{"$f":"'Vorspeise 1'!D9","v":0}]
[{"$f":"SUM('Vorspeise 1'!A10)","v":0.42},{"$f":"'Vorspeise 1'!B10","v":"Bund"},{"$f":"'Vorspeise 1'!C10","v":"Petersilie"},{"$f":"'Vorspeise 1'!D10","v":0}]
[{"$f":"SUM('Vorspeise 1'!A11)","v":0},{"$f":"'Vorspeise 1'!B11","v":0},{"$f":"'Vorspeise 1'!C11","v":0},{"$f":"'Vorspeise 1'!D11","v":0}]
[{"$f":"SUM('Vorspeise 1'!A12)","v":0},{"$f":"'Vorspeise 1'!B12","v":0},{"$f":"'Vorspeise 1'!C12","v":"Möhre, Lauch grob geschnitten"},{"$f":"'Vorspeise 1'!D12","v":0}]
[{"$f":"SUM('Vorspeise 1'!A13)","v":0},{"$f":"'Vorspeise 1'!B13","v":0},{"$f":"'Vorspeise 1'!C13","v":0},{"$f":"'Vorspeise 1'!D13","v":0}]
[{"$f":"SUM('Vorspeise 1'!A14)","v":0},{"$f":"'Vorspeise 1'!B14","v":0},{"$f":"'Vorspeise 1'!C14","v":"Salz, Pfeffer, Muskat"},{"$f":"'Vorspeise 1'!D14","v":0}]
[{"$f":"SUM('Vorspeise 1'!A15)","v":0},{"$f":"'Vorspeise 1'!B15","v":0},{"$f":"'Vorspeise 1'!C15","v":"Majoran"},{"$f":"'Vorspeise 1'!D15","v":0}]
[{"$f":"SUM('Vorspeise 1'!A16)","v":0},{"$f":"'Vorspeise 1'!B16","v":0},{"$f":"'Vorspeise 1'!C16","v":"Zitronenschale (Bio)"},{"$f":"'Vorspeise 1'!D16","v":0}]
[{"$f":"SUM('Vorspeise 1'!A17)","v":0},{"$f":"'Vorspeise 1'!B17","v":0},{"$f":"'Vorspeise 1'!C17","v":"Semmelbrösel"},{"$f":"'Vorspeise 1'!D17","v":0}]
[{"$f":"SUM('Vorspeise 1'!A18)","v":1.67},{"$f":"'Vorspeise 1'!B18","v":"Ltr"},{"$f":"'Vorspeise 1'!C18","v":"Fleischbrühe mit Rinderfond"},{"$f":"'Vorspeise 1'!D18","v":0}]
[{"$f":"SUM('Vorspeise 1'!A19)","v":0.83},{"$f":"'Vorspeise 1'!B19","v":"Bund"},{"$f":"'Vorspeise 1'!C19","v":"Schnittlauch"},{"$f":"'Vorspeise 1'!D19","v":0}]
[{"$f":"SUM('Vorspeise 1'!A20)","v":0},{"$f":"'Vorspeise 1'!B20","v":0},{"$f":"'Vorspeise 1'!C20","v":0},{"$f":"'Vorspeise 1'!D20","v":0}]
[{"$f":"'Vorspeise 2'!A2","v":"Blutwurst-Ravioli mit Zwiebelschmelze"},null,null,"Bemerkungen"]
[{"$f":"SUM('Vorspeise 2'!A4)","v":0.15},{"$f":"'Vorspeise 2'!B4","v":"kg"},{"$f":"'Vorspeise 2'!C4","v":"Mehl"},{"$f":"'Vorspeise 2'!D4","v":0}]
[{"$f":"SUM('Vorspeise 2'!A5)","v":0.15},{"$f":"'Vorspeise 2'!B5","v":"kg"},{"$f":"'Vorspeise 2'!C5","v":"Gries"},{"$f":"'Vorspeise 2'!D5","v":0}]
[{"$f":"SUM('Vorspeise 2'!A6)","v":3},{"$f":"'Vorspeise 2'!B6","v":"Stk"},{"$f":"'Vorspeise 2'!C6","v":"Eier"},{"$f":"'Vorspeise 2'!D6","v":0}]
[{"$f":"SUM('Vorspeise 2'!A7)","v":1},{"$f":"'Vorspeise 2'!B7","v":"El"},{"$f":"'Vorspeise 2'!C7","v":"Olivenöl"},{"$f":"'Vorspeise 2'!D7","v":0}]
[{"$f":"SUM('Vorspeise 2'!A8)","v":0.5},{"$f":"'Vorspeise 2'!B8","v":"Tl"},{"$f":"'Vorspeise 2'!C8","v":"Salz"},{"$f":"'Vorspeise 2'!D8","v":0}]
[{"$f":"SUM('Vorspeise 2'!A9)","v":0},{"$f":"'Vorspeise 2'!B9","v":0},{"$f":"'Vorspeise 2'!C9","v":0},{"$f":"'Vorspeise 2'!D9","v":0}]
[{"$f":"SUM('Vorspeise 2'!A10)","v":0.3},{"$f":"'Vorspeise 2'!B10","v":"kg"},{"$f":"'Vorspeise 2'!C10","v":"Blutwurst"},{"$f":"'Vorspeise 2'!D10","v":0}]
[{"$f":"SUM('Vorspeise 2'!A11)","v":2},{"$f":"'Vorspeise 2'!B11","v":"Stk"},{"$f":"'Vorspeise 2'!C11","v":"Schalotten"},{"$f":"'Vorspeise 2'!D11","v":0}]
[{"$f":"SUM('Vorspeise 2'!A12)","v":1},{"$f":"'Vorspeise 2'!B12","v":"Stk"},{"$f":"'Vorspeise 2'!C12","v":"Knoblauchzehen"},{"$f":"'Vorspeise 2'!D12","v":0}]
[{"$f":"SUM('Vorspeise 2'!A13)","v":0},{"$f":"'Vorspeise 2'!B13","v":0},{"$f":"'Vorspeise 2'!C13","v":"Olivenöl"},{"$f":"'Vorspeise 2'!D13","v":0}]
[{"$f":"SUM('Vorspeise 2'!A14)","v":0},{"$f":"'Vorspeise 2'!B14","v":0},{"$f":"'Vorspeise 2'!C14","v":"Majoran, Kümmel, Salz"},{"$f":"'Vorspeise 2'!D14","v":0}]
[{"$f":"SUM('Vorspeise 2'!A15)","v":0.02},{"$f":"'Vorspeise 2'!B15","v":"kg"},{"$f":"'Vorspeise 2'!C15","v":"Butter"},{"$f":"'Vorspeise 2'!D15","v":0}]
[{"$f":"SUM('Vorspeise 2'!A16)","v":0},{"$f":"'Vorspeise 2'!B16","v":0},{"$f":"'Vorspeise 2'!C16","v":0},{"$f":"'Vorspeise 2'!D16","v":0}]
[{"$f":"SUM('Vorspeise 2'!A17)","v":3},{"$f":"'Vorspeise 2'!B17","v":"Stk"},{"$f":"'Vorspeise 2'!C17","v":"Zwiebeln"},{"$f":"'Vorspeise 2'!D17","v":"nach belieben"}]
[{"$f":"SUM('Vorspeise 2'!A18)","v":0.08},{"$f":"'Vorspeise 2'!B18","v":"Ltr"},{"$f":"'Vorspeise 2'!C18","v":"Kalbsfond"},{"$f":"'Vorspeise 2'!D18","v":0}]
[{"$f":"SUM('Vorspeise 2'!A19)","v":0},{"$f":"'Vorspeise 2'!B19","v":0},{"$f":"'Vorspeise 2'!C19","v":"Majoran"},{"$f":"'Vorspeise 2'!D19","v":0}]
[{"$f":"SUM('Vorspeise 2'!A20)","v":0},{"$f":"'Vorspeise 2'!B20","v":0},{"$f":"'Vorspeise 2'!C20","v":"weisser Pfeffer"},{"$f":"'Vorspeise 2'!D20","v":0}]
[{"$f":"Hauptgang!A2","v":"Flank Steak"},null,null,"Bemerkungen"]
[{"$f":"SUM(Hauptgang!A4)","v":0.7},{"$f":"Hauptgang!B4","v":"kg"},{"$f":"Hauptgang!C4","v":"Flank Steak"},{"$f":"Hauptgang!D4","v":"pro Person hier ca.150gr."}]
[{"$f":"SUM(Hauptgang!A5)","v":0},{"$f":"Hauptgang!B5","v":0},{"$f":"Hauptgang!C5","v":0},{"$f":"Hauptgang!D5","v":0}]
[{"$f":"SUM(Hauptgang!A6)","v":4},{"$f":"Hauptgang!B6","v":"EL"},{"$f":"Hauptgang!C6","v":"Senf"},{"$f":"Hauptgang!D6","v":0}]
[{"$f":"SUM(Hauptgang!A7)","v":2},{"$f":"Hauptgang!B7","v":"Stk"},{"$f":"Hauptgang!C7","v":"Knoblauchzehen"},{"$f":"Hauptgang!D7","v":0}]
[{"$f":"SUM(Hauptgang!A8)","v":1},{"$f":"Hauptgang!B8","v":"EL"},{"$f":"Hauptgang!C8","v":"Rosmarin, fein gehackt"},{"$f":"Hauptgang!D8","v":0}]
[{"$f":"SUM(Hauptgang!A9)","v":0},{"$f":"Hauptgang!B9","v":0},{"$f":"Hauptgang!C9","v":"Salz, Pfeffer"},{"$f":"Hauptgang!D9","v":0}]
[{"$f":"SUM(Hauptgang!A10)","v":0.1},{"$f":"Hauptgang!B10","v":0},{"$f":"Hauptgang!C10","v":"Rapsöl"},{"$f":"Hauptgang!D10","v":0}]
[{"$f":"SUM(Hauptgang!A11)","v":0},{"$f":"Hauptgang!B11","v":0},{"$f":"Hauptgang!C11","v":0},{"$f":"Hauptgang!D11","v":0}]
[{"$f":"SUM(Hauptgang!A12)","v":0},{"$f":"Hauptgang!B12","v":0},{"$f":"Hauptgang!C12","v":0},{"$f":"Hauptgang!D12","v":0}]
[{"$f":"SUM(Hauptgang!A13)","v":0},{"$f":"Hauptgang!B13","v":0},{"$f":"Hauptgang!C13","v":0},{"$f":"Hauptgang!D13","v":0}]
[{"$f":"SUM(Hauptgang!A14)","v":0},{"$f":"Hauptgang!B14","v":0},{"$f":"Hauptgang!C14","v":0},{"$f":"Hauptgang!D14","v":0}]
[{"$f":"SUM(Hauptgang!A15)","v":0},{"$f":"Hauptgang!B15","v":0},{"$f":"Hauptgang!C15","v":0},{"$f":"Hauptgang!D15","v":0}]
[{"$f":"SUM(Hauptgang!A16)","v":0},{"$f":"Hauptgang!B16","v":0},{"$f":"Hauptgang!C16","v":0},{"$f":"Hauptgang!D16","v":0}]
[{"$f":"SUM(Hauptgang!A17)","v":0},{"$f":"Hauptgang!B17","v":0},{"$f":"Hauptgang!C17","v":0},{"$f":"Hauptgang!D17","v":0}]
[{"$f":"SUM(Hauptgang!A18)","v":0},{"$f":"Hauptgang!B18","v":0},{"$f":"Hauptgang!C18","v":0},{"$f":"Hauptgang!D18","v":0}]
[{"$f":"SUM(Hauptgang!A19)","v":0},{"$f":"Hauptgang!B19","v":0},{"$f":"Hauptgang!C19","v":0},{"$f":"Hauptgang!D19","v":0}]
[{"$f":"SUM(Hauptgang!A20)","v":0},{"$f":"Hauptgang!B20","v":0},{"$f":"Hauptgang!C20","v":0},{"$f":"Hauptgang!D20","v":0}]
[{"$f":"Beilage1!A2","v":0},null,null,"Bemerkungen"]
[{"$f":"Beilage1!A4","v":0},{"$f":"Beilage1!B4","v":0},{"$f":"Beilage1!C4","v":0},{"$f":"Beilage1!D4","v":0}]
[{"$f":"Beilage1!A5","v":0},{"$f":"Beilage1!B5","v":0},{"$f":"Beilage1!C5","v":0},{"$f":"Beilage1!D5","v":0}]
[{"$f":"Beilage1!A6","v":0},{"$f":"Beilage1!B6","v":0},{"$f":"Beilage1!C6","v":0},{"$f":"Beilage1!D6","v":0}]
[{"$f":"Beilage1!A7","v":0},{"$f":"Beilage1!B7","v":0},{"$f":"Beilage1!C7","v":0},{"$f":"Beilage1!D7","v":0}]
[{"$f":"Beilage1!A8","v":0},{"$f":"Beilage1!B8","v":0},{"$f":"Beilage1!C8","v":0},{"$f":"Beilage1!D8","v":0}]
[{"$f":"Beilage1!A9","v":0},{"$f":"Beilage1!B9","v":0},{"$f":"Beilage1!C9","v":0},{"$f":"Beilage1!D9","v":0}]
[{"$f":"Beilage1!A10","v":0},{"$f":"Beilage1!B10","v":0},{"$f":"Beilage1!C10","v":0},{"$f":"Beilage1!D10","v":0}]
[{"$f":"Beilage1!A11","v":0},{"$f":"Beilage1!B11","v":0},{"$f":"Beilage1!C11","v":0},{"$f":"Beilage1!D11","v":0}]
[{"$f":"Beilage1!A12","v":0},{"$f":"Beilage1!B12","v":0},{"$f":"Beilage1!C12","v":0},{"$f":"Beilage1!D12","v":0}]
[{"$f":"Beilage1!A13","v":0},{"$f":"Beilage1!B13","v":0},{"$f":"Beilage1!C13","v":0},{"$f":"Beilage1!D13","v":0}]
[{"$f":"Beilage1!A14","v":0},{"$f":"Beilage1!B14","v":0},{"$f":"Beilage1!C14","v":0},{"$f":"Beilage1!D14","v":0}]
[{"$f":"Beilage1!A15","v":0},{"$f":"Beilage1!B15","v":0},{"$f":"Beilage1!C15","v":0},{"$f":"Beilage1!D15","v":0}]
[{"$f":"Beilage1!A16","v":0},{"$f":"Beilage1!B16","v":0},{"$f":"Beilage1!C16","v":0},{"$f":"Beilage1!D16","v":0}]
[{"$f":"Beilage1!A17","v":0},{"$f":"Beilage1!B17","v":0},{"$f":"Beilage1!C17","v":0},{"$f":"Beilage1!D17","v":0}]
[{"$f":"Beilage1!A18","v":0},{"$f":"Beilage1!B18","v":0},{"$f":"Beilage1!C18","v":0},{"$f":"Beilage1!D18","v":0}]
[{"$f":"Beilage1!A19","v":0},{"$f":"Beilage1!B19","v":0},{"$f":"Beilage1!C19","v":0},{"$f":"Beilage1!D19","v":0}]
[{"$f":"Beilage1!A20","v":0},{"$f":"Beilage1!B20","v":0},{"$f":"Beilage1!C20","v":0},{"$f":"Beilage1!D20","v":0}]
[{"$f":"Beilage2!A2","v":"Ofengemüse"}]
[{"$f":"SUM(Beilage2!A4)","v":2},{"$f":"Beilage2!B4","v":"Stk"},{"$f":"Beilage2!C4","v":"grosse Rüebli"},{"$f":"Beilage2!D4","v":0}]
[{"$f":"SUM(Beilage2!A5)","v":1},{"$f":"Beilage2!B5","v":"Stk"},{"$f":"Beilage2!C5","v":"mittelgrosse Zucchetti"},{"$f":"Beilage2!D5","v":0}]
[{"$f":"SUM(Beilage2!A6)","v":1},{"$f":"Beilage2!B6","v":"Stk"},{"$f":"Beilage2!C6","v":"kleiner Blumenkohl"},{"$f":"Beilage2!D6","v":0}]
[{"$f":"SUM(Beilage2!A7)","v":1},{"$f":"Beilage2!B7","v":"Stk"},{"$f":"Beilage2!C7","v":"Peperoni"},{"$f":"Beilage2!D7","v":0}]
[{"$f":"SUM(Beilage2!A8)","v":2},{"$f":"Beilage2!B8","v":"Stk"},{"$f":"Beilage2!C8","v":"mittelgrosse Zwiebeln"},{"$f":"Beilage2!D8","v":0}]
[{"$f":"SUM(Beilage2!A9)","v":4},{"$f":"Beilage2!B9","v":"Stk"},{"$f":"Beilage2!C9","v":"festkochende Kartoffeln"},{"$f":"Beilage2!D9","v":0}]
[{"$f":"SUM(Beilage2!A10)","v":2},{"$f":"Beilage2!B10","v":"Stk"},{"$f":"Beilage2!C10","v":"Knoblauchzehen"},{"$f":"Beilage2!D10","v":0}]
[{"$f":"SUM(Beilage2!A11)","v":0},{"$f":"Beilage2!B11","v":0},{"$f":"Beilage2!C11","v":0},{"$f":"Beilage2!D11","v":0}]
[{"$f":"SUM(Beilage2!A12)","v":0},{"$f":"Beilage2!B12","v":0},{"$f":"Beilage2!C12","v":0},{"$f":"Beilage2!D12","v":0}]
[{"$f":"SUM(Beilage2!A13)","v":0},{"$f":"Beilage2!B13","v":0},{"$f":"Beilage2!C13","v":0},{"$f":"Beilage2!D13","v":0}]
[{"$f":"SUM(Beilage2!A14)","v":0},{"$f":"Beilage2!B14","v":0},{"$f":"Beilage2!C14","v":0},{"$f":"Beilage2!D14","v":0}]
[{"$f":"SUM(Beilage2!A15)","v":0},{"$f":"Beilage2!B15","v":0},{"$f":"Beilage2!C15","v":0},{"$f":"Beilage2!D15","v":0}]
[{"$f":"SUM(Beilage2!A16)","v":0},{"$f":"Beilage2!B16","v":0},{"$f":"Beilage2!C16","v":0},{"$f":"Beilage2!D16","v":0}]
[{"$f":"SUM(Beilage2!A17)","v":0},{"$f":"Beilage2!B17","v":0},{"$f":"Beilage2!C17","v":0},{"$f":"Beilage2!D17","v":0}]
[{"$f":"SUM(Beilage2!A18)","v":0},{"$f":"Beilage2!B18","v":0},{"$f":"Beilage2!C18","v":0},{"$f":"Beilage2!D18","v":0}]
[{"$f":"SUM(Beilage2!A19)","v":0},{"$f":"Beilage2!B19","v":0},{"$f":"Beilage2!C19","v":0},{"$f":"Beilage2!D19","v":0}]
[{"$f":"SUM(Beilage2!A20)","v":0},{"$f":"Beilage2!B20","v":0},{"$f":"Beilage2!C20","v":0},{"$f":"Beilage2!D20","v":0}]
[{"$f":"Dessert!A2","v":"Quarkkeulchen"},null,null,"Bemerkungen"]
[{"$f":"SUM(Dessert!A4)","v":0.25},{"$f":"Dessert!B4","v":"kg"},{"$f":"Dessert!C4","v":"Kartoffeln"},{"$f":"Dessert!D4","v":0}]
[{"$f":"SUM(Dessert!A5)","v":0.19},{"$f":"Dessert!B5","v":"kg"},{"$f":"Dessert!C5","v":"Magerquark"},{"$f":"Dessert!D5","v":"nach Belieben auch mehr"}]
[{"$f":"SUM(Dessert!A6)","v":0.08},{"$f":"Dessert!B6","v":"kg"},{"$f":"Dessert!C6","v":"Weizenmehl"},{"$f":"Dessert!D6","v":0}]
[{"$f":"SUM(Dessert!A7)","v":0.03},{"$f":"Dessert!B7","v":"kg"},{"$f":"Dessert!C7","v":"Zucker (wahlweise Zuckerfrei)"},{"$f":"Dessert!D7","v":0}]
[{"$f":"SUM(Dessert!A8)","v":1},{"$f":"Dessert!B8","v":"Stk"},{"$f":"Dessert!C8","v":"Eier (klein)"},{"$f":"Dessert!D8","v":"eher nur ein Ei"}]
[{"$f":"SUM(Dessert!A9)","v":0.13},{"$f":"Dessert!B9","v":"TL"},{"$f":"Dessert!C9","v":"Salz"},{"$f":"Dessert!D9","v":0}]
[{"$f":"SUM(Dessert!A10)","v":0},{"$f":"Dessert!B10","v":0},{"$f":"Dessert!C10","v":"geriebene Zitronenschale"},{"$f":"Dessert!D10","v":0}]
[{"$f":"SUM(Dessert!A11)","v":0},{"$f":"Dessert!B11","v":0},{"$f":"Dessert!C11","v":"Rosinen (nach belieben)"},{"$f":"Dessert!D11","v":0}]
[{"$f":"SUM(Dessert!A12)","v":0},{"$f":"Dessert!B12","v":0},{"$f":"Dessert!C12","v":" "},{"$f":"Dessert!D12","v":0}]
[{"$f":"SUM(Dessert!A13)","v":0},{"$f":"Dessert!B13","v":0},{"$f":"Dessert!C13","v":0},{"$f":"Dessert!D13","v":0}]
[{"$f":"SUM(Dessert!A14)","v":0},{"$f":"Dessert!B14","v":0},{"$f":"Dessert!C14","v":0},{"$f":"Dessert!D14","v":0}]
[{"$f":"SUM(Dessert!A15)","v":0},{"$f":"Dessert!B15","v":0},{"$f":"Dessert!C15","v":0},{"$f":"Dessert!D15","v":0}]
[{"$f":"SUM(Dessert!A16)","v":0},{"$f":"Dessert!B16","v":0},{"$f":"Dessert!C16","v":0},{"$f":"Dessert!D16","v":0}]
[{"$f":"SUM(Dessert!A17)","v":0},{"$f":"Dessert!B17","v":0},{"$f":"Dessert!C17","v":0},{"$f":"Dessert!D17","v":0}]
[{"$f":"SUM(Dessert!A18)","v":0},{"$f":"Dessert!B18","v":0},{"$f":"Dessert!C18","v":0},{"$f":"Dessert!D18","v":0}]
[{"$f":"SUM(Dessert!A19)","v":0},{"$f":"Dessert!B19","v":0},{"$f":"Dessert!C19","v":0},{"$f":"Dessert!D19","v":0}]
[{"$f":"SUM(Dessert!A20)","v":0},{"$f":"Dessert!B20","v":0},{"$f":"Dessert!C20","v":0},{"$f":"Dessert!D20","v":0}]
[]
[" "]
[{"$f":"SUM(Diverses!A4)","v":{"$error":"#DIV/0!"}},{"$f":"Diverses!B4","v":0},{"$f":"Diverses!C4","v":0},{"$f":"Diverses!D4","v":0}]
[{"$f":"SUM(Diverses!A5)","v":{"$error":"#DIV/0!"}},{"$f":"Diverses!B5","v":0},{"$f":"Diverses!C5","v":0},{"$f":"Diverses!D5","v":0}]
[{"$f":"SUM(Diverses!A6)","v":{"$error":"#DIV/0!"}},{"$f":"Diverses!B6","v":0},{"$f":"Diverses!C6","v":0},{"$f":"Diverses!D6","v":0}]
[{"$f":"SUM(Diverses!A7)","v":{"$error":"#DIV/0!"}},{"$f":"Diverses!B7","v":0},{"$f":"Diverses!C7","v":0},{"$f":"Diverses!D7","v":0}]
[{"$f":"SUM(Diverses!A8)","v":{"$error":"#DIV/0!"}},{"$f":"Diverses!B8","v":0},{"$f":"Diverses!C8","v":0},{"$f":"Diverses!D8","v":0}]
[{"$f":"SUM(Diverses!A9)","v":{"$error":"#DIV/0!"}},{"$f":"Diverses!B9","v":0},{"$f":"Diverses!C9","v":0},{"$f":"Diverses!D9","v":0}]
[{"$f":"SUM(Diverses!A10)","v":{"$error":"#DIV/0!"}},{"$f":"Diverses!B10","v":0},{"$f":"Diverses!C10","v":0},{"$f":"Diverses!D10","v":0}]
[{"$f":"SUM(Diverses!A11)","v":{"$error":"#DIV/0!"}},{"$f":"Diverses!B11","v":0},{"$f":"Diverses!C11","v":0},{"$f":"Diverses!D11","v":0}]
[{"$f":"SUM(Diverses!A12)","v":{"$error":"#DIV/0!"}},{"$f":"Diverses!B12","v":0},{"$f":"Diverses!C12","v":0},{"$f":"Diverses!D12","v":0}]
[{"$f":"SUM(Diverses!A13)","v":{"$error":"#DIV/0!"}},{"$f":"Diverses!B13","v":0},{"$f":"Diverses!C13","v":0},{"$f":"Diverses!D13","v":0}]
[{"$f":"SUM(Diverses!A14)","v":{"$error":"#DIV/0!"}},{"$f":"Diverses!B14","v":0},{"$f":"Diverses!C14","v":0},{"$f":"Diverses!D14","v":0}]
[{"$f":"SUM(Diverses!A15)","v":{"$error":"#DIV/0!"}},{"$f":"Diverses!B15","v":0},{"$f":"Diverses!C15","v":0},{"$f":"Diverses!D15","v":0}]
[{"$f":"SUM(Diverses!A16)","v":{"$error":"#DIV/0!"}},{"$f":"Diverses!B16","v":0},{"$f":"Diverses!C16","v":0},{"$f":"Diverses!D16","v":0}]
[{"$f":"SUM(Diverses!A17)","v":{"$error":"#DIV/0!"}},{"$f":"Diverses!B17","v":0},{"$f":"Diverses!C17","v":0},{"$f":"Diverses!D17","v":0}]
[{"$f":"SUM(Diverses!A18)","v":{"$error":"#DIV/0!"}},{"$f":"Diverses!B18","v":0},{"$f":"Diverses!C18","v":0},{"$f":"Diverses!D18","v":0}]
[{"$f":"SUM(Diverses!A19)","v":{"$error":"#DIV/0!"}},{"$f":"Diverses!B19","v":0},{"$f":"Diverses!C19","v":0},{"$f":"Diverses!D19","v":0}]
[{"$f":"SUM(Diverses!A20)","v":{"$error":"#DIV/0!"}},{"$f":"Diverses!B20","v":0},{"$f":"Diverses!C20","v":0},{"$f":"Diverses!D20","v":0}]
[{"$f":"SUM(Dessert!A22)","v":0},{"$f":"Dessert!B24","v":0},{"$f":"Dessert!C24","v":0}]
[{"$f":"SUM(Dessert!A23)","v":0},{"$f":"Dessert!B25","v":0},{"$f":"Dessert!C25","v":0}]
[{"$f":"SUM(Dessert!A26)","v":0},{"$f":"Dessert!B26","v":0},{"$f":"Dessert!C26","v":0}]
{"$rows_empty":12}
[{"$f":"SUM(Dessert!A27)","v":0},{"$f":"Dessert!B27","v":0},{"$f":"Dessert!C27","v":0}]
[{"$f":"SUM(Dessert!A28)","v":0},{"$f":"Dessert!B28","v":0},{"$f":"Dessert!C28","v":0}]
[{"$f":"SUM(Dessert!A29)","v":0},{"$f":"Dessert!B29","v":0},{"$f":"Dessert!C29","v":0}]
[{"$f":"SUM(Dessert!A30)","v":0},{"$f":"Dessert!B30","v":0},{"$f":"Dessert!C30","v":0}]
[{"$f":"SUM(Dessert!A31)","v":0},{"$f":"Dessert!B31","v":0},{"$f":"Dessert!C31","v":0}]
[{"$f":"SUM(Dessert!A32)","v":0},{"$f":"Dessert!B32","v":0},{"$f":"Dessert!C32","v":0}]